BEGIN:VCALENDAR
VERSION:2.0
PRODID:-//Explore Apex - ECPv6.15.20//NONSGML v1.0//EN
CALSCALE:GREGORIAN
METHOD:PUBLISH
X-ORIGINAL-URL:https://exploreapexnc.com
X-WR-CALDESC:Events for Explore Apex
REFRESH-INTERVAL;VALUE=DURATION:PT1H
X-Robots-Tag:noindex
X-PUBLISHED-TTL:PT1H
BEGIN:VTIMEZONE
TZID:UTC
BEGIN:STANDARD
TZOFFSETFROM:+0000
TZOFFSETTO:+0000
TZNAME:UTC
DTSTART:20230101T000000
END:STANDARD
END:VTIMEZONE
BEGIN:VEVENT
DTSTART;TZID=UTC:20241006T110000
DTEND;TZID=UTC:20241006T160000
DTSTAMP:20260424T221234
CREATED:20240917T201430Z
LAST-MODIFIED:20240917T201430Z
UID:10000026-1728212400-1728230400@exploreapexnc.com
SUMMARY:Apex "Love Local" Showcase
DESCRIPTION:Join Apex Economic Development as we “Love Local” Apex businesses and they “Showcase” why Apex is the “Peak of Good Business!”\nAt the Apex Love Local Showcase attendees will be able to shop\, sample\, stroll and experience Apex businesses all in one destination!\nFor more information\, visit: www.apexnc.org/Love-Local-Showcase
URL:https://exploreapexnc.com/event-single-post-name/apex-love-local-showcase/
LOCATION:Downtown Apex\, 220 N Salem Street\, Apex\, NC\, 27502\, United States
ATTACH;FMTTYPE=image/png:https://exploreapexnc.com/wp-content/uploads/2024/09/Social-media-graphic-for-businesses.png
ORGANIZER;CN="Apex Economic Development":MAILTO:Colleen.Merays@apexnc.org
END:VEVENT
END:VCALENDAR