BEGIN:VCALENDAR
VERSION:2.0
PRODID:-//Explore Apex - ECPv6.15.20//NONSGML v1.0//EN
CALSCALE:GREGORIAN
METHOD:PUBLISH
X-ORIGINAL-URL:https://exploreapexnc.com
X-WR-CALDESC:Events for Explore Apex
REFRESH-INTERVAL;VALUE=DURATION:PT1H
X-Robots-Tag:noindex
X-PUBLISHED-TTL:PT1H
BEGIN:VTIMEZONE
TZID:UTC
BEGIN:STANDARD
TZOFFSETFROM:+0000
TZOFFSETTO:+0000
TZNAME:UTC
DTSTART:20230101T000000
END:STANDARD
END:VTIMEZONE
BEGIN:VEVENT
DTSTART;TZID=UTC:20241014T080000
DTEND;TZID=UTC:20241014T170000
DTSTAMP:20260424T221234
CREATED:20240618T153358Z
LAST-MODIFIED:20240618T153655Z
UID:10000013-1728892800-1728925200@exploreapexnc.com
SUMMARY:Indigenous Peoples' Day
DESCRIPTION:This is a Town-Organized event. \nIndigenous Peoples’ Day is a holiday that honors and celebrates the histories and cultures of indigenous peoples in the United States. It is celebrated on the second Monday of October. \nCheck back for more information on this event.
URL:https://exploreapexnc.com/event-single-post-name/indigenous-peoples-day/
LOCATION:NC
ATTACH;FMTTYPE=image/jpeg:https://exploreapexnc.com/wp-content/uploads/2024/06/2023-Indigenous-Peoples-Day-80-scaled.jpg
END:VEVENT
END:VCALENDAR