BEGIN:VCALENDAR
VERSION:2.0
PRODID:-//Explore Apex - ECPv6.15.20//NONSGML v1.0//EN
CALSCALE:GREGORIAN
METHOD:PUBLISH
X-ORIGINAL-URL:https://exploreapexnc.com
X-WR-CALDESC:Events for Explore Apex
REFRESH-INTERVAL;VALUE=DURATION:PT1H
X-Robots-Tag:noindex
X-PUBLISHED-TTL:PT1H
BEGIN:VTIMEZONE
TZID:UTC
BEGIN:STANDARD
TZOFFSETFROM:+0000
TZOFFSETTO:+0000
TZNAME:UTC
DTSTART:20230101T000000
END:STANDARD
END:VTIMEZONE
BEGIN:VEVENT
DTSTART;VALUE=DATE:20241130
DTEND;VALUE=DATE:20241201
DTSTAMP:20260424T192029
CREATED:20241016T201923Z
LAST-MODIFIED:20241016T201923Z
UID:10000031-1732924800-1733011199@exploreapexnc.com
SUMMARY:Apex Small Business Saturday
DESCRIPTION:Small Business Saturday will be held on Saturday\, November 30\, 2024 in Apex and across the country. \nApex Economic Development encourages local businesses to create in-store specials\, contests\, discounts and events on Small Business Saturday (Nov. 30)\, all aimed at boosting local excitement for the day. The goal is to bring customers into the Town of Apex for a full day of shopping\, dining and exploring.
URL:https://exploreapexnc.com/event-single-post-name/apex-small-business-saturday/
LOCATION:Salem Middle School Track\, 6150 Old Jenks Road\, Apex\, NC\, 27523\, United States
ATTACH;FMTTYPE=image/png:https://exploreapexnc.com/wp-content/uploads/2024/10/fb-post-3.png
END:VEVENT
END:VCALENDAR