BEGIN:VCALENDAR
VERSION:2.0
PRODID:-//Explore Apex - ECPv6.15.20//NONSGML v1.0//EN
CALSCALE:GREGORIAN
METHOD:PUBLISH
X-WR-CALNAME:Explore Apex
X-ORIGINAL-URL:https://exploreapexnc.com
X-WR-CALDESC:Events for Explore Apex
REFRESH-INTERVAL;VALUE=DURATION:PT1H
X-Robots-Tag:noindex
X-PUBLISHED-TTL:PT1H
BEGIN:VTIMEZONE
TZID:UTC
BEGIN:STANDARD
TZOFFSETFROM:+0000
TZOFFSETTO:+0000
TZNAME:UTC
DTSTART:20240101T000000
END:STANDARD
END:VTIMEZONE
BEGIN:VEVENT
DTSTART;VALUE=DATE:20250113
DTEND;VALUE=DATE:20250308
DTSTAMP:20260424T170319
CREATED:20250225T211856Z
LAST-MODIFIED:20250225T211856Z
UID:10000107-1736726400-1741391999@exploreapexnc.com
SUMMARY:2025 Think Apex Awards Nominations
DESCRIPTION:Nominate a business\, an individual/group\, a non-profit organization\, or youth member that has positively impacted the Town of Apex through selfless acts or made contributions to the community at large in 2024.\nNomination Requirements:\nIndividual\, group\, or youth nominees must live in Apex AND/OR the act of service must directly impact the Apex community.\nBusiness and non-profit organizations must be located in Apex.\nAge of youth category is Kindergarten through Senior year of High School\nPast recipients of the Top Thinker Award ARE NOT eligible to be nominated again (see list on website).\nPast recipients of the Honorable Mention ARE eligible to be nominated again (see list on website).\nThe selfless acts or community contributions occurred in calendar year 2024. \nNote: This is NOT an award based on “customer service” or any other aspect of an individual’s profession.\nTo provide judges with a thorough summary of the nominee\, please fill out the entire form with as much detail as possible.\nHint: Providing highly descriptive nomination details will increase the nominee’s consideration by the judges.
URL:https://exploreapexnc.com/event-single-post-name/2025-think-apex-awards-nominations/
LOCATION:NC
ATTACH;FMTTYPE=image/png:https://exploreapexnc.com/wp-content/uploads/2025/02/2025-Nominations-Open-.png
END:VEVENT
BEGIN:VEVENT
DTSTART;TZID=UTC:20250212T120000
DTEND;TZID=UTC:20250212T130000
DTSTAMP:20260424T170319
CREATED:20250207T195302Z
LAST-MODIFIED:20250207T201334Z
UID:10000088-1739361600-1739365200@exploreapexnc.com
SUMMARY:Learning Lunch Series: Chinese New Year
DESCRIPTION:Learning Lunch Series \nMonthly\nFriendship Room\, Apex Senior Center\, 63 Hunter Street\n12 pm – 1 pm \nBring your lunch and we’ll bring the knowledge! The Learning Lunch series features a deep dive into various cultural events highlighted throughout the year. Each month\, a new topic will be discussed by attendees and an expert on the subject. \nNo registration required!
URL:https://exploreapexnc.com/event-single-post-name/learning-lunch-series-chinese-new-year/
LOCATION:Apex Senior Center\, 63 Hunter Street\, Apex\, NC\, 27502\, United States
END:VEVENT
END:VCALENDAR