BEGIN:VCALENDAR
VERSION:2.0
PRODID:-//Explore Apex - ECPv6.15.20//NONSGML v1.0//EN
CALSCALE:GREGORIAN
METHOD:PUBLISH
X-ORIGINAL-URL:https://exploreapexnc.com
X-WR-CALDESC:Events for Explore Apex
REFRESH-INTERVAL;VALUE=DURATION:PT1H
X-Robots-Tag:noindex
X-PUBLISHED-TTL:PT1H
BEGIN:VTIMEZONE
TZID:UTC
BEGIN:STANDARD
TZOFFSETFROM:+0000
TZOFFSETTO:+0000
TZNAME:UTC
DTSTART:20240101T000000
END:STANDARD
END:VTIMEZONE
BEGIN:VEVENT
DTSTART;TZID=UTC:20250406T120000
DTEND;TZID=UTC:20250406T170000
DTSTAMP:20260424T122934
CREATED:20250310T125105Z
LAST-MODIFIED:20250310T125105Z
UID:10000121-1743940800-1743958800@exploreapexnc.com
SUMMARY:Geek and Grub Market (Fantasy Edition)
DESCRIPTION:Dress in your fave Fantasy inspired garb and come join us at our first ever event at Optimist Farm in Apex for a FREE day filled with Renn Fest fun ft The Festival of Legends\, The Sword Conservatory\, Inc..\, Piedmont Wildlife Center and The Variant\, 50+ Geektastic Vendors and Hilarious Activities. Get your free tickets at GeekandGrubMarket.com!
URL:https://exploreapexnc.com/event-single-post-name/geek-and-grub-market-fantasy-edition/
LOCATION:The Optimist Farm\, 2908 Optimist Farm Rd\, Apex\, N\, 27539\, United States
ATTACH;FMTTYPE=image/jpeg:https://exploreapexnc.com/wp-content/uploads/2025/03/474845358_913682837596413_724205003570716595_n.jpg
ORGANIZER;CN="Geek and Grub Market":MAILTO:erin@geekandgrubmarket.com
END:VEVENT
END:VCALENDAR