BEGIN:VCALENDAR
VERSION:2.0
PRODID:-//Explore Apex - ECPv6.15.20//NONSGML v1.0//EN
CALSCALE:GREGORIAN
METHOD:PUBLISH
X-WR-CALNAME:Explore Apex
X-ORIGINAL-URL:https://exploreapexnc.com
X-WR-CALDESC:Events for Explore Apex
REFRESH-INTERVAL;VALUE=DURATION:PT1H
X-Robots-Tag:noindex
X-PUBLISHED-TTL:PT1H
BEGIN:VTIMEZONE
TZID:UTC
BEGIN:STANDARD
TZOFFSETFROM:+0000
TZOFFSETTO:+0000
TZNAME:UTC
DTSTART:20240101T000000
END:STANDARD
END:VTIMEZONE
BEGIN:VEVENT
DTSTART;TZID=UTC:20250426T190000
DTEND;TZID=UTC:20250427T020000
DTSTAMP:20260424T122922
CREATED:20250417T123739Z
LAST-MODIFIED:20250417T123739Z
UID:10000172-1745694000-1745719200@exploreapexnc.com
SUMMARY:RETRO- Back to the 80’s
DESCRIPTION:RETRO BACK TO THE 80’s!\nWe’re throwing it way back at The Backyard Bar with an epic Live Music Night you won’t want to miss!\nSaturday\, April 26 | 8 PM till 2 AM\nKick off the night with the legendary M80’s\, a high-energy 80’s tribute band bringing all your favorite throwback hits to life!\nThen stick around as we turn up the volume with a DJ dance party indoors until 2 AM\, spinning beats everyone will love! \nFood trucks on-site to keep you fueled\, drinks flowing all night\, and nothing but good vibes. \nCome dressed to impress in your best retro fit!\nLet’s make it a night to remember!
URL:https://exploreapexnc.com/event-single-post-name/retro-back-to-the-80s/
LOCATION:The Backyard Bar\, 2901 US-64\, Apex\, N\, 27523\, United States
ATTACH;FMTTYPE=image/jpeg:https://exploreapexnc.com/wp-content/uploads/2025/04/f415d8fd-46ea-4c2b-9fd1-74d1d464f38a.jpeg
ORGANIZER;CN="The Backyard Bar":MAILTO:Contact@thebackyardbarnc.com
END:VEVENT
END:VCALENDAR