BEGIN:VCALENDAR
VERSION:2.0
PRODID:-//Explore Apex - ECPv6.15.20//NONSGML v1.0//EN
CALSCALE:GREGORIAN
METHOD:PUBLISH
X-ORIGINAL-URL:https://exploreapexnc.com
X-WR-CALDESC:Events for Explore Apex
REFRESH-INTERVAL;VALUE=DURATION:PT1H
X-Robots-Tag:noindex
X-PUBLISHED-TTL:PT1H
BEGIN:VTIMEZONE
TZID:UTC
BEGIN:STANDARD
TZOFFSETFROM:+0000
TZOFFSETTO:+0000
TZNAME:UTC
DTSTART:20240101T000000
END:STANDARD
END:VTIMEZONE
BEGIN:VEVENT
DTSTART;TZID=UTC:20250510T160000
DTEND;TZID=UTC:20250510T210000
DTSTAMP:20260424T105735
CREATED:20250415T122822Z
LAST-MODIFIED:20250415T122919Z
UID:10000169-1746892800-1746910800@exploreapexnc.com
SUMMARY:Geek and Grub Market (Anime Edition)
DESCRIPTION:Grab Your ODM Gear and Increase Your Power Level to 9000 – our hit Anime Market Returns! \nWhere is this month’s event located? \nThe Optimist Farm is at 2908 Optimist Farm Rd\, Apex\, NC 27539. \nWhere Do I Park? \nThere’s plenty of FREE on-site parking\, just follow the signs! \nAre Food and Drinks Available? \nCheck out our food court area! In the food court you’ll find food trucks\, food vendors and our official Geek & Grub Geek Tavern featuring some special Geek themed non-alcoholic mocktails. \nWhere are the Restrooms? \nThere are two porto potties on site and indoor\, handicapped accessible bathrooms located in the HQ Building. \nHow Does the Geektastic Giveaway Work? \nThere’s three ways to get a chance to score a chance to win geektastic prizes: \nPurchase from a vendor and as a thank you\, they will gift you a Geektastic Giveaway Ticket. \nGet a Geektastic Giveaway Ticket from the HQ booth. \nComplete the Scavenger Hunt to earn a Geektastic Giveaway Ticket and a spin on our prize wheel! \nTo redeem your tickets\, split your Geektastic Giveaway Tickets in half and keep one for you and put the other ticket into Gambit (the Giant Cat) at HQ for a chance to win fun prizes throughout the day! Please check the schedule for the giveaway times and be present to claim your loot! \nWhat is the Scavenger Hunt? How Do I Participate in it? Our Geek & Grub Scavenger Hunt is a fun family-friendly activity that attendees can enjoy while shopping. Simply walk around the market and look for our eight hidden gambits (hidden in plain sight among vendors)\, once you find them\, snap some pics and return to the HQ Building to spin the prize wheel and redeem your prize! \nWhere Can I Sign Up to be a Vendor at future Geek and Grub Events? You can visit our website to apply for our 2025 Geek & Grub Market Season. \nIs this Event Handicapped Accessible? Yes! There are handicap accessible restrooms on site and a handicapped parking section. \nCan I View the Vendors and Site Map Ahead of Time? \nYes! Visit GeekandGrubMarket.com and view the vendors and site map before the event. \nIs this event dog friendly? \nYes! Leashed\, well-behaved doggies are welcome! Please remember to bring doggy bags to dispose of pet waste.
URL:https://exploreapexnc.com/event-single-post-name/geek-and-grub-market-anime-edition/
LOCATION:The Optimist Farm\, 2908 Optimist Farm Rd\, Apex\, N\, 27539\, United States
ATTACH;FMTTYPE=image/jpeg:https://exploreapexnc.com/wp-content/uploads/2025/04/484872274_950604107237619_4117007808251020475_n.jpg
ORGANIZER;CN="Geek and Grub Market":MAILTO:erin@geekandgrubmarket.com
END:VEVENT
END:VCALENDAR