BEGIN:VCALENDAR
VERSION:2.0
PRODID:-//Explore Apex - ECPv6.15.20//NONSGML v1.0//EN
CALSCALE:GREGORIAN
METHOD:PUBLISH
X-WR-CALNAME:Explore Apex
X-ORIGINAL-URL:https://exploreapexnc.com
X-WR-CALDESC:Events for Explore Apex
REFRESH-INTERVAL;VALUE=DURATION:PT1H
X-Robots-Tag:noindex
X-PUBLISHED-TTL:PT1H
BEGIN:VTIMEZONE
TZID:UTC
BEGIN:STANDARD
TZOFFSETFROM:+0000
TZOFFSETTO:+0000
TZNAME:UTC
DTSTART:20240101T000000
END:STANDARD
END:VTIMEZONE
BEGIN:VEVENT
DTSTART;TZID=UTC:20250531T100000
DTEND;TZID=UTC:20250531T150000
DTSTAMP:20260424T092208
CREATED:20250401T125117Z
LAST-MODIFIED:20250401T125117Z
UID:10000144-1748685600-1748703600@exploreapexnc.com
SUMMARY:A Y2K Market: Shop + DIY Like Its 1999
DESCRIPTION:Step into a full-blown Y2K fever dream at our totally nostalgic handmade event! \nSnap a Polaroid\, chat on our AIM wall\, deck out your gear at the Lisa Frank sticker station\, snack on Ring Pops\, rate your faves at the Hot or Not voting station\, score a mystery grab bag\, and craft your own friendship bracelets & puffy paint tote bags—all while shopping from 25 incredible handmade artists and 7 vintage vendors! \n💿✨🛍️ Grab your butterfly clips and flip phone—we’re bringing the ultimate throwback vibes at this handmade event!\nThe party will be going from 10am-3pm. \nParking is free on the street or at the church across the street.
URL:https://exploreapexnc.com/event-single-post-name/a-y2k-market-shop-diy-like-its-1999/
LOCATION:the studio\, 106 W Chatham St\, Apex\, 27502\, United States
ATTACH;FMTTYPE=image/jpeg:https://exploreapexnc.com/wp-content/uploads/2025/03/2.jpg
END:VEVENT
END:VCALENDAR