BEGIN:VCALENDAR
VERSION:2.0
PRODID:-//Explore Apex - ECPv6.15.20//NONSGML v1.0//EN
CALSCALE:GREGORIAN
METHOD:PUBLISH
X-ORIGINAL-URL:https://exploreapexnc.com
X-WR-CALDESC:Events for Explore Apex
REFRESH-INTERVAL;VALUE=DURATION:PT1H
X-Robots-Tag:noindex
X-PUBLISHED-TTL:PT1H
BEGIN:VTIMEZONE
TZID:UTC
BEGIN:STANDARD
TZOFFSETFROM:+0000
TZOFFSETTO:+0000
TZNAME:UTC
DTSTART:20240101T000000
END:STANDARD
END:VTIMEZONE
BEGIN:VEVENT
DTSTART;TZID=UTC:20250608T150000
DTEND;TZID=UTC:20250608T160000
DTSTAMP:20260424T092206
CREATED:20250512T141400Z
LAST-MODIFIED:20250512T141400Z
UID:10000203-1749394800-1749398400@exploreapexnc.com
SUMMARY:Brush the Skyline: Apex Starry Night – Watercolors and Brews Workshop
DESCRIPTION:1234Next \nGrab a drink from The Backyard Bar and paint a fun twist on Starry Night featuring the Apex skyline… \nIn collaboration with The Backyard Bar: \nMalika Barnett\, Raleigh native and local artist\, will take you to one of Apex’s favorite local haunts to guide you through a relaxing workshop on watercolor landscapes. \nAll supplies will be provided and you will be able to take home a travel canvas of your own creation for the scenic memory. Malika loves teaching art for all skill levels\, so whether you paint regularly or have never held a brush\, this experience is just the right blend of creative and relaxing. \nWhile you paint\, soak in the laid-back neighborhood vibes of The Backyard Bar right in the heart of Apex. Swing by the bar\, grab a drink\, and relax as your creativity flows! \n*Alcohol is not included with ticket purchase
URL:https://exploreapexnc.com/event-single-post-name/brush-the-skyline-apex-starry-night-watercolors-and-brews-workshop/
LOCATION:The Backyard Bar\, 2901 US-64\, Apex\, N\, 27523\, United States
ATTACH;FMTTYPE=image/jpeg:https://exploreapexnc.com/wp-content/uploads/2025/05/brush-the-skyline-starry-night-backyard-bar-apex-header.jpg
END:VEVENT
END:VCALENDAR