BEGIN:VCALENDAR
VERSION:2.0
PRODID:-//Explore Apex - ECPv6.15.20//NONSGML v1.0//EN
CALSCALE:GREGORIAN
METHOD:PUBLISH
X-ORIGINAL-URL:https://exploreapexnc.com
X-WR-CALDESC:Events for Explore Apex
REFRESH-INTERVAL;VALUE=DURATION:PT1H
X-Robots-Tag:noindex
X-PUBLISHED-TTL:PT1H
BEGIN:VTIMEZONE
TZID:UTC
BEGIN:STANDARD
TZOFFSETFROM:+0000
TZOFFSETTO:+0000
TZNAME:UTC
DTSTART:20240101T000000
END:STANDARD
END:VTIMEZONE
BEGIN:VEVENT
DTSTART;TZID=UTC:20250620T200000
DTEND;TZID=UTC:20250620T230000
DTSTAMP:20260424T092205
CREATED:20250610T143050Z
LAST-MODIFIED:20250610T143050Z
UID:10000245-1750449600-1750460400@exploreapexnc.com
SUMMARY:The Will McBride Group Band @ The Backyard Bar
DESCRIPTION:Where rock\, funk\, blues & jazz intersect. A special trio performance with lots of favorite rock radio hits\, plus a few of their most popular original song… songs that have earned opener shows for the band with international superstars such as ZZ Top\, Styx\, Eddie Money\, Little River Band\, Mother’s Finest\, Leon Russell. Delbert McClinton\, more.
URL:https://exploreapexnc.com/event-single-post-name/the-will-mcbride-group-band-the-backyard-bar/
LOCATION:The Backyard Bar\, 2901 US-64\, Apex\, N\, 27523\, United States
ATTACH;FMTTYPE=image/jpeg:https://exploreapexnc.com/wp-content/uploads/2025/06/Will.jpg
ORGANIZER;CN="The Backyard Bar":MAILTO:Contact@thebackyardbarnc.com
END:VEVENT
END:VCALENDAR