BEGIN:VCALENDAR
VERSION:2.0
PRODID:-//Explore Apex - ECPv6.15.20//NONSGML v1.0//EN
CALSCALE:GREGORIAN
METHOD:PUBLISH
X-WR-CALNAME:Explore Apex
X-ORIGINAL-URL:https://exploreapexnc.com
X-WR-CALDESC:Events for Explore Apex
REFRESH-INTERVAL;VALUE=DURATION:PT1H
X-Robots-Tag:noindex
X-PUBLISHED-TTL:PT1H
BEGIN:VTIMEZONE
TZID:UTC
BEGIN:STANDARD
TZOFFSETFROM:+0000
TZOFFSETTO:+0000
TZNAME:UTC
DTSTART:20240101T000000
END:STANDARD
END:VTIMEZONE
BEGIN:VEVENT
DTSTART;TZID=UTC:20250623T180000
DTEND;TZID=UTC:20250623T200000
DTSTAMP:20260424T092149
CREATED:20250604T123122Z
LAST-MODIFIED:20250604T123122Z
UID:10000230-1750701600-1750708800@exploreapexnc.com
SUMMARY:Positively Apex Crafty Happy Hour and Networking Social
DESCRIPTION:Join us for our monthly networking happy hour\, this time with a crafty twist at Wine & Design!\nPaint or resin a wooden drink cover or trinket dish for an extra charge.\nOr come enjoy refreshments and networking! All are welcome!\nRSVP HELPFUL FOR PLANNING
URL:https://exploreapexnc.com/event-single-post-name/positively-apex-crafty-happy-hour-and-networking-social/
LOCATION:Wine & Design\, 5456 Apex Peakway\, Apex\, N\, 27502\, United States
ATTACH;FMTTYPE=image/png:https://exploreapexnc.com/wp-content/uploads/2025/06/Wine-Design-night-11-22.png
ORGANIZER;CN="Positively Apex":MAILTO:positivelyapex@gmail.com
END:VEVENT
END:VCALENDAR