BEGIN:VCALENDAR
VERSION:2.0
PRODID:-//Explore Apex - ECPv6.15.20//NONSGML v1.0//EN
CALSCALE:GREGORIAN
METHOD:PUBLISH
X-WR-CALNAME:Explore Apex
X-ORIGINAL-URL:https://exploreapexnc.com
X-WR-CALDESC:Events for Explore Apex
REFRESH-INTERVAL;VALUE=DURATION:PT1H
X-Robots-Tag:noindex
X-PUBLISHED-TTL:PT1H
BEGIN:VTIMEZONE
TZID:UTC
BEGIN:STANDARD
TZOFFSETFROM:+0000
TZOFFSETTO:+0000
TZNAME:UTC
DTSTART:20240101T000000
END:STANDARD
END:VTIMEZONE
BEGIN:VEVENT
DTSTART;TZID=UTC:20250703T170000
DTEND;TZID=UTC:20250703T220000
DTSTAMP:20260424T074455
CREATED:20250514T163718Z
LAST-MODIFIED:20250514T163718Z
UID:10000212-1751562000-1751580000@exploreapexnc.com
SUMMARY:Fireworks Frenzy
DESCRIPTION:Kick off July 4th celebrations with a spectacular fireworks display!\nFeaturing music\, food trucks\, inflatables\, and more!\n*NEW* for 2025: A drone show! This sensory-friendly light\nshow will begin around 9 pm.* Fireworks kick off around\n9:30 pm* over Hunter Street Park.
URL:https://exploreapexnc.com/event-single-post-name/fireworks-frenzy/
LOCATION:Hunter Street Park\, 1250 Ambergate Station\, Apex\, NC\, 27502\, United States
ATTACH;FMTTYPE=image/png:https://exploreapexnc.com/wp-content/uploads/2025/05/Screenshot-2025-05-14-115839.png
END:VEVENT
END:VCALENDAR