BEGIN:VCALENDAR
VERSION:2.0
PRODID:-//Explore Apex - ECPv6.15.20//NONSGML v1.0//EN
CALSCALE:GREGORIAN
METHOD:PUBLISH
X-ORIGINAL-URL:https://exploreapexnc.com
X-WR-CALDESC:Events for Explore Apex
REFRESH-INTERVAL;VALUE=DURATION:PT1H
X-Robots-Tag:noindex
X-PUBLISHED-TTL:PT1H
BEGIN:VTIMEZONE
TZID:UTC
BEGIN:STANDARD
TZOFFSETFROM:+0000
TZOFFSETTO:+0000
TZNAME:UTC
DTSTART:20240101T000000
END:STANDARD
END:VTIMEZONE
BEGIN:VEVENT
DTSTART;TZID=UTC:20250726T110000
DTEND;TZID=UTC:20250726T150000
DTSTAMP:20260424T074609
CREATED:20250528T172440Z
LAST-MODIFIED:20250528T172440Z
UID:10000223-1753527600-1753542000@exploreapexnc.com
SUMMARY:Summer Slam (3v3 Basketball Tournament)
DESCRIPTION:Summer Slam (3v3 Basketball Tournament) ~ July 26\, 2025\nJohn M. Brown Community Center (53 Hunter St) | 11am – 3pm (Tournament runs 9am – 5pm) \nThe Town of Apex is hosting its first-ever 3v3 Summer Slam Tournament\, bringing together players from across the community for a full day of competitive basketball and fun. Teams will compete in one of seven divisions based on age and gender. The tournament will start with group play followed by semifinals and championship games. Each team is guaranteed at least two games\, and there will be additional activities alongside the tournament! Limited spots available (each bracket is limited to the first 12 teams that register)\, so secure your spot early! Potential prizes include exclusive Apex basketballs signed by Casey Morsell\, championship t-shirts and more! \nAge Brackets: 13/14 Boys\, 15/17 Boys\, 18+ Men’s\, 13/14 Girls\, 15/17 Girls\, 18+ Women’s\, 35+ Open Division (no gender requirement – teams may be all male\, all female\, or coed) \nRegistration Fee: $50 per team ($35 if you register by June 1st)\nRegistration Deadline: July 11th\, 2025 (Friday) \nAdditional Activities for Everyone ~ No Registration Required: \nKnockerball Foot Darts (11am – 2pm)\nKids Zone Activities & Yard Games (11am – 3pm)\nFood Trucks & Vendors (11am – 3pm)\nJourney League Spotlight Game (12pm – 1pm) \nThank you to Journey League and Frios Pops for helping sponsor this event! \nQuestions? Email Jacoby.Kolanko@apexnc.org
URL:https://exploreapexnc.com/event-single-post-name/summer-slam-3v3-basketball-tournament/
LOCATION:John M. Brown Community Center\, 53 Hunter Street\, Apex\, N\, 27502\, United States
ATTACH;FMTTYPE=image/png:https://exploreapexnc.com/wp-content/uploads/2025/05/Screenshot-2025-05-28-110913.png
END:VEVENT
END:VCALENDAR