BEGIN:VCALENDAR
VERSION:2.0
PRODID:-//Explore Apex - ECPv6.15.20//NONSGML v1.0//EN
CALSCALE:GREGORIAN
METHOD:PUBLISH
X-ORIGINAL-URL:https://exploreapexnc.com
X-WR-CALDESC:Events for Explore Apex
REFRESH-INTERVAL;VALUE=DURATION:PT1H
X-Robots-Tag:noindex
X-PUBLISHED-TTL:PT1H
BEGIN:VTIMEZONE
TZID:UTC
BEGIN:STANDARD
TZOFFSETFROM:+0000
TZOFFSETTO:+0000
TZNAME:UTC
DTSTART:20240101T000000
END:STANDARD
END:VTIMEZONE
BEGIN:VEVENT
DTSTART;TZID=UTC:20250918T120000
DTEND;TZID=UTC:20250918T130000
DTSTAMP:20260424T045008
CREATED:20250828T134220Z
LAST-MODIFIED:20250828T134220Z
UID:10000406-1758196800-1758200400@exploreapexnc.com
SUMMARY:Learning Lunch: Hispanic Heritage Month
DESCRIPTION:Fiesta Cristiana and friends will be on hand to talk about the history of Hispanic Heritage Month\, the Latino Arts Festival\, and more. We will have music\, dancing and entertainment from Mariachi El Rey\, as well as themed snacks!
URL:https://exploreapexnc.com/event-single-post-name/learning-lunch-hispanic-heritage-month/
LOCATION:Apex Senior Center\, 63 Hunter Street\, Apex\, NC\, 27502\, United States
END:VEVENT
END:VCALENDAR