BEGIN:VCALENDAR
VERSION:2.0
PRODID:-//Explore Apex - ECPv6.15.20//NONSGML v1.0//EN
CALSCALE:GREGORIAN
METHOD:PUBLISH
X-ORIGINAL-URL:https://exploreapexnc.com
X-WR-CALDESC:Events for Explore Apex
REFRESH-INTERVAL;VALUE=DURATION:PT1H
X-Robots-Tag:noindex
X-PUBLISHED-TTL:PT1H
BEGIN:VTIMEZONE
TZID:UTC
BEGIN:STANDARD
TZOFFSETFROM:+0000
TZOFFSETTO:+0000
TZNAME:UTC
DTSTART:20240101T000000
END:STANDARD
END:VTIMEZONE
BEGIN:VEVENT
DTSTART;TZID=UTC:20250923T183000
DTEND;TZID=UTC:20250923T200000
DTSTAMP:20260424T045008
CREATED:20250908T145952Z
LAST-MODIFIED:20250908T145952Z
UID:10000445-1758652200-1758657600@exploreapexnc.com
SUMMARY:Modern Calligraphy & Pumpkin Lettering for Beginners at Cloer Family Vineyards
DESCRIPTION:Join Sip and Script® for a Night of Learning Calligraphy! \nJoin us at Cloer Family Vineyards in Apex\, North Carolina for a festive workshop of spooky fun and pretty lettering for beginners! Whether you’re a stationery nerd\, DIY Bride-to-be\, or just a crafty individual\, in this workshop you’ll be learning an introduction to modern calligraphy with a pointed dip pen and ink. We will cover all the basics and get you ready to add those special lettered details to all your spooky spreads – think lettered pumpkins at your front door\, on your bar cart\, as a Halloween party hostess gift or special occasion gift! \nClass includes 1.5 hours of instruction and demonstration\, our beginner’s calligraphy kit (two nibs\, black ink pot\, 2 letter guides\, tracing paper and straight pen holder)\, and all materials to write on. Everything is yours to keep at the end of the workshop! Additionally\, we will be lettering on faux pumpkins at the end of our class time!
URL:https://exploreapexnc.com/event-single-post-name/modern-calligraphy-pumpkin-lettering-for-beginners-at-cloer-family-vineyards/
LOCATION:Cloer Family Vineyards\, 8624 Castleberry Road\, Apex\, N\, 27523\, United States
ATTACH;FMTTYPE=image/png:https://exploreapexnc.com/wp-content/uploads/2025/09/Calligraphy-Class-Pumpkin-Lettering.png
ORGANIZER;CN="Lynn Woods":MAILTO:lynnsipandscript@gmail.com
END:VEVENT
END:VCALENDAR