BEGIN:VCALENDAR
VERSION:2.0
PRODID:-//Explore Apex - ECPv6.15.20//NONSGML v1.0//EN
CALSCALE:GREGORIAN
METHOD:PUBLISH
X-ORIGINAL-URL:https://exploreapexnc.com
X-WR-CALDESC:Events for Explore Apex
REFRESH-INTERVAL;VALUE=DURATION:PT1H
X-Robots-Tag:noindex
X-PUBLISHED-TTL:PT1H
BEGIN:VTIMEZONE
TZID:UTC
BEGIN:STANDARD
TZOFFSETFROM:+0000
TZOFFSETTO:+0000
TZNAME:UTC
DTSTART:20240101T000000
END:STANDARD
END:VTIMEZONE
BEGIN:VEVENT
DTSTART;TZID=UTC:20251007T163000
DTEND;TZID=UTC:20251007T190000
DTSTAMP:20260424T031646
CREATED:20250828T134942Z
LAST-MODIFIED:20250925T145354Z
UID:10000409-1759854600-1759863600@exploreapexnc.com
SUMMARY:Touch a Truck
DESCRIPTION:National Night Out was designed to enhance the relationship between neighbors and law enforcement while bringing back a true sense of community under positive circumstances. National Night Out events are held in August nationwide\, however our event is held in October to beat the summer heat. There will be safety information and displays\, as well house games and lots of interactive activities. \nTouch-a-Truck allows children to get in the driver’s seat with a free hands-on experience with vehicles of all kinds. We will have local representatives and their vehicles from emergency\, construction\, landscaping\, military\, transportation\, and delivery all in one place! Children will be allowed to touch\, climb on\, and ask questions about their favorite trucks and cars in a safe and supervised environment. \nThis event features: \nVehicles to explore\nVendors and informational booths\nFood trucks\nInteractive games
URL:https://exploreapexnc.com/event-single-post-name/touch-a-truck/
LOCATION:Apex Town Campus\, 73 Hunter Street\, Apex\, NC\, 27502\, United States
ATTACH;FMTTYPE=image/jpeg:https://exploreapexnc.com/wp-content/uploads/2025/08/TouchATruck.jpg
END:VEVENT
END:VCALENDAR