BEGIN:VCALENDAR
VERSION:2.0
PRODID:-//Explore Apex - ECPv6.15.20//NONSGML v1.0//EN
CALSCALE:GREGORIAN
METHOD:PUBLISH
X-WR-CALNAME:Explore Apex
X-ORIGINAL-URL:https://exploreapexnc.com
X-WR-CALDESC:Events for Explore Apex
REFRESH-INTERVAL;VALUE=DURATION:PT1H
X-Robots-Tag:noindex
X-PUBLISHED-TTL:PT1H
BEGIN:VTIMEZONE
TZID:UTC
BEGIN:STANDARD
TZOFFSETFROM:+0000
TZOFFSETTO:+0000
TZNAME:UTC
DTSTART:20240101T000000
END:STANDARD
END:VTIMEZONE
BEGIN:VEVENT
DTSTART;TZID=UTC:20251009T173000
DTEND;TZID=UTC:20251009T193000
DTSTAMP:20260424T031558
CREATED:20250828T134415Z
LAST-MODIFIED:20250925T144914Z
UID:10000408-1760031000-1760038200@exploreapexnc.com
SUMMARY:Explore S'more
DESCRIPTION:Enjoy an evening of exploring nature and connecting with your Apex neighbors! This is a free annual community event held during Take a Child Outside Week. Take a Child Outside is an international program that encourages children and adults to spend time outdoors doing fun things and learning about nature together. \nExplore S’more is hosted by the Apex Parks\, Recreation\, and Cultural Resources staff and features: \nNature education information\nInteractive games\nRoasting s’mores (of course)
URL:https://exploreapexnc.com/event-single-post-name/explore-smore-2/
LOCATION:Apex Nature Park Amphitheater\, 2600 Evans Road\, Apex\, NC\, 27502\, United States
ATTACH;FMTTYPE=image/jpeg:https://exploreapexnc.com/wp-content/uploads/2025/08/ExploreSmores.jpg
END:VEVENT
END:VCALENDAR