BEGIN:VCALENDAR
VERSION:2.0
PRODID:-//Explore Apex - ECPv6.15.20//NONSGML v1.0//EN
CALSCALE:GREGORIAN
METHOD:PUBLISH
X-ORIGINAL-URL:https://exploreapexnc.com
X-WR-CALDESC:Events for Explore Apex
REFRESH-INTERVAL;VALUE=DURATION:PT1H
X-Robots-Tag:noindex
X-PUBLISHED-TTL:PT1H
BEGIN:VTIMEZONE
TZID:UTC
BEGIN:STANDARD
TZOFFSETFROM:+0000
TZOFFSETTO:+0000
TZNAME:UTC
DTSTART:20240101T000000
END:STANDARD
END:VTIMEZONE
BEGIN:VEVENT
DTSTART;TZID=UTC:20251011T103000
DTEND;TZID=UTC:20251011T130000
DTSTAMP:20260424T032139
CREATED:20250918T172830Z
LAST-MODIFIED:20250918T172830Z
UID:10000481-1760178600-1760187600@exploreapexnc.com
SUMMARY:Family Pumpkin Painting
DESCRIPTION:Visit downtown Apex for a fun Family Pumpkin Painting event\, hosted by our Halle staff! Each ticket includes one medium pumpkin\, paints\, and brushes to create your masterpiece. All ages are welcome—so bring your friends and family for a festive\, creative time together! Participants can bring their pumpkin directly home\, or pick it up from The Halle after a drying period. \nTickets:$ 5 per pumpkin\nCourse # 18567 – Register at thehalle.org
URL:https://exploreapexnc.com/event-single-post-name/family-pumpkin-painting/
LOCATION:The Halle Cultural Arts Center\, 237 N. Salem Street\, Apex\, N\, 27502\, United States
ATTACH;FMTTYPE=image/png:https://exploreapexnc.com/wp-content/uploads/2025/09/Orange-and-Black-Colourful-and-Vibrant-Halloween-Pumpkin-Carving-Contest-Poster-1920-x-1080-px.png
END:VEVENT
BEGIN:VEVENT
DTSTART;TZID=UTC:20251011T193000
DTEND;TZID=UTC:20251011T210000
DTSTAMP:20260424T032139
CREATED:20250918T172633Z
LAST-MODIFIED:20250918T172633Z
UID:10000479-1760211000-1760216400@exploreapexnc.com
SUMMARY:Fall Play "Barefoot in the Park"
DESCRIPTION:Join us at The Halle for this year’s Fall Play\, Neil Simon’s “Barefoot in the Park” follows newlyweds Corie and Paul Bratter as they adjust to married life in a cramped New York apartment. Her spontaneity and his practicality soon clash\, especially during a chaotic evening with their eccentric neighbor and Corie’s mother. As tensions rise\, the couple begins to question their compatibility. Through humor and heart\, they learn that love isn’t just about romance—it’s about accepting differences and growing together. This charming comedy captures the ups and downs of building a life with someone truly different from yourself! \nTickets: $18/Adult $15/Senior\, $12/Student(16 & Under) available by selecting a date above \nPLEASE NOTE: Tickets sold from any outlet outside of The Halle Cultural Arts Center or Etix.com are not valid.\n*****The Halle Cultural Arts Center does not allow refunds or exchanges.*****
URL:https://exploreapexnc.com/event-single-post-name/fall-play-barefoot-in-the-park-5/
LOCATION:The Halle Cultural Arts Center\, 237 N. Salem Street\, Apex\, N\, 27502\, United States
ATTACH;FMTTYPE=image/png:https://exploreapexnc.com/wp-content/uploads/2025/09/Barefoot-in-the-Park-Flyer-1920-x-1080-px-1-4.png
END:VEVENT
END:VCALENDAR