BEGIN:VCALENDAR
VERSION:2.0
PRODID:-//Explore Apex - ECPv6.15.20//NONSGML v1.0//EN
CALSCALE:GREGORIAN
METHOD:PUBLISH
X-ORIGINAL-URL:https://exploreapexnc.com
X-WR-CALDESC:Events for Explore Apex
REFRESH-INTERVAL;VALUE=DURATION:PT1H
X-Robots-Tag:noindex
X-PUBLISHED-TTL:PT1H
BEGIN:VTIMEZONE
TZID:UTC
BEGIN:STANDARD
TZOFFSETFROM:+0000
TZOFFSETTO:+0000
TZNAME:UTC
DTSTART:20240101T000000
END:STANDARD
END:VTIMEZONE
BEGIN:VEVENT
DTSTART;VALUE=DATE:20251017
DTEND;VALUE=DATE:20251018
DTSTAMP:20260424T032139
CREATED:20251013T001215Z
LAST-MODIFIED:20251013T001215Z
UID:10000543-1760659200-1760745599@exploreapexnc.com
SUMMARY:Oktoberfest Celebration with The Oak City Polka Kings @ The Backyard Bar
DESCRIPTION:Friday\, October 17th Oktoberfest at The Backyard Bar! \nGet ready for one of our biggest parties of the year — Oktoberfest at The Backyard Bar! We’re transforming the bar into a Bavarian-style celebration with themed décor\, Oktoberfest beer on tap\, and special seasonal cocktails made just for the night. \n🏆 Stein Holding & Beer Chugging Competitions from 7 pm onwards!\nThink you’ve got what it takes? Show off your strength and speed in two Oktoberfest classics — the stein-holding challenge and beer-chugging contest! Win prizes\, bragging rights\, and a guaranteed good time. \n🎶 Live Music by The Oak City Polka Kings!\nThe legends of local Oktoberfest\, these Raleigh favorites bring the oompah party with infectious energy\, sing-alongs\, and a mix of traditional and modern tunes. Accordion\, brass\, and plenty of crowd interaction — it’s the full Oktoberfest experience! \n🍴 Fusion Foods Truck – bringing the flavor to match your pint. \n🔥 Firepits\, heaters\, and no cover — just great beer\, great music\, and great vibes all night long!
URL:https://exploreapexnc.com/event-single-post-name/oktoberfest-celebration-with-the-oak-city-polka-kings-the-backyard-bar/
LOCATION:The Backyard Bar\, 2901 US-64\, Apex\, N\, 27523\, United States
ATTACH;FMTTYPE=image/jpeg:https://exploreapexnc.com/wp-content/uploads/2025/10/oktober.jpg
ORGANIZER;CN="The Backyard Bar":MAILTO:Contact@thebackyardbarnc.com
END:VEVENT
END:VCALENDAR