BEGIN:VCALENDAR
VERSION:2.0
PRODID:-//Explore Apex - ECPv6.15.20//NONSGML v1.0//EN
CALSCALE:GREGORIAN
METHOD:PUBLISH
X-ORIGINAL-URL:https://exploreapexnc.com
X-WR-CALDESC:Events for Explore Apex
REFRESH-INTERVAL;VALUE=DURATION:PT1H
X-Robots-Tag:noindex
X-PUBLISHED-TTL:PT1H
BEGIN:VTIMEZONE
TZID:UTC
BEGIN:STANDARD
TZOFFSETFROM:+0000
TZOFFSETTO:+0000
TZNAME:UTC
DTSTART:20240101T000000
END:STANDARD
END:VTIMEZONE
BEGIN:VEVENT
DTSTART;TZID=UTC:20251108T090000
DTEND;TZID=UTC:20251108T120000
DTSTAMP:20260424T015406
CREATED:20251029T153344Z
LAST-MODIFIED:20251217T153357Z
UID:10000587-1762592400-1762603200@exploreapexnc.com
SUMMARY:Apex Farmer's Market
DESCRIPTION:Head to Downtown Apex every Saturday morning and explore the outdoor vendor booths offering fresh produce\, meat and seafood\, baked goods\, prepared items\, and handmade crafts\, jewelry\, and art. The vendors change weekly\, but many of your favorites are there on repeat! Market hours are 8 am – 12 pm (April through October)\, and 9am – 12 pm (November though March). See you there!
URL:https://exploreapexnc.com/event-single-post-name/apex-farmers-market-4/2025-11-08/
LOCATION:The Depot\, 220 N Salem Street\, Apex\, 27502\, United States
ATTACH;FMTTYPE=image/png:https://exploreapexnc.com/wp-content/uploads/2025/10/UPDATED-AFM-logo-FINAL.png
END:VEVENT
BEGIN:VEVENT
DTSTART;TZID=UTC:20251108T140000
DTEND;TZID=UTC:20251108T153000
DTSTAMP:20260424T015406
CREATED:20251030T163101Z
LAST-MODIFIED:20251030T163101Z
UID:10000616-1762610400-1762615800@exploreapexnc.com
SUMMARY:Infinity Ballet Presents: Villains\, Heroes\, and Ballerinas
DESCRIPTION:Nov 8 – 2pm & 4pm shows\nTickets: $18/Adults $12/Student(16 & under)\nInfinity Ballet’s family hour storybook series presents “Villains\, Heroes and Ballerinas\,” a dreamlike dance experience! See menacing villains\, courageous heroes\, and ballerinas of all ages bring timeless stories of good versus evil to life with grace and passion.
URL:https://exploreapexnc.com/event-single-post-name/infinity-ballet-presents-villains-heroes-and-ballerinas/2025-11-08/1/
LOCATION:The Halle Cultural Arts Center\, 237 N. Salem Street\, Apex\, N\, 27502\, United States
ATTACH;FMTTYPE=image/jpeg:https://exploreapexnc.com/wp-content/uploads/2025/10/Nov-Infinity-Ballet-scaled.jpg
END:VEVENT
BEGIN:VEVENT
DTSTART;TZID=UTC:20251108T160000
DTEND;TZID=UTC:20251108T173000
DTSTAMP:20260424T015406
CREATED:20251030T163101Z
LAST-MODIFIED:20251030T163101Z
UID:10000617-1762617600-1762623000@exploreapexnc.com
SUMMARY:Infinity Ballet Presents: Villains\, Heroes\, and Ballerinas
DESCRIPTION:Nov 8 – 2pm & 4pm shows\nTickets: $18/Adults $12/Student(16 & under)\nInfinity Ballet’s family hour storybook series presents “Villains\, Heroes and Ballerinas\,” a dreamlike dance experience! See menacing villains\, courageous heroes\, and ballerinas of all ages bring timeless stories of good versus evil to life with grace and passion.
URL:https://exploreapexnc.com/event-single-post-name/infinity-ballet-presents-villains-heroes-and-ballerinas/2025-11-08/2/
LOCATION:The Halle Cultural Arts Center\, 237 N. Salem Street\, Apex\, N\, 27502\, United States
ATTACH;FMTTYPE=image/jpeg:https://exploreapexnc.com/wp-content/uploads/2025/10/Nov-Infinity-Ballet-scaled.jpg
END:VEVENT
END:VCALENDAR