BEGIN:VCALENDAR
VERSION:2.0
PRODID:-//Explore Apex - ECPv6.15.20//NONSGML v1.0//EN
CALSCALE:GREGORIAN
METHOD:PUBLISH
X-WR-CALNAME:Explore Apex
X-ORIGINAL-URL:https://exploreapexnc.com
X-WR-CALDESC:Events for Explore Apex
REFRESH-INTERVAL;VALUE=DURATION:PT1H
X-Robots-Tag:noindex
X-PUBLISHED-TTL:PT1H
BEGIN:VTIMEZONE
TZID:UTC
BEGIN:STANDARD
TZOFFSETFROM:+0000
TZOFFSETTO:+0000
TZNAME:UTC
DTSTART:20240101T000000
END:STANDARD
END:VTIMEZONE
BEGIN:VEVENT
DTSTART;VALUE=DATE:20251206
DTEND;VALUE=DATE:20260101
DTSTAMP:20260423T223348
CREATED:20251206T204951Z
LAST-MODIFIED:20251217T153913Z
UID:10000019-1764979200-1767225599@exploreapexnc.com
SUMMARY:Tour of Lights
DESCRIPTION:The 2025 Holiday Tour of Lights has arrived!  \n31 homes and businesses across town have volunteered to spread holiday cheer with beautiful light displays this year! The Tour of Lights provides a map with the most efficient way to see all the stops along the tour. Hop in the car\, turn on your favorite holiday playlist\, and enjoy the lights!
URL:https://exploreapexnc.com/event-single-post-name/tour-of-lights/
LOCATION:NC
ATTACH;FMTTYPE=image/png:https://exploreapexnc.com/wp-content/uploads/2024/08/Document-1.png
END:VEVENT
END:VCALENDAR