BEGIN:VCALENDAR
VERSION:2.0
PRODID:-//Explore Apex - ECPv6.15.20//NONSGML v1.0//EN
CALSCALE:GREGORIAN
METHOD:PUBLISH
X-ORIGINAL-URL:https://exploreapexnc.com
X-WR-CALDESC:Events for Explore Apex
REFRESH-INTERVAL;VALUE=DURATION:PT1H
X-Robots-Tag:noindex
X-PUBLISHED-TTL:PT1H
BEGIN:VTIMEZONE
TZID:UTC
BEGIN:STANDARD
TZOFFSETFROM:+0000
TZOFFSETTO:+0000
TZNAME:UTC
DTSTART:20250101T000000
END:STANDARD
END:VTIMEZONE
BEGIN:VEVENT
DTSTART;TZID=UTC:20260210T183000
DTEND;TZID=UTC:20260210T200000
DTSTAMP:20260423T195329
CREATED:20251006T125725Z
LAST-MODIFIED:20251006T125725Z
UID:10000508-1770748200-1770753600@exploreapexnc.com
SUMMARY:Galentine’s Modern Calligraphy and Tumbler Lettering and Blinging for Beginners at Cloer Family Vineyards
DESCRIPTION:Join Sip & ScriptⓇ for Modern Calligraphy Fun! \nJoin us at Cloer Family Vineyards in Apex\, North Carolina for a festive workshop of Galentine’s fun and pretty lettering for beginners! Whether you’re a stationery nerd\, DIY Bride-to-be\, or just a crafty individual\, in this workshop you’ll be learning an introduction to modern calligraphy with a pointed dip pen and ink. We will cover all the basics and get you ready to add those special lettered details to your Galentine’s cards. The perfect crafty night out! \nClass includes 1.5 hours of instruction and demonstration\, our beginner’s calligraphy kit (two nibs\, black ink pot\, 2 letter guides\, tracing paper\, and straight pen holder)\, and all materials to write on. Everything is yours to keep at the end of the workshop! \nAdditionally\, we will be lettering on a 24 ounce plastic tumbler and adding a little bling with rhinestones!
URL:https://exploreapexnc.com/event-single-post-name/galentines-modern-calligraphy-and-tumbler-lettering-and-blinging-for-beginners-at-cloer-family-vineyards/
LOCATION:Cloer Family Vineyards\, 8624 Castleberry Road\, Apex\, N\, 27523\, United States
ATTACH;FMTTYPE=image/png:https://exploreapexnc.com/wp-content/uploads/2025/10/Copy-of-19-4.png
ORGANIZER;CN="Lynn Woods":MAILTO:lynnsipandscript@gmail.com
END:VEVENT
END:VCALENDAR