BEGIN:VCALENDAR
VERSION:2.0
PRODID:-//Explore Apex - ECPv6.15.20//NONSGML v1.0//EN
CALSCALE:GREGORIAN
METHOD:PUBLISH
X-ORIGINAL-URL:https://exploreapexnc.com
X-WR-CALDESC:Events for Explore Apex
REFRESH-INTERVAL;VALUE=DURATION:PT1H
X-Robots-Tag:noindex
X-PUBLISHED-TTL:PT1H
BEGIN:VTIMEZONE
TZID:UTC
BEGIN:STANDARD
TZOFFSETFROM:+0000
TZOFFSETTO:+0000
TZNAME:UTC
DTSTART:20250101T000000
END:STANDARD
END:VTIMEZONE
BEGIN:VTIMEZONE
TZID:America/New_York
BEGIN:DAYLIGHT
TZOFFSETFROM:-0500
TZOFFSETTO:-0400
TZNAME:EDT
DTSTART:20250309T070000
END:DAYLIGHT
BEGIN:STANDARD
TZOFFSETFROM:-0400
TZOFFSETTO:-0500
TZNAME:EST
DTSTART:20251102T060000
END:STANDARD
BEGIN:DAYLIGHT
TZOFFSETFROM:-0500
TZOFFSETTO:-0400
TZNAME:EDT
DTSTART:20260308T070000
END:DAYLIGHT
BEGIN:STANDARD
TZOFFSETFROM:-0400
TZOFFSETTO:-0500
TZNAME:EST
DTSTART:20261101T060000
END:STANDARD
BEGIN:DAYLIGHT
TZOFFSETFROM:-0500
TZOFFSETTO:-0400
TZNAME:EDT
DTSTART:20270314T070000
END:DAYLIGHT
BEGIN:STANDARD
TZOFFSETFROM:-0400
TZOFFSETTO:-0500
TZNAME:EST
DTSTART:20271107T060000
END:STANDARD
END:VTIMEZONE
BEGIN:VEVENT
DTSTART;TZID=UTC:20260219T180000
DTEND;TZID=UTC:20260219T193000
DTSTAMP:20260423T195329
CREATED:20260204T194720Z
LAST-MODIFIED:20260204T194720Z
UID:10000957-1771524000-1771529400@exploreapexnc.com
SUMMARY:Book Of Secrets Jewerly Box Workshop
DESCRIPTION:📖 Book of Secrets: Jewelry Box Workshop 📖\nBookish • Magical • One-of-a-Kind Keepsake \nCreate a one-of-a-kind keepsake in this hands-on\, book-loving workshop inspired by hidden stories and secret compartments. In our Book of Secrets: Jewelry Box Workshop\, guests will transform a wooden\, opening book into a beautiful\, functional treasure box—perfect for jewelry\, notes\, or tiny magical objects. \nYou’ll begin by painting your wooden book\, then embellish the cover and spine with decorative elements to make it uniquely yours. Inside\, you’ll line the box with book pages\, creating a layered\, story-filled interior that feels straight out of a secret library. \nThis workshop is beginner-friendly\, relaxed\, and deeply satisfying—no prior crafting experience required. Each guest will leave with a fully finished\, book-shaped jewelry box ready to be displayed or gifted. \nWhat’s Included:\n✨ Wooden opening book box\n✨ Paints\, book pages\, and decorative elements\n✨ All tools and materials\n✨ Sales tax included in the listed price \n🚗 Parking: Available behind the store in our private lot \nPerfect for book lovers\, creative souls\, and anyone who believes the best stories are the ones you can keep close. 📚✨
URL:https://exploreapexnc.com/event-single-post-name/book-of-secrets-jewerly-box-workshop/2026-02-19/
LOCATION:Bear Hands\, 305 South Salem Street\, Apex\, NC\, 27502-1826\, United States
ATTACH;FMTTYPE=image/png:https://exploreapexnc.com/wp-content/uploads/2026/02/2.png
ORGANIZER;CN="Bear Hands":MAILTO:bearhandsgifts@gmail.com
END:VEVENT
BEGIN:VEVENT
DTSTART;TZID=America/New_York:20260219T183000
DTEND;TZID=America/New_York:20260219T200000
DTSTAMP:20260423T195329
CREATED:20260128T144925Z
LAST-MODIFIED:20260128T144925Z
UID:10000931-1771525800-1771531200@exploreapexnc.com
SUMMARY:Paint Your Pet Workshop with Heather Eck - 2/19/26
DESCRIPTION:Join us for a fun night out at our Paint Your Pet workshop! This private paint class teaches you how to take your fur baby from photo to original artwork created by you! \nHeather will bring all of the supplies and will guide you step by step through painting your purr-fect pet because she’s already prepared the canvas for you. \nNo painting experience is required – Heather provides all the materials and traces your pet’s photo on the canvas before you arrive. It’s the perfect opportunity to create a personalized piece of art and make memories with friends. \nDon’t miss out on this unique and entertaining experience! You’ll leave with an 11×14 painted canvas + a sweet little treat to take home to your furbaby. \nWorkshop will be capped at 12 participants and has a minimum of 6 participants. One ticket per person is required. You may bring drinks (wine/beer are okay!) and snacks. \nLast day to purchase a workshop ticket is 2/16/26.
URL:https://exploreapexnc.com/event-single-post-name/paint-your-pet-workshop-with-heather-eck-2-19-26/
LOCATION:Adventures in Bloom\, 110 N Salem Street\, Apex\, 27502\, United States
ATTACH;FMTTYPE=image/png:https://exploreapexnc.com/wp-content/uploads/2026/01/Stamping-2000-x-2000-px-585-x-440-px-11.png
ORGANIZER;CN="Adventures In Bloom":MAILTO:adventuresinbloom@gmail.com
END:VEVENT
END:VCALENDAR