BEGIN:VCALENDAR
VERSION:2.0
PRODID:-//Explore Apex - ECPv6.15.20//NONSGML v1.0//EN
CALSCALE:GREGORIAN
METHOD:PUBLISH
X-WR-CALNAME:Explore Apex
X-ORIGINAL-URL:https://exploreapexnc.com
X-WR-CALDESC:Events for Explore Apex
REFRESH-INTERVAL;VALUE=DURATION:PT1H
X-Robots-Tag:noindex
X-PUBLISHED-TTL:PT1H
BEGIN:VTIMEZONE
TZID:UTC
BEGIN:STANDARD
TZOFFSETFROM:+0000
TZOFFSETTO:+0000
TZNAME:UTC
DTSTART:20250101T000000
END:STANDARD
END:VTIMEZONE
BEGIN:VEVENT
DTSTART;TZID=UTC:20260222T120000
DTEND;TZID=UTC:20260222T130000
DTSTAMP:20260423T195215
CREATED:20260204T194906Z
LAST-MODIFIED:20260204T194906Z
UID:10000961-1771761600-1771765200@exploreapexnc.com
SUMMARY:February Cozy Coven Book Club: A Rival Most Vial- Potioneering for Love & Profit
DESCRIPTION:📚 Cozy Coven Book Club — February Gathering 📚\nCozy Fantasy • Community • Free to Attend \nCurl up with your fellow book lovers and join us for Cozy Coven Book Club\, meeting the last Sunday of every month at noon for relaxed conversation\, laughter\, and plenty of swooning over that month’s cozy fantasy read. \n📖 February’s Book:\nA Rival Most Vial: Potioneering for Love & Profit by R. K. Ashwick\nExpect potions\, rivals\, romance\, and all the cozy fantasy vibes we love. \nThis is a casual\, welcoming book club—come ready to chat\, listen\, or just enjoy being in a room full of people who love magical stories as much as you do. You’re welcome to bring your own drinks and snacks to enjoy during our discussion. \n✨ Feeling crafty?\nA special charm bookmark craft will be available during the meeting for $10—totally optional\, but very cute. \n💫 FREE TO ATTEND\n🚗 Parking: Available behind the store in our private lot \nWhether you’ve finished the book cover to cover or just want to bask in cozy coven energy\, we’d love to have you. 🕯️📚✨
URL:https://exploreapexnc.com/event-single-post-name/february-cozy-coven-book-club-a-rival-most-vial-potioneering-for-love-profit/
LOCATION:Bear Hands\, 305 South Salem Street\, Apex\, NC\, 27502-1826\, United States
ATTACH;FMTTYPE=image/png:https://exploreapexnc.com/wp-content/uploads/2026/02/7.png
ORGANIZER;CN="Bear Hands":MAILTO:bearhandsgifts@gmail.com
END:VEVENT
END:VCALENDAR