BEGIN:VCALENDAR
VERSION:2.0
PRODID:-//Explore Apex - ECPv6.15.20//NONSGML v1.0//EN
CALSCALE:GREGORIAN
METHOD:PUBLISH
X-ORIGINAL-URL:https://exploreapexnc.com
X-WR-CALDESC:Events for Explore Apex
REFRESH-INTERVAL;VALUE=DURATION:PT1H
X-Robots-Tag:noindex
X-PUBLISHED-TTL:PT1H
BEGIN:VTIMEZONE
TZID:UTC
BEGIN:STANDARD
TZOFFSETFROM:+0000
TZOFFSETTO:+0000
TZNAME:UTC
DTSTART:20250101T000000
END:STANDARD
END:VTIMEZONE
BEGIN:VEVENT
DTSTART;VALUE=DATE:20260223
DTEND;VALUE=DATE:20260302
DTSTAMP:20260423T182823
CREATED:20260109T211415Z
LAST-MODIFIED:20260216T152508Z
UID:10000874-1771804800-1772409599@exploreapexnc.com
SUMMARY:Apex Restaurant Week
DESCRIPTION:Apex Restaurant Week highlights the incredible culinary offerings around town\, where guests can enjoy fixed-price menus for lunch or dinner. This annual celebration invites residents and visitors to explore Apex’s diverse dining scene through specially priced lunch and dinner menus at participating local restaurants. It’s a fantastic way to discover new favorites\, revisit beloved spots\, and experience the best Apex has to offer.
URL:https://exploreapexnc.com/event-single-post-name/apex-restaurant-week-2/
LOCATION:NC
ATTACH;FMTTYPE=image/png:https://exploreapexnc.com/wp-content/uploads/2026/01/RW-2026-FB-event-cover.png
ORGANIZER;CN="Apex Economic Development":MAILTO:Colleen.Merays@apexnc.org
END:VEVENT
BEGIN:VEVENT
DTSTART;TZID=UTC:20260228T090000
DTEND;TZID=UTC:20260228T120000
DTSTAMP:20260423T182823
CREATED:20251029T153344Z
LAST-MODIFIED:20251217T153357Z
UID:10000603-1772269200-1772280000@exploreapexnc.com
SUMMARY:Apex Farmer's Market
DESCRIPTION:Head to Downtown Apex every Saturday morning and explore the outdoor vendor booths offering fresh produce\, meat and seafood\, baked goods\, prepared items\, and handmade crafts\, jewelry\, and art. The vendors change weekly\, but many of your favorites are there on repeat! Market hours are 8 am – 12 pm (April through October)\, and 9am – 12 pm (November though March). See you there!
URL:https://exploreapexnc.com/event-single-post-name/apex-farmers-market-4/2026-02-28/
LOCATION:The Depot\, 220 N Salem Street\, Apex\, 27502\, United States
ATTACH;FMTTYPE=image/png:https://exploreapexnc.com/wp-content/uploads/2025/10/UPDATED-AFM-logo-FINAL.png
END:VEVENT
BEGIN:VEVENT
DTSTART;TZID=UTC:20260228T110000
DTEND;TZID=UTC:20260228T160000
DTSTAMP:20260423T182823
CREATED:20260128T144350Z
LAST-MODIFIED:20260128T144350Z
UID:10000928-1772276400-1772294400@exploreapexnc.com
SUMMARY:Winter Vintage Fest
DESCRIPTION:Join us as we celebrate one year of The Vintage Nook!\nNot only will you be able to shop the store inside\, but we’ll also be setting up additional vintage vendors on the lawn surrounding the space! The store will be open until 5pm and vendors will be set up until 4pm outside! \n👕Vintage Men’s & Women’s Clothing\n⚜️Vintage Decor\, Housewares\, Collectibles\n👢Vintage Accessories\n☕️Hot Chocolate Bar\n🍺Beer from @southlinebrewing\n🕯️Items made by 30+ local artists (candles\, jewelry\, crochet plushies etc)\n💎Permanent Jewelry from @appalachianaurashop\n🙌AND more!
URL:https://exploreapexnc.com/event-single-post-name/winter-vintage-fest/
LOCATION:the studio\, 106 W Chatham St\, Apex\, 27502\, United States
ATTACH;FMTTYPE=image/jpeg:https://exploreapexnc.com/wp-content/uploads/2026/01/Pastel-Pretty-Vintage-Market-Promotional-Event-Instagram-Post.jpg
END:VEVENT
BEGIN:VEVENT
DTSTART;TZID=UTC:20260228T113000
DTEND;TZID=UTC:20260228T123000
DTSTAMP:20260423T182823
CREATED:20260204T195628Z
LAST-MODIFIED:20260204T195628Z
UID:10000968-1772278200-1772281800@exploreapexnc.com
SUMMARY:The Everyday Apothecary Lab Presents:  Tea & Intentions Workshop
DESCRIPTION:Tea & Intentions is a cozy\, 1-hour intimate group experience designed to help you pause and build a simple wellness ritual you can actually keep. You’ll create a 4 oz custom loose-leaf tea blend (glass jar included)\, learn what the herbs support (immunity resilience\, emotional regulation\, and restorative rest)\, and pair it with a Wabi Sabi–inspired intention practice—grounding\, hands-on\, and made for real life.
URL:https://exploreapexnc.com/event-single-post-name/the-everyday-apothecary-lab-presents-tea-intentions-workshop/
LOCATION:The Halle Cultural Arts Center\, 237 N. Salem Street\, Apex\, N\, 27502\, United States
ATTACH;FMTTYPE=image/png:https://exploreapexnc.com/wp-content/uploads/2026/02/Tea-Intentions.png
ORGANIZER;CN="Doin' Things Better":MAILTO:rafa@dointhingsbetter.com
END:VEVENT
BEGIN:VEVENT
DTSTART;TZID=UTC:20260228T150000
DTEND;TZID=UTC:20260228T170000
DTSTAMP:20260423T182823
CREATED:20260114T153946Z
LAST-MODIFIED:20260114T153946Z
UID:10000889-1772290800-1772298000@exploreapexnc.com
SUMMARY:Crafter-noon @ Bottle Theory!
DESCRIPTION:Bottle Theory presents… Crafter-noon! ✂🎨 \nThe 4th Saturday of every month we will open our space to those looking to get creative\, meet fellow crafters\, and sip on great beverages! Please note\, we are not leading the craft session. However if you are interested in leading a craft for one of the afternoons\, please reach out to us and we would love to acommodate! \nPlease bring some supplies (such as coloring\, knitting\,\nwatercolor\, etc)\, and we will provide items like corks\,\nbottles\, and cardboard. 🍾 \nLet the creative juices (and the good drinks) flow\, and\nlet’s create something beautiful!! 🖌
URL:https://exploreapexnc.com/event-single-post-name/crafter-noon-bottle-theory/2026-02-28/
LOCATION:Bottle Theory\, 3675 W Green Level Rd\, Apex\, NC\, 27523\, United States
ATTACH;FMTTYPE=image/png:https://exploreapexnc.com/wp-content/uploads/2026/01/Crafternoon-Social-Post-1.png
ORGANIZER;CN="Bottle Theory":MAILTO:events@apexbottletheory.com
END:VEVENT
BEGIN:VEVENT
DTSTART;TZID=UTC:20260228T150000
DTEND;TZID=UTC:20260228T170000
DTSTAMP:20260423T182823
CREATED:20260122T191340Z
LAST-MODIFIED:20260122T191340Z
UID:10000799-1772290800-1772298000@exploreapexnc.com
SUMMARY:Crafter-Noon @ Bottle Theory
DESCRIPTION:Bottle Theory presents… Crafter-noon! ✂ 🎨\nStarting next Saturday\, January 24th\, we will open our space to those looking to get creative\, meet fellow crafters\, and sip on great beverages!\nPlease bring some supplies (such as coloring\, knitting\, watercolor\, etc)\, and we will provide items like corks\, bottles\, and cardboard. 🍾\nLet the creative juices (and the good beer) flow\, and let’s create something beautiful!! 🖌 \nCrafter-noon will reoccur the 4th Saturday of the Month!
URL:https://exploreapexnc.com/event-single-post-name/crafter-noon-bottle-theory-2/2026-02-28/
LOCATION:Bottle Theory\, 3675 W Green Level Rd\, Apex\, NC\, 27523\, United States
ATTACH;FMTTYPE=image/png:https://exploreapexnc.com/wp-content/uploads/2026/01/Crafternoon-Social-Post.png
ORGANIZER;CN="Bottle Theory":MAILTO:events@apexbottletheory.com
END:VEVENT
BEGIN:VEVENT
DTSTART;TZID=UTC:20260228T190000
DTEND;TZID=UTC:20260228T203000
DTSTAMP:20260423T182823
CREATED:20251218T192652Z
LAST-MODIFIED:20251218T192652Z
UID:10000746-1772305200-1772310600@exploreapexnc.com
SUMMARY:United Strings of Color: Partnerships in Black Music
DESCRIPTION:Become inspired by three musical partnerships that encouraged and championed Black classical music. As cultural pioneers from various backgrounds\, these performing partners found connection in the shared experience of navigating multiple worlds\, and actively helped to bring new music to the public. United Strings of Color invites you to learn about this blossoming of appreciation for Black classical music through our performance of chamber works and the relaying of some fascinating stories! \nTickets: Individual $5 each on etix https://www.etix.com/ticket/p/40751075/united-strings-of-colorpartnership-in-black-music-apex-halle-cultural-arts-center?gclid= \nPLEASE NOTE: Tickets sold from any outlet outside of The Halle Cultural Arts Center or Etix.com are not valid. \n*****The Halle Cultural Arts Center does not allow refunds or exchanges.*****
URL:https://exploreapexnc.com/event-single-post-name/united-strings-of-color-partnerships-in-black-music/
LOCATION:The Halle Cultural Arts Center\, 237 N. Salem Street\, Apex\, N\, 27502\, United States
ATTACH;FMTTYPE=image/jpeg:https://exploreapexnc.com/wp-content/uploads/2025/12/USOC_logo.jpg
END:VEVENT
END:VCALENDAR