BEGIN:VCALENDAR
VERSION:2.0
PRODID:-//Explore Apex - ECPv6.15.20//NONSGML v1.0//EN
CALSCALE:GREGORIAN
METHOD:PUBLISH
X-WR-CALNAME:Explore Apex
X-ORIGINAL-URL:https://exploreapexnc.com
X-WR-CALDESC:Events for Explore Apex
REFRESH-INTERVAL;VALUE=DURATION:PT1H
X-Robots-Tag:noindex
X-PUBLISHED-TTL:PT1H
BEGIN:VTIMEZONE
TZID:UTC
BEGIN:STANDARD
TZOFFSETFROM:+0000
TZOFFSETTO:+0000
TZNAME:UTC
DTSTART:20250101T000000
END:STANDARD
END:VTIMEZONE
BEGIN:VEVENT
DTSTART;TZID=UTC:20260305T190000
DTEND;TZID=UTC:20260305T210000
DTSTAMP:20260423T182647
CREATED:20260113T160429Z
LAST-MODIFIED:20260113T160429Z
UID:10000885-1772737200-1772744400@exploreapexnc.com
SUMMARY:Thursday Night Movie
DESCRIPTION:Join us on the first Thursday of every month for a free movie geared for teens & adults!\nReservations and tickets are not required.  \nMovies start at 7pm. (No previews) \n\nFebruary 5\nMarch 5\nApril 2\n\nCall (919) 249-1120 for this month’s movie title or join our email list here!
URL:https://exploreapexnc.com/event-single-post-name/thursday-night-movie/2026-03-05/
LOCATION:The Halle Cultural Arts Center\, 237 N. Salem Street\, Apex\, N\, 27502\, United States
ATTACH;FMTTYPE=image/png:https://exploreapexnc.com/wp-content/uploads/2026/01/Document.png
END:VEVENT
END:VCALENDAR