BEGIN:VCALENDAR
VERSION:2.0
PRODID:-//Explore Apex - ECPv6.15.20//NONSGML v1.0//EN
CALSCALE:GREGORIAN
METHOD:PUBLISH
X-WR-CALNAME:Explore Apex
X-ORIGINAL-URL:https://exploreapexnc.com
X-WR-CALDESC:Events for Explore Apex
REFRESH-INTERVAL;VALUE=DURATION:PT1H
X-Robots-Tag:noindex
X-PUBLISHED-TTL:PT1H
BEGIN:VTIMEZONE
TZID:UTC
BEGIN:STANDARD
TZOFFSETFROM:+0000
TZOFFSETTO:+0000
TZNAME:UTC
DTSTART:20250101T000000
END:STANDARD
END:VTIMEZONE
BEGIN:VEVENT
DTSTART;TZID=UTC:20260306T200000
DTEND;TZID=UTC:20260306T230000
DTSTAMP:20260423T182631
CREATED:20260227T191358Z
LAST-MODIFIED:20260227T191358Z
UID:10001076-1772827200-1772838000@exploreapexnc.com
SUMMARY:8-Track Minds Live: Retro Party Night at The Backyard Bar
DESCRIPTION:8-Track Minds delivers a nostalgic\, high-energy journey through classic rock favorites\, pulling from the iconic sounds of the ’70s\, ’80s\, and beyond. With tight musicianship\, familiar anthems\, and a crowd-first approach\, they create the kind of sing-along\, feel-good atmosphere that keeps the night rolling. Expect timeless rock hits\, great vibes\, and a packed dance floor.
URL:https://exploreapexnc.com/event-single-post-name/8-track-minds-live-retro-party-night-at-the-backyard-bar/
LOCATION:The Backyard Bar\, 2901 US-64\, Apex\, N\, 27523\, United States
ATTACH;FMTTYPE=image/jpeg:https://exploreapexnc.com/wp-content/uploads/2026/02/BA-MAR-8-TRACKMINDS-BackYardBar.jpg
ORGANIZER;CN="The Backyard Bar":MAILTO:Contact@thebackyardbarnc.com
END:VEVENT
END:VCALENDAR