BEGIN:VCALENDAR
VERSION:2.0
PRODID:-//Explore Apex - ECPv6.15.20//NONSGML v1.0//EN
CALSCALE:GREGORIAN
METHOD:PUBLISH
X-ORIGINAL-URL:https://exploreapexnc.com
X-WR-CALDESC:Events for Explore Apex
REFRESH-INTERVAL;VALUE=DURATION:PT1H
X-Robots-Tag:noindex
X-PUBLISHED-TTL:PT1H
BEGIN:VTIMEZONE
TZID:UTC
BEGIN:STANDARD
TZOFFSETFROM:+0000
TZOFFSETTO:+0000
TZNAME:UTC
DTSTART:20250101T000000
END:STANDARD
END:VTIMEZONE
BEGIN:VEVENT
DTSTART;TZID=UTC:20260307T090000
DTEND;TZID=UTC:20260307T120000
DTSTAMP:20260423T182445
CREATED:20251029T153344Z
LAST-MODIFIED:20251217T153357Z
UID:10000604-1772874000-1772884800@exploreapexnc.com
SUMMARY:Apex Farmer's Market
DESCRIPTION:Head to Downtown Apex every Saturday morning and explore the outdoor vendor booths offering fresh produce\, meat and seafood\, baked goods\, prepared items\, and handmade crafts\, jewelry\, and art. The vendors change weekly\, but many of your favorites are there on repeat! Market hours are 8 am – 12 pm (April through October)\, and 9am – 12 pm (November though March). See you there!
URL:https://exploreapexnc.com/event-single-post-name/apex-farmers-market-4/2026-03-07/
LOCATION:The Depot\, 220 N Salem Street\, Apex\, 27502\, United States
ATTACH;FMTTYPE=image/png:https://exploreapexnc.com/wp-content/uploads/2025/10/UPDATED-AFM-logo-FINAL.png
END:VEVENT
BEGIN:VEVENT
DTSTART;TZID=UTC:20260307T113000
DTEND;TZID=UTC:20260307T183000
DTSTAMP:20260423T182445
CREATED:20251208T154013Z
LAST-MODIFIED:20251208T154013Z
UID:10000710-1772883000-1772908200@exploreapexnc.com
SUMMARY:Triangle Yoga Fest 2026
DESCRIPTION:The Triangle Yoga Festival is an annual yoga festival in the heart of Apex\, NC just minutes away from Raleigh and Cary. We are coming together on Saturday\, March 7th\, 2026 for a full day of yoga\, workshops\, speakers\, and healing. This year’s theme is to feel alive. We are all united in yoga and we wanted to extend a warm welcome to our yoga community\, one that has been building since 2023. WE are thrilled to have you join us for this amazing journey\, and those who are coming back for a second time\, you are like family. We appreciate you! Can’t wait to do yoga with you all.
URL:https://exploreapexnc.com/event-single-post-name/triangle-yoga-fest-2026/
LOCATION:Apex Senior Center\, 63 Hunter Street\, Apex\, NC\, 27502\, United States
ATTACH;FMTTYPE=image/jpeg:https://exploreapexnc.com/wp-content/uploads/2025/12/BJ100010.jpg
ORGANIZER;CN="Peak Fit Events":MAILTO:info@peakfitevents.com
END:VEVENT
BEGIN:VEVENT
DTSTART;TZID=UTC:20260307T200000
DTEND;TZID=UTC:20260307T230000
DTSTAMP:20260423T182445
CREATED:20260227T191453Z
LAST-MODIFIED:20260227T191453Z
UID:10001077-1772913600-1772924400@exploreapexnc.com
SUMMARY:Radial Live: The Next Wave of Sound at The Backyard Bar
DESCRIPTION:Turn your Saturday night up a notch as Radial out of Raleigh takes over The Backyard Bar on March 7th. \nRadial delivers a high-energy mix of modern rock\, alt hits\, and crowd-favorite throwbacks that keep the dance floor moving from the first song to the last encore. Tight instrumentals\, strong vocals\, and a setlist built for a Saturday night crowd — they know how to read the room and keep the momentum going. \nIf you love live music that’s loud enough to feel but polished enough to groove to\, Radial brings that perfect balance.
URL:https://exploreapexnc.com/event-single-post-name/radial-live-the-next-wave-of-sound-at-the-backyard-bar/
LOCATION:The Backyard Bar\, 2901 US-64\, Apex\, N\, 27523\, United States
ATTACH;FMTTYPE=image/jpeg:https://exploreapexnc.com/wp-content/uploads/2026/02/BA-MAR-RADIAL-BackYardBar.jpg
ORGANIZER;CN="The Backyard Bar":MAILTO:Contact@thebackyardbarnc.com
END:VEVENT
END:VCALENDAR