BEGIN:VCALENDAR
VERSION:2.0
PRODID:-//Explore Apex - ECPv6.15.20//NONSGML v1.0//EN
CALSCALE:GREGORIAN
METHOD:PUBLISH
X-WR-CALNAME:Explore Apex
X-ORIGINAL-URL:https://exploreapexnc.com
X-WR-CALDESC:Events for Explore Apex
REFRESH-INTERVAL;VALUE=DURATION:PT1H
X-Robots-Tag:noindex
X-PUBLISHED-TTL:PT1H
BEGIN:VTIMEZONE
TZID:UTC
BEGIN:STANDARD
TZOFFSETFROM:+0000
TZOFFSETTO:+0000
TZNAME:UTC
DTSTART:20250101T000000
END:STANDARD
END:VTIMEZONE
BEGIN:VEVENT
DTSTART;TZID=UTC:20260313T200000
DTEND;TZID=UTC:20260313T230000
DTSTAMP:20260423T182645
CREATED:20260227T191538Z
LAST-MODIFIED:20260227T191538Z
UID:10001078-1773432000-1773442800@exploreapexnc.com
SUMMARY:Foo Fighters Tribute: Joe Hero at The Backyard Bar
DESCRIPTION:Joe Hero is Raleigh’s premier Foo Fighters tribute band\, delivering the raw power\, emotion\, and arena-level energy that made the Foo Fighters one of the greatest rock bands of all time. This isn’t background music. This isn’t a casual cover set. This is a full-throttle\, shout-every-word\, hands-in-the-air rock show — front to back. \nFrom the first crash of the drums to the final encore\, Joe Hero recreates the sound\, intensity\, and spirit of the Foo Fighters in a way that hits longtime fans and first-timers exactly the same: hard\, loud\, and unforgettable.
URL:https://exploreapexnc.com/event-single-post-name/foo-fighters-tribute-joe-hero-at-the-backyard-bar/
LOCATION:The Backyard Bar\, 2901 US-64\, Apex\, N\, 27523\, United States
ATTACH;FMTTYPE=image/jpeg:https://exploreapexnc.com/wp-content/uploads/2026/02/BA-MAR-JoeHero-Backyard.jpg
ORGANIZER;CN="The Backyard Bar":MAILTO:Contact@thebackyardbarnc.com
END:VEVENT
END:VCALENDAR