BEGIN:VCALENDAR
VERSION:2.0
PRODID:-//Explore Apex - ECPv6.15.20//NONSGML v1.0//EN
CALSCALE:GREGORIAN
METHOD:PUBLISH
X-WR-CALNAME:Explore Apex
X-ORIGINAL-URL:https://exploreapexnc.com
X-WR-CALDESC:Events for Explore Apex
REFRESH-INTERVAL;VALUE=DURATION:PT1H
X-Robots-Tag:noindex
X-PUBLISHED-TTL:PT1H
BEGIN:VTIMEZONE
TZID:UTC
BEGIN:STANDARD
TZOFFSETFROM:+0000
TZOFFSETTO:+0000
TZNAME:UTC
DTSTART:20250101T000000
END:STANDARD
END:VTIMEZONE
BEGIN:VEVENT
DTSTART;TZID=UTC:20260328T090000
DTEND;TZID=UTC:20260328T120000
DTSTAMP:20260423T182647
CREATED:20251029T153344Z
LAST-MODIFIED:20251217T153357Z
UID:10000607-1774688400-1774699200@exploreapexnc.com
SUMMARY:Apex Farmer's Market
DESCRIPTION:Head to Downtown Apex every Saturday morning and explore the outdoor vendor booths offering fresh produce\, meat and seafood\, baked goods\, prepared items\, and handmade crafts\, jewelry\, and art. The vendors change weekly\, but many of your favorites are there on repeat! Market hours are 8 am – 12 pm (April through October)\, and 9am – 12 pm (November though March). See you there!
URL:https://exploreapexnc.com/event-single-post-name/apex-farmers-market-4/2026-03-28/
LOCATION:The Depot\, 220 N Salem Street\, Apex\, 27502\, United States
ATTACH;FMTTYPE=image/png:https://exploreapexnc.com/wp-content/uploads/2025/10/UPDATED-AFM-logo-FINAL.png
END:VEVENT
BEGIN:VEVENT
DTSTART;TZID=UTC:20260328T090000
DTEND;TZID=UTC:20260328T170000
DTSTAMP:20260423T182647
CREATED:20260224T164532Z
LAST-MODIFIED:20260224T164532Z
UID:10001052-1774688400-1774717200@exploreapexnc.com
SUMMARY:Make-a-Wish Pickleball Tournament
DESCRIPTION:Whether you’re a pickleball pro or just looking to try something new\, grab a partner and reserve your spot for a full day of friendly competition at Peak Sports indoor pickleball facility in Apex\, NC! Paddles are available to rent if needed. \nRegistration guarantees at least 3 matches\, lunch\, and a T-shirt. Peak Sports will also offer beverages and snacks for sale. Thanks to our sponsors\, we will have numerous prizes going out to the winners of all skill levels\, as well as raffle gifts along the way. \nYou won’t want to miss out on this one-of-a-kind event. Spots are limited\, so don’t wait! All proceeds will be donated to Make-A-Wish Eastern North Carolina to support children fighting critical illnesses.
URL:https://exploreapexnc.com/event-single-post-name/make-a-wish-pickleball-tournament/
LOCATION:Peak Sports\, 2126 Energy Dr\, Apex\, NC\, 27502\, United States
ATTACH;FMTTYPE=image/png:https://exploreapexnc.com/wp-content/uploads/2026/02/MAW-Flyer-QR-Code.png
ORGANIZER;CN="Campbell University PA Program":MAILTO:edcrow0725@email.campbell.edu
END:VEVENT
BEGIN:VEVENT
DTSTART;TZID=UTC:20260328T150000
DTEND;TZID=UTC:20260328T170000
DTSTAMP:20260423T182647
CREATED:20260114T153946Z
LAST-MODIFIED:20260114T153946Z
UID:10000890-1774710000-1774717200@exploreapexnc.com
SUMMARY:Crafter-noon @ Bottle Theory!
DESCRIPTION:Bottle Theory presents… Crafter-noon! ✂🎨 \nThe 4th Saturday of every month we will open our space to those looking to get creative\, meet fellow crafters\, and sip on great beverages! Please note\, we are not leading the craft session. However if you are interested in leading a craft for one of the afternoons\, please reach out to us and we would love to acommodate! \nPlease bring some supplies (such as coloring\, knitting\,\nwatercolor\, etc)\, and we will provide items like corks\,\nbottles\, and cardboard. 🍾 \nLet the creative juices (and the good drinks) flow\, and\nlet’s create something beautiful!! 🖌
URL:https://exploreapexnc.com/event-single-post-name/crafter-noon-bottle-theory/2026-03-28/
LOCATION:Bottle Theory\, 3675 W Green Level Rd\, Apex\, NC\, 27523\, United States
ATTACH;FMTTYPE=image/png:https://exploreapexnc.com/wp-content/uploads/2026/01/Crafternoon-Social-Post-1.png
ORGANIZER;CN="Bottle Theory":MAILTO:events@apexbottletheory.com
END:VEVENT
BEGIN:VEVENT
DTSTART;TZID=UTC:20260328T173000
DTEND;TZID=UTC:20260328T210000
DTSTAMP:20260423T182647
CREATED:20260312T175336Z
LAST-MODIFIED:20260312T175336Z
UID:10001133-1774719000-1774731600@exploreapexnc.com
SUMMARY:Parents' Night Out at Rock Solid Warrior South Apex
DESCRIPTION:Saturday\, March 28th | 5:30-9:00pm | Parents’ Night Out! \nDrop your kids off for a fun-filled evening of ninja action\, games\, and dinner—including pizza\, fruit\, chips\, and dessert! We’ll keep them moving with ninja challenges\, group games\, and tons of fun.\nAges: 5–12\nTime: Drop-off starts at 5:30 PM (no early drop-offs\, please!)\nSibling Discounts Available: Be sure to purchase sibling passes on our web site first to get the full discount.\nThese events usually fill up fast\, so don’t wait—grab your spot today! \nSign up here!\nrocksolidwarriorsouthapex.pike13.com/e/287177256?return_to=/schedule
URL:https://exploreapexnc.com/event-single-post-name/parents-night-out-at-rock-solid-warrior-south-apex/
LOCATION:NC
ATTACH;FMTTYPE=image/jpeg:https://exploreapexnc.com/wp-content/uploads/2026/03/South-Apex-2.jpg
END:VEVENT
BEGIN:VEVENT
DTSTART;TZID=UTC:20260328T200000
DTEND;TZID=UTC:20260328T230000
DTSTAMP:20260423T182647
CREATED:20260227T192201Z
LAST-MODIFIED:20260227T192201Z
UID:10001080-1774728000-1774738800@exploreapexnc.com
SUMMARY:Backyard Blues Night with The Amazing Lounge Lizards
DESCRIPTION:Get ready for a night of smooth grooves\, throwback favorites\, and high-energy dance hits as The Amazing Lounge Lizards take over The Backyard Bar on Saturday\, March 28. \nKnown for their versatile sound and crowd-pleasing style\, The Amazing Lounge Lizards blend rock\, funk\, soul\, and pop into a setlist that keeps the dance floor packed. From classic hits you can sing along to\, to upbeat party anthems that bring the energy up\, this band knows how to read a room and keep it moving. \nWhether you’re coming for the music\, the atmosphere\, or just a fun Saturday night out in Apex\, this is the perfect excuse to grab your crew and hit the dance floor. \nPet-friendly patio. \nSaturday nights are meant for live music — and The Amazing Lounge Lizards deliver.
URL:https://exploreapexnc.com/event-single-post-name/backyard-blues-night-with-the-amazing-lounge-lizards/
LOCATION:The Backyard Bar\, 2901 US-64\, Apex\, N\, 27523\, United States
ATTACH;FMTTYPE=image/jpeg:https://exploreapexnc.com/wp-content/uploads/2026/02/BA-MAR-AMAZINGLOUNGELIZARDS-BackYardBar.jpg
ORGANIZER;CN="The Backyard Bar":MAILTO:Contact@thebackyardbarnc.com
END:VEVENT
END:VCALENDAR