BEGIN:VCALENDAR
VERSION:2.0
PRODID:-//Explore Apex - ECPv6.15.20//NONSGML v1.0//EN
CALSCALE:GREGORIAN
METHOD:PUBLISH
X-ORIGINAL-URL:https://exploreapexnc.com
X-WR-CALDESC:Events for Explore Apex
REFRESH-INTERVAL;VALUE=DURATION:PT1H
X-Robots-Tag:noindex
X-PUBLISHED-TTL:PT1H
BEGIN:VTIMEZONE
TZID:America/New_York
BEGIN:DAYLIGHT
TZOFFSETFROM:-0500
TZOFFSETTO:-0400
TZNAME:EDT
DTSTART:20250309T070000
END:DAYLIGHT
BEGIN:STANDARD
TZOFFSETFROM:-0400
TZOFFSETTO:-0500
TZNAME:EST
DTSTART:20251102T060000
END:STANDARD
BEGIN:DAYLIGHT
TZOFFSETFROM:-0500
TZOFFSETTO:-0400
TZNAME:EDT
DTSTART:20260308T070000
END:DAYLIGHT
BEGIN:STANDARD
TZOFFSETFROM:-0400
TZOFFSETTO:-0500
TZNAME:EST
DTSTART:20261101T060000
END:STANDARD
BEGIN:DAYLIGHT
TZOFFSETFROM:-0500
TZOFFSETTO:-0400
TZNAME:EDT
DTSTART:20270314T070000
END:DAYLIGHT
BEGIN:STANDARD
TZOFFSETFROM:-0400
TZOFFSETTO:-0500
TZNAME:EST
DTSTART:20271107T060000
END:STANDARD
END:VTIMEZONE
BEGIN:VTIMEZONE
TZID:UTC
BEGIN:STANDARD
TZOFFSETFROM:+0000
TZOFFSETTO:+0000
TZNAME:UTC
DTSTART:20250101T000000
END:STANDARD
END:VTIMEZONE
BEGIN:VEVENT
DTSTART;TZID=America/New_York:20260402T183000
DTEND;TZID=America/New_York:20260402T203000
DTSTAMP:20260423T170223
CREATED:20260311T185302Z
LAST-MODIFIED:20260311T185302Z
UID:10001097-1775154600-1775161800@exploreapexnc.com
SUMMARY:Hoppy Easter Cookie Decorating Workshop with AM Bakery - 4/2/26
DESCRIPTION:Spring has sprung! Join us for this adorable Hoppy Easter Cookie Decorating Workshop. \nDo you want to learn the basics of decorating sugar cookies and have lots of fun while doing it? If so\, then this class is perfect for you!! You will practice basic piping and filling techniques and will walk away with these 6 beautifully decorated cookies. You don’t need any experience working with sugar cookies in the past! All supplies will be provided. \nHere’s what’s included:\n• We will decorate 6 pre-baked cookies.\n• We will learn how to outline & flood cookies like a pro!\n• We will incorporate some design specific cookie decorating techniques\n• All attendees will receive a copy of a Sugar Cookie & Royal Icing Recipe\n• All tools & materials will be provided for class use\n• Swag (a small surprise gift for each attendee) \nOne workshop ticket is required per person attending. Workshop will be capped at 16 participants with a minimum of 6 participants. You may bring in drinks (wine/beer are okay!) and snacks. \nLast day to purchase a workshop ticket will be 4/1/26.
URL:https://exploreapexnc.com/event-single-post-name/hoppy-easter-cookie-decorating-workshop-with-am-bakery-4-2-26/
LOCATION:Adventures in Bloom\, 110 N Salem Street\, Apex\, 27502\, United States
ATTACH;FMTTYPE=image/png:https://exploreapexnc.com/wp-content/uploads/2026/03/Stamping-2000-x-2000-px-585-x-440-px-13.png
ORGANIZER;CN="Adventures in Bloom":MAILTO:adventuresinbloom@gmail.com
END:VEVENT
BEGIN:VEVENT
DTSTART;TZID=UTC:20260402T190000
DTEND;TZID=UTC:20260402T210000
DTSTAMP:20260423T170223
CREATED:20260113T160429Z
LAST-MODIFIED:20260113T160429Z
UID:10000886-1775156400-1775163600@exploreapexnc.com
SUMMARY:Thursday Night Movie
DESCRIPTION:Join us on the first Thursday of every month for a free movie geared for teens & adults!\nReservations and tickets are not required.  \nMovies start at 7pm. (No previews) \n\nFebruary 5\nMarch 5\nApril 2\n\nCall (919) 249-1120 for this month’s movie title or join our email list here!
URL:https://exploreapexnc.com/event-single-post-name/thursday-night-movie/2026-04-02/
LOCATION:The Halle Cultural Arts Center\, 237 N. Salem Street\, Apex\, N\, 27502\, United States
ATTACH;FMTTYPE=image/png:https://exploreapexnc.com/wp-content/uploads/2026/01/Document.png
END:VEVENT
END:VCALENDAR