BEGIN:VCALENDAR
VERSION:2.0
PRODID:-//Explore Apex - ECPv6.15.20//NONSGML v1.0//EN
CALSCALE:GREGORIAN
METHOD:PUBLISH
X-WR-CALNAME:Explore Apex
X-ORIGINAL-URL:https://exploreapexnc.com
X-WR-CALDESC:Events for Explore Apex
REFRESH-INTERVAL;VALUE=DURATION:PT1H
X-Robots-Tag:noindex
X-PUBLISHED-TTL:PT1H
BEGIN:VTIMEZONE
TZID:America/New_York
BEGIN:DAYLIGHT
TZOFFSETFROM:-0500
TZOFFSETTO:-0400
TZNAME:EDT
DTSTART:20250309T070000
END:DAYLIGHT
BEGIN:STANDARD
TZOFFSETFROM:-0400
TZOFFSETTO:-0500
TZNAME:EST
DTSTART:20251102T060000
END:STANDARD
BEGIN:DAYLIGHT
TZOFFSETFROM:-0500
TZOFFSETTO:-0400
TZNAME:EDT
DTSTART:20260308T070000
END:DAYLIGHT
BEGIN:STANDARD
TZOFFSETFROM:-0400
TZOFFSETTO:-0500
TZNAME:EST
DTSTART:20261101T060000
END:STANDARD
BEGIN:DAYLIGHT
TZOFFSETFROM:-0500
TZOFFSETTO:-0400
TZNAME:EDT
DTSTART:20270314T070000
END:DAYLIGHT
BEGIN:STANDARD
TZOFFSETFROM:-0400
TZOFFSETTO:-0500
TZNAME:EST
DTSTART:20271107T060000
END:STANDARD
END:VTIMEZONE
BEGIN:VEVENT
DTSTART;TZID=America/New_York:20260409T183000
DTEND;TZID=America/New_York:20260409T203000
DTSTAMP:20260423T170112
CREATED:20260311T191120Z
LAST-MODIFIED:20260311T191120Z
UID:10001099-1775759400-1775766600@exploreapexnc.com
SUMMARY:Paint Your Pet Workshop with Heather Eck - 4/9/26
DESCRIPTION:Join us for a fun night out at our Paint Your Pet workshop! This private paint class teaches you how to take your fur baby from photo to original artwork created by you! \nHeather will bring all of the supplies and will guide you step by step through painting your purr-fect pet because she’s already prepared the canvas for you. \nNo painting experience is required – Heather provides all the materials and traces your pet’s photo on the canvas before you arrive. It’s the perfect opportunity to create a personalized piece of art and make memories with friends. \nDon’t miss out on this unique and entertaining experience! You’ll leave with an 11×14 painted canvas + a sweet little treat to take home to your furbaby. \nWorkshop will be capped at 12 participants and has a minimum of 6 participants. One ticket per person is required. You may bring drinks (wine/beer are okay!) and snacks. \nLast day to purchase a workshop ticket is 4/7/26.
URL:https://exploreapexnc.com/event-single-post-name/paint-your-pet-workshop-with-heather-eck-4-9-26/
LOCATION:Adventures in Bloom\, 110 N Salem Street\, Apex\, 27502\, United States
ATTACH;FMTTYPE=image/png:https://exploreapexnc.com/wp-content/uploads/2026/03/Stamping-2000-x-2000-px-585-x-440-px-15.png
ORGANIZER;CN="Adventures in Bloom":MAILTO:adventuresinbloom@gmail.com
END:VEVENT
END:VCALENDAR