BEGIN:VCALENDAR
VERSION:2.0
PRODID:-//Explore Apex - ECPv6.15.20//NONSGML v1.0//EN
CALSCALE:GREGORIAN
METHOD:PUBLISH
X-ORIGINAL-URL:https://exploreapexnc.com
X-WR-CALDESC:Events for Explore Apex
REFRESH-INTERVAL;VALUE=DURATION:PT1H
X-Robots-Tag:noindex
X-PUBLISHED-TTL:PT1H
BEGIN:VTIMEZONE
TZID:UTC
BEGIN:STANDARD
TZOFFSETFROM:+0000
TZOFFSETTO:+0000
TZNAME:UTC
DTSTART:20250101T000000
END:STANDARD
END:VTIMEZONE
BEGIN:VEVENT
DTSTART;TZID=UTC:20260411T110000
DTEND;TZID=UTC:20260412T210000
DTSTAMP:20260423T170229
CREATED:20260402T141440Z
LAST-MODIFIED:20260402T141440Z
UID:10001247-1775905200-1776027600@exploreapexnc.com
SUMMARY:Peak City Pig Fest
DESCRIPTION:Peak City Pig Fest is an annual two-day event hosted by the Apex Sunrise Rotary Club. This year’s event features a new location at Town Hall Campus with food trucks\, a kids area\, a beer garden\, Police vs Fire rib eating contest Friday night\, live music\, and more! Check out the details at www.peakcitypigfest.com\n📅 Friday\, April 10th from 5 pm – 10 pm & Saturday\, April 11th from 11 am to 9 pm\n📍 This event takes place on Apex Town Hall Campus\, 73 Hunter St\n🚧 There are no road closures for this event\, however\, Town Hall parking lot will be closed to all vehicle traffic beginning Thursday\, April 9th at 6:30 pm and will remain closed until Saturday\, April 11th at 11:00 pm\n🚗 So where do you park? This map may help: www.apexnc.org/downtownparking
URL:https://exploreapexnc.com/event-single-post-name/peak-city-pig-fest-2/2026-04-11/
LOCATION:Apex Town Campus\, 73 Hunter Street\, Apex\, NC\, 27502\, United States
ATTACH;FMTTYPE=image/jpeg:https://exploreapexnc.com/wp-content/uploads/2026/04/2023-Pig-Fest-107-scaled-1.jpg
END:VEVENT
BEGIN:VEVENT
DTSTART;TZID=UTC:20260411T190000
DTEND;TZID=UTC:20260411T203000
DTSTAMP:20260423T170230
CREATED:20260401T174050Z
LAST-MODIFIED:20260401T174050Z
UID:10001241-1775934000-1775939400@exploreapexnc.com
SUMMARY:Sunset Concert At Sweetwater Town Center
DESCRIPTION:Mark your calendar for Saturday\, April 11th at 7pm! As the sun sets\, let the stage come alive with the powerhouse vocals of Niki Haris—a dynamic singer\, dancer\, actress\, and choreographer. The daughter of Grammy-nominated jazz legend Gene Harris\, Niki has captivated audiences worldwide with her unforgettable voice for nearly two decades. From international jazz festivals to Blue Note at Sea\, her star shines bright. \nFor this special night\, she is joined by the acclaimed Christian Tamburr Quartet—an extraordinary acoustic group celebrated for stunning performances at iconic venues like Lincoln Center and the Kennedy Center. This is a free\, unforgettable concert experience you can’t afford to miss! \nBring your family\, grab your chairs and blanket (no coolers\, please) and get ready to soak in the vibrant sounds of jazz under the stars at this unforgettable free concert! \nSaturday\, April 11th\, beginning at 7pm \nSweetwater Town Center\n1481 Richardson Rd\, Apex\, NC 27523
URL:https://exploreapexnc.com/event-single-post-name/sunset-concert-at-sweetwater-town-center/
LOCATION:Sweetwater Town Center\, 1481 Richardson Rd\, Apex\, North Carolina\, 27523
ATTACH;FMTTYPE=image/png:https://exploreapexnc.com/wp-content/uploads/2026/04/Sunset-Concert-at-Sweetwater-Niki-Haris-scaled.png
END:VEVENT
END:VCALENDAR