BEGIN:VCALENDAR
VERSION:2.0
PRODID:-//Explore Apex - ECPv6.15.20//NONSGML v1.0//EN
CALSCALE:GREGORIAN
METHOD:PUBLISH
X-ORIGINAL-URL:https://exploreapexnc.com
X-WR-CALDESC:Events for Explore Apex
REFRESH-INTERVAL;VALUE=DURATION:PT1H
X-Robots-Tag:noindex
X-PUBLISHED-TTL:PT1H
BEGIN:VTIMEZONE
TZID:UTC
BEGIN:STANDARD
TZOFFSETFROM:+0000
TZOFFSETTO:+0000
TZNAME:UTC
DTSTART:20250101T000000
END:STANDARD
END:VTIMEZONE
BEGIN:VEVENT
DTSTART;TZID=UTC:20260414T183000
DTEND;TZID=UTC:20260414T203000
DTSTAMP:20260423T170223
CREATED:20260312T180346Z
LAST-MODIFIED:20260312T180346Z
UID:10001134-1776191400-1776198600@exploreapexnc.com
SUMMARY:Ciao From Italy Featuring Salvatore Ferragamo April Wine Dinner
DESCRIPTION:Join us once again for Ciao from Italy\, a four-course dining experience that transports you to the heart of the Italian countryside. This year’s event is elevated with wines from Il Borro\, the historic Tuscan estate owned by Salvatore Ferragamo’s family\, featuring their Super Tuscan and Borriginao Toscana selections. From the first pour to the final course\, it’s an evening meant to be savored – no passport required. Come join us for a night of delicious food and wine\, meet new friends and enjoy our fun atmosphere and raffle prizes! This dinner of perfectly paired wine pours and entrees is featured on 4/14 & 4/22 at 6:30pm
URL:https://exploreapexnc.com/event-single-post-name/ciao-from-italy-featuring-salvatore-ferragamo-april-wine-dinner/2026-04-14/
LOCATION:Carrabbas Italian Grill\, 1201 Haddon Hall Dr. Apex 27502\, Apex\, NC\, 27502\, United States
ATTACH;FMTTYPE=image/jpeg:https://exploreapexnc.com/wp-content/uploads/2026/03/ciaofromitalyback.jpeg
ORGANIZER;CN="Carrabbas Italian Grill":MAILTO:ca8412@carrabbas.com
END:VEVENT
END:VCALENDAR