BEGIN:VCALENDAR
VERSION:2.0
PRODID:-//Explore Apex - ECPv6.15.20//NONSGML v1.0//EN
CALSCALE:GREGORIAN
METHOD:PUBLISH
X-WR-CALNAME:Explore Apex
X-ORIGINAL-URL:https://exploreapexnc.com
X-WR-CALDESC:Events for Explore Apex
REFRESH-INTERVAL;VALUE=DURATION:PT1H
X-Robots-Tag:noindex
X-PUBLISHED-TTL:PT1H
BEGIN:VTIMEZONE
TZID:UTC
BEGIN:STANDARD
TZOFFSETFROM:+0000
TZOFFSETTO:+0000
TZNAME:UTC
DTSTART:20250101T000000
END:STANDARD
END:VTIMEZONE
BEGIN:VTIMEZONE
TZID:America/New_York
BEGIN:DAYLIGHT
TZOFFSETFROM:-0500
TZOFFSETTO:-0400
TZNAME:EDT
DTSTART:20250309T070000
END:DAYLIGHT
BEGIN:STANDARD
TZOFFSETFROM:-0400
TZOFFSETTO:-0500
TZNAME:EST
DTSTART:20251102T060000
END:STANDARD
BEGIN:DAYLIGHT
TZOFFSETFROM:-0500
TZOFFSETTO:-0400
TZNAME:EDT
DTSTART:20260308T070000
END:DAYLIGHT
BEGIN:STANDARD
TZOFFSETFROM:-0400
TZOFFSETTO:-0500
TZNAME:EST
DTSTART:20261101T060000
END:STANDARD
BEGIN:DAYLIGHT
TZOFFSETFROM:-0500
TZOFFSETTO:-0400
TZNAME:EDT
DTSTART:20270314T070000
END:DAYLIGHT
BEGIN:STANDARD
TZOFFSETFROM:-0400
TZOFFSETTO:-0500
TZNAME:EST
DTSTART:20271107T060000
END:STANDARD
END:VTIMEZONE
BEGIN:VEVENT
DTSTART;VALUE=DATE:20260424
DTEND;VALUE=DATE:20260427
DTSTAMP:20260423T170050
CREATED:20260416T183910Z
LAST-MODIFIED:20260416T183910Z
UID:10001545-1776988800-1777247999@exploreapexnc.com
SUMMARY:RDU Book Crawl
DESCRIPTION:The RDU Book Crawl is a weekend long event celebrating independent bookstores across the Raleigh-Durham area. Participants are encouraged to visit as many participating bookstores as they can during the crawl. \n1. Plan Your Crawl\nCheck out the list of participating bookstores and use the interactive map to plan your route across the Triangle. \n2. Visit Participating Bookstores\nStop by any of the bookstores on the crawl during the event weekend. Each shop will have a special stamp for participants. Each location will have plenty of passports for you to pick up! \n3. Collect Stamps\nBring your Book Crawl passport and collect a stamp at each bookstore you visit. 1 stamp = 1 raffle ticket \n4. Discover New Reads\nBrowse shelves\, meet fellow readers\, and support independent bookstores while exploring new books. \nPost along the way and tag @rdubookcrawl to show us your journey! \n5. Enter the Raffle\nFill out the form on our “Enter Raffle” tab to be entered into a raffle for prizes donated by all of the participating bookstores. \nThose who complete all 10 bookstores will be entered to win the 1st place prize!\nAll other participants will be added to the general raffle for 2nd and 3rd
URL:https://exploreapexnc.com/event-single-post-name/rdu-book-crawl/
LOCATION:Alleyway Bookstore\, 116 N Salem St\, Apex\, NC\, 27502\, United States
ATTACH;FMTTYPE=image/png:https://exploreapexnc.com/wp-content/uploads/2026/04/Screenshot-2026-04-16-at-8.10.20-AM.png
END:VEVENT
BEGIN:VEVENT
DTSTART;TZID=America/New_York:20260426T100000
DTEND;TZID=America/New_York:20260426T120000
DTSTAMP:20260423T170050
CREATED:20260311T184838Z
LAST-MODIFIED:20260311T184838Z
UID:10001096-1777197600-1777204800@exploreapexnc.com
SUMMARY:Spring Florals Wine Glass Painting Workshop with Heather Eck - Sunday 4/26/26
DESCRIPTION:Paint a Floral Stemless Wine Glass (Take Home Two!) \nSlow down\, get creative\, and paint something beautiful you’ll actually use. In this hands-on workshop\, you’ll learn how to paint a soft\, layered floral design on two stemless wine glasses\, inspired by spring gardens and wild blooms. Heather will guide you step-by-step through brush techniques\, color layering\, and simple floral shapes that look organic and expressive. No experience or perfect brush strokes required. \nThis class is beginner-friendly and designed to feel relaxed\, playful\, and grounding. You’ll leave with two hand-painted glasses that feel personal\, joyful\, and gift-worthy (or perfect to keep for yourself). \nWhat’s included\nTwo stemless wine glasses to paint and take home\nAll paints\, brushes\, and materials\nGuided instruction and floral painting techniques\nA cozy\, creative atmosphere with room to explore your own style\n$5 store credit to use at Adventures in Bloom! \nNo prior painting experience needed. Just come as you are and let yourself enjoy the process. \nOne workshop ticket is required per person attending. Workshop will be capped at 12 participants with a minimum of 6 participants. You may bring in drinks (wine/beer are okay!) and snacks. \nLast day to purchase a workshop ticket will be 4/25/26
URL:https://exploreapexnc.com/event-single-post-name/spring-florals-wine-glass-painting-workshop-with-heather-eck-sunday-4-26-26/
LOCATION:Adventures in Bloom\, 110 N Salem Street\, Apex\, 27502\, United States
ATTACH;FMTTYPE=image/png:https://exploreapexnc.com/wp-content/uploads/2026/03/Stamping-2000-x-2000-px-585-x-440-px-14.png
ORGANIZER;CN="Adventures in Bloom":MAILTO:adventuresinbloom@gmail.com
END:VEVENT
BEGIN:VEVENT
DTSTART;TZID=UTC:20260426T110000
DTEND;TZID=UTC:20260426T160000
DTSTAMP:20260423T170050
CREATED:20260323T152449Z
LAST-MODIFIED:20260323T152707Z
UID:10001189-1777201200-1777219200@exploreapexnc.com
SUMMARY:Love Local Showcase
DESCRIPTION:Experience the beauty of downtown Apex with the Apex Love Local Showcase! Spend the afternoon exploring Apex small businesses all in one convenient destination. Downtown and non-Downtown businesses will team up to showcase what they offer—featuring samples\, swag\, and special promotions. Come enjoy the vibrant atmosphere\, discover new favorites\, and take advantage of exclusive promotions throughout the Showcase.
URL:https://exploreapexnc.com/event-single-post-name/love-local-showcase-2/
LOCATION:Downtown Apex\, 220 N Salem Street\, Apex\, NC\, 27502\, United States
ATTACH;FMTTYPE=image/png:https://exploreapexnc.com/wp-content/uploads/2026/03/Spring-LLS-FB-Event.png
ORGANIZER;CN="Apex Economic Development":MAILTO:Colleen.Merays@apexnc.org
END:VEVENT
END:VCALENDAR