BEGIN:VCALENDAR
VERSION:2.0
PRODID:-//Explore Apex - ECPv6.15.20//NONSGML v1.0//EN
CALSCALE:GREGORIAN
METHOD:PUBLISH
X-WR-CALNAME:Explore Apex
X-ORIGINAL-URL:https://exploreapexnc.com
X-WR-CALDESC:Events for Explore Apex
REFRESH-INTERVAL;VALUE=DURATION:PT1H
X-Robots-Tag:noindex
X-PUBLISHED-TTL:PT1H
BEGIN:VTIMEZONE
TZID:UTC
BEGIN:STANDARD
TZOFFSETFROM:+0000
TZOFFSETTO:+0000
TZNAME:UTC
DTSTART:20290101T000000
END:STANDARD
END:VTIMEZONE
BEGIN:VEVENT
DTSTART;TZID=UTC:20300112T080000
DTEND;TZID=UTC:20300112T120000
DTSTAMP:20260425T110457
CREATED:20260414T171018Z
LAST-MODIFIED:20260414T171018Z
UID:10001471-1894435200-1894449600@exploreapexnc.com
SUMMARY:Apex Farmers Market
DESCRIPTION:Head to Downtown Apex every Saturday morning and explore the outdoor vendor booths offering fresh produce\, meat and seafood\, baked goods\, prepared items\, and handmade crafts\, jewelry\, and art. The vendors change weekly\, but many of your favorites are there on repeat! Market hours are 8 am – 12 pm (April through October)\, and 9am – 12 pm (November though March). See you there!
URL:https://exploreapexnc.com/event-single-post-name/apex-farmers-market-5/2030-01-12/
ATTACH;FMTTYPE=image/png:https://exploreapexnc.com/wp-content/uploads/2026/04/Screenshot-2026-04-08-123450.png
END:VEVENT
BEGIN:VEVENT
DTSTART;TZID=UTC:20300119T080000
DTEND;TZID=UTC:20300119T120000
DTSTAMP:20260425T110457
CREATED:20260414T171018Z
LAST-MODIFIED:20260414T171018Z
UID:10001472-1895040000-1895054400@exploreapexnc.com
SUMMARY:Apex Farmers Market
DESCRIPTION:Head to Downtown Apex every Saturday morning and explore the outdoor vendor booths offering fresh produce\, meat and seafood\, baked goods\, prepared items\, and handmade crafts\, jewelry\, and art. The vendors change weekly\, but many of your favorites are there on repeat! Market hours are 8 am – 12 pm (April through October)\, and 9am – 12 pm (November though March). See you there!
URL:https://exploreapexnc.com/event-single-post-name/apex-farmers-market-5/2030-01-19/
ATTACH;FMTTYPE=image/png:https://exploreapexnc.com/wp-content/uploads/2026/04/Screenshot-2026-04-08-123450.png
END:VEVENT
BEGIN:VEVENT
DTSTART;TZID=UTC:20300126T080000
DTEND;TZID=UTC:20300126T120000
DTSTAMP:20260425T110457
CREATED:20260414T171018Z
LAST-MODIFIED:20260414T171018Z
UID:10001473-1895644800-1895659200@exploreapexnc.com
SUMMARY:Apex Farmers Market
DESCRIPTION:Head to Downtown Apex every Saturday morning and explore the outdoor vendor booths offering fresh produce\, meat and seafood\, baked goods\, prepared items\, and handmade crafts\, jewelry\, and art. The vendors change weekly\, but many of your favorites are there on repeat! Market hours are 8 am – 12 pm (April through October)\, and 9am – 12 pm (November though March). See you there!
URL:https://exploreapexnc.com/event-single-post-name/apex-farmers-market-5/2030-01-26/
ATTACH;FMTTYPE=image/png:https://exploreapexnc.com/wp-content/uploads/2026/04/Screenshot-2026-04-08-123450.png
END:VEVENT
BEGIN:VEVENT
DTSTART;TZID=UTC:20300202T080000
DTEND;TZID=UTC:20300202T120000
DTSTAMP:20260425T110457
CREATED:20260414T171018Z
LAST-MODIFIED:20260414T171018Z
UID:10001474-1896249600-1896264000@exploreapexnc.com
SUMMARY:Apex Farmers Market
DESCRIPTION:Head to Downtown Apex every Saturday morning and explore the outdoor vendor booths offering fresh produce\, meat and seafood\, baked goods\, prepared items\, and handmade crafts\, jewelry\, and art. The vendors change weekly\, but many of your favorites are there on repeat! Market hours are 8 am – 12 pm (April through October)\, and 9am – 12 pm (November though March). See you there!
URL:https://exploreapexnc.com/event-single-post-name/apex-farmers-market-5/2030-02-02/
ATTACH;FMTTYPE=image/png:https://exploreapexnc.com/wp-content/uploads/2026/04/Screenshot-2026-04-08-123450.png
END:VEVENT
BEGIN:VEVENT
DTSTART;TZID=UTC:20300209T080000
DTEND;TZID=UTC:20300209T120000
DTSTAMP:20260425T110457
CREATED:20260414T171018Z
LAST-MODIFIED:20260414T171018Z
UID:10001475-1896854400-1896868800@exploreapexnc.com
SUMMARY:Apex Farmers Market
DESCRIPTION:Head to Downtown Apex every Saturday morning and explore the outdoor vendor booths offering fresh produce\, meat and seafood\, baked goods\, prepared items\, and handmade crafts\, jewelry\, and art. The vendors change weekly\, but many of your favorites are there on repeat! Market hours are 8 am – 12 pm (April through October)\, and 9am – 12 pm (November though March). See you there!
URL:https://exploreapexnc.com/event-single-post-name/apex-farmers-market-5/2030-02-09/
ATTACH;FMTTYPE=image/png:https://exploreapexnc.com/wp-content/uploads/2026/04/Screenshot-2026-04-08-123450.png
END:VEVENT
BEGIN:VEVENT
DTSTART;TZID=UTC:20300216T080000
DTEND;TZID=UTC:20300216T120000
DTSTAMP:20260425T110457
CREATED:20260414T171018Z
LAST-MODIFIED:20260414T171018Z
UID:10001476-1897459200-1897473600@exploreapexnc.com
SUMMARY:Apex Farmers Market
DESCRIPTION:Head to Downtown Apex every Saturday morning and explore the outdoor vendor booths offering fresh produce\, meat and seafood\, baked goods\, prepared items\, and handmade crafts\, jewelry\, and art. The vendors change weekly\, but many of your favorites are there on repeat! Market hours are 8 am – 12 pm (April through October)\, and 9am – 12 pm (November though March). See you there!
URL:https://exploreapexnc.com/event-single-post-name/apex-farmers-market-5/2030-02-16/
ATTACH;FMTTYPE=image/png:https://exploreapexnc.com/wp-content/uploads/2026/04/Screenshot-2026-04-08-123450.png
END:VEVENT
BEGIN:VEVENT
DTSTART;TZID=UTC:20300223T080000
DTEND;TZID=UTC:20300223T120000
DTSTAMP:20260425T110457
CREATED:20260414T171018Z
LAST-MODIFIED:20260414T171018Z
UID:10001477-1898064000-1898078400@exploreapexnc.com
SUMMARY:Apex Farmers Market
DESCRIPTION:Head to Downtown Apex every Saturday morning and explore the outdoor vendor booths offering fresh produce\, meat and seafood\, baked goods\, prepared items\, and handmade crafts\, jewelry\, and art. The vendors change weekly\, but many of your favorites are there on repeat! Market hours are 8 am – 12 pm (April through October)\, and 9am – 12 pm (November though March). See you there!
URL:https://exploreapexnc.com/event-single-post-name/apex-farmers-market-5/2030-02-23/
ATTACH;FMTTYPE=image/png:https://exploreapexnc.com/wp-content/uploads/2026/04/Screenshot-2026-04-08-123450.png
END:VEVENT
BEGIN:VEVENT
DTSTART;TZID=UTC:20300302T080000
DTEND;TZID=UTC:20300302T120000
DTSTAMP:20260425T110457
CREATED:20260414T171018Z
LAST-MODIFIED:20260414T171018Z
UID:10001478-1898668800-1898683200@exploreapexnc.com
SUMMARY:Apex Farmers Market
DESCRIPTION:Head to Downtown Apex every Saturday morning and explore the outdoor vendor booths offering fresh produce\, meat and seafood\, baked goods\, prepared items\, and handmade crafts\, jewelry\, and art. The vendors change weekly\, but many of your favorites are there on repeat! Market hours are 8 am – 12 pm (April through October)\, and 9am – 12 pm (November though March). See you there!
URL:https://exploreapexnc.com/event-single-post-name/apex-farmers-market-5/2030-03-02/
ATTACH;FMTTYPE=image/png:https://exploreapexnc.com/wp-content/uploads/2026/04/Screenshot-2026-04-08-123450.png
END:VEVENT
BEGIN:VEVENT
DTSTART;TZID=UTC:20300309T080000
DTEND;TZID=UTC:20300309T120000
DTSTAMP:20260425T110457
CREATED:20260414T171018Z
LAST-MODIFIED:20260414T171018Z
UID:10001479-1899273600-1899288000@exploreapexnc.com
SUMMARY:Apex Farmers Market
DESCRIPTION:Head to Downtown Apex every Saturday morning and explore the outdoor vendor booths offering fresh produce\, meat and seafood\, baked goods\, prepared items\, and handmade crafts\, jewelry\, and art. The vendors change weekly\, but many of your favorites are there on repeat! Market hours are 8 am – 12 pm (April through October)\, and 9am – 12 pm (November though March). See you there!
URL:https://exploreapexnc.com/event-single-post-name/apex-farmers-market-5/2030-03-09/
ATTACH;FMTTYPE=image/png:https://exploreapexnc.com/wp-content/uploads/2026/04/Screenshot-2026-04-08-123450.png
END:VEVENT
BEGIN:VEVENT
DTSTART;TZID=UTC:20300316T080000
DTEND;TZID=UTC:20300316T120000
DTSTAMP:20260425T110457
CREATED:20260414T171018Z
LAST-MODIFIED:20260414T171018Z
UID:10001480-1899878400-1899892800@exploreapexnc.com
SUMMARY:Apex Farmers Market
DESCRIPTION:Head to Downtown Apex every Saturday morning and explore the outdoor vendor booths offering fresh produce\, meat and seafood\, baked goods\, prepared items\, and handmade crafts\, jewelry\, and art. The vendors change weekly\, but many of your favorites are there on repeat! Market hours are 8 am – 12 pm (April through October)\, and 9am – 12 pm (November though March). See you there!
URL:https://exploreapexnc.com/event-single-post-name/apex-farmers-market-5/2030-03-16/
ATTACH;FMTTYPE=image/png:https://exploreapexnc.com/wp-content/uploads/2026/04/Screenshot-2026-04-08-123450.png
END:VEVENT
BEGIN:VEVENT
DTSTART;TZID=UTC:20300323T080000
DTEND;TZID=UTC:20300323T120000
DTSTAMP:20260425T110457
CREATED:20260414T171018Z
LAST-MODIFIED:20260414T171018Z
UID:10001481-1900483200-1900497600@exploreapexnc.com
SUMMARY:Apex Farmers Market
DESCRIPTION:Head to Downtown Apex every Saturday morning and explore the outdoor vendor booths offering fresh produce\, meat and seafood\, baked goods\, prepared items\, and handmade crafts\, jewelry\, and art. The vendors change weekly\, but many of your favorites are there on repeat! Market hours are 8 am – 12 pm (April through October)\, and 9am – 12 pm (November though March). See you there!
URL:https://exploreapexnc.com/event-single-post-name/apex-farmers-market-5/2030-03-23/
ATTACH;FMTTYPE=image/png:https://exploreapexnc.com/wp-content/uploads/2026/04/Screenshot-2026-04-08-123450.png
END:VEVENT
BEGIN:VEVENT
DTSTART;TZID=UTC:20300330T080000
DTEND;TZID=UTC:20300330T120000
DTSTAMP:20260425T110457
CREATED:20260414T171018Z
LAST-MODIFIED:20260414T171018Z
UID:10001482-1901088000-1901102400@exploreapexnc.com
SUMMARY:Apex Farmers Market
DESCRIPTION:Head to Downtown Apex every Saturday morning and explore the outdoor vendor booths offering fresh produce\, meat and seafood\, baked goods\, prepared items\, and handmade crafts\, jewelry\, and art. The vendors change weekly\, but many of your favorites are there on repeat! Market hours are 8 am – 12 pm (April through October)\, and 9am – 12 pm (November though March). See you there!
URL:https://exploreapexnc.com/event-single-post-name/apex-farmers-market-5/2030-03-30/
ATTACH;FMTTYPE=image/png:https://exploreapexnc.com/wp-content/uploads/2026/04/Screenshot-2026-04-08-123450.png
END:VEVENT
BEGIN:VEVENT
DTSTART;TZID=UTC:20300406T080000
DTEND;TZID=UTC:20300406T120000
DTSTAMP:20260425T110457
CREATED:20260414T171018Z
LAST-MODIFIED:20260414T171018Z
UID:10001483-1901692800-1901707200@exploreapexnc.com
SUMMARY:Apex Farmers Market
DESCRIPTION:Head to Downtown Apex every Saturday morning and explore the outdoor vendor booths offering fresh produce\, meat and seafood\, baked goods\, prepared items\, and handmade crafts\, jewelry\, and art. The vendors change weekly\, but many of your favorites are there on repeat! Market hours are 8 am – 12 pm (April through October)\, and 9am – 12 pm (November though March). See you there!
URL:https://exploreapexnc.com/event-single-post-name/apex-farmers-market-5/2030-04-06/
ATTACH;FMTTYPE=image/png:https://exploreapexnc.com/wp-content/uploads/2026/04/Screenshot-2026-04-08-123450.png
END:VEVENT
BEGIN:VEVENT
DTSTART;TZID=UTC:20300413T080000
DTEND;TZID=UTC:20300413T120000
DTSTAMP:20260425T110457
CREATED:20260414T171018Z
LAST-MODIFIED:20260414T171018Z
UID:10001484-1902297600-1902312000@exploreapexnc.com
SUMMARY:Apex Farmers Market
DESCRIPTION:Head to Downtown Apex every Saturday morning and explore the outdoor vendor booths offering fresh produce\, meat and seafood\, baked goods\, prepared items\, and handmade crafts\, jewelry\, and art. The vendors change weekly\, but many of your favorites are there on repeat! Market hours are 8 am – 12 pm (April through October)\, and 9am – 12 pm (November though March). See you there!
URL:https://exploreapexnc.com/event-single-post-name/apex-farmers-market-5/2030-04-13/
ATTACH;FMTTYPE=image/png:https://exploreapexnc.com/wp-content/uploads/2026/04/Screenshot-2026-04-08-123450.png
END:VEVENT
BEGIN:VEVENT
DTSTART;TZID=UTC:20300420T080000
DTEND;TZID=UTC:20300420T120000
DTSTAMP:20260425T110457
CREATED:20260414T171018Z
LAST-MODIFIED:20260414T171018Z
UID:10001485-1902902400-1902916800@exploreapexnc.com
SUMMARY:Apex Farmers Market
DESCRIPTION:Head to Downtown Apex every Saturday morning and explore the outdoor vendor booths offering fresh produce\, meat and seafood\, baked goods\, prepared items\, and handmade crafts\, jewelry\, and art. The vendors change weekly\, but many of your favorites are there on repeat! Market hours are 8 am – 12 pm (April through October)\, and 9am – 12 pm (November though March). See you there!
URL:https://exploreapexnc.com/event-single-post-name/apex-farmers-market-5/2030-04-20/
ATTACH;FMTTYPE=image/png:https://exploreapexnc.com/wp-content/uploads/2026/04/Screenshot-2026-04-08-123450.png
END:VEVENT
BEGIN:VEVENT
DTSTART;TZID=UTC:20300427T080000
DTEND;TZID=UTC:20300427T120000
DTSTAMP:20260425T110457
CREATED:20260414T171018Z
LAST-MODIFIED:20260414T171018Z
UID:10001486-1903507200-1903521600@exploreapexnc.com
SUMMARY:Apex Farmers Market
DESCRIPTION:Head to Downtown Apex every Saturday morning and explore the outdoor vendor booths offering fresh produce\, meat and seafood\, baked goods\, prepared items\, and handmade crafts\, jewelry\, and art. The vendors change weekly\, but many of your favorites are there on repeat! Market hours are 8 am – 12 pm (April through October)\, and 9am – 12 pm (November though March). See you there!
URL:https://exploreapexnc.com/event-single-post-name/apex-farmers-market-5/2030-04-27/
ATTACH;FMTTYPE=image/png:https://exploreapexnc.com/wp-content/uploads/2026/04/Screenshot-2026-04-08-123450.png
END:VEVENT
BEGIN:VEVENT
DTSTART;TZID=UTC:20300504T080000
DTEND;TZID=UTC:20300504T120000
DTSTAMP:20260425T110457
CREATED:20260414T171018Z
LAST-MODIFIED:20260414T171018Z
UID:10001487-1904112000-1904126400@exploreapexnc.com
SUMMARY:Apex Farmers Market
DESCRIPTION:Head to Downtown Apex every Saturday morning and explore the outdoor vendor booths offering fresh produce\, meat and seafood\, baked goods\, prepared items\, and handmade crafts\, jewelry\, and art. The vendors change weekly\, but many of your favorites are there on repeat! Market hours are 8 am – 12 pm (April through October)\, and 9am – 12 pm (November though March). See you there!
URL:https://exploreapexnc.com/event-single-post-name/apex-farmers-market-5/2030-05-04/
ATTACH;FMTTYPE=image/png:https://exploreapexnc.com/wp-content/uploads/2026/04/Screenshot-2026-04-08-123450.png
END:VEVENT
BEGIN:VEVENT
DTSTART;TZID=UTC:20300511T080000
DTEND;TZID=UTC:20300511T120000
DTSTAMP:20260425T110457
CREATED:20260414T171018Z
LAST-MODIFIED:20260414T171018Z
UID:10001488-1904716800-1904731200@exploreapexnc.com
SUMMARY:Apex Farmers Market
DESCRIPTION:Head to Downtown Apex every Saturday morning and explore the outdoor vendor booths offering fresh produce\, meat and seafood\, baked goods\, prepared items\, and handmade crafts\, jewelry\, and art. The vendors change weekly\, but many of your favorites are there on repeat! Market hours are 8 am – 12 pm (April through October)\, and 9am – 12 pm (November though March). See you there!
URL:https://exploreapexnc.com/event-single-post-name/apex-farmers-market-5/2030-05-11/
ATTACH;FMTTYPE=image/png:https://exploreapexnc.com/wp-content/uploads/2026/04/Screenshot-2026-04-08-123450.png
END:VEVENT
BEGIN:VEVENT
DTSTART;TZID=UTC:20300518T080000
DTEND;TZID=UTC:20300518T120000
DTSTAMP:20260425T110457
CREATED:20260414T171018Z
LAST-MODIFIED:20260414T171018Z
UID:10001489-1905321600-1905336000@exploreapexnc.com
SUMMARY:Apex Farmers Market
DESCRIPTION:Head to Downtown Apex every Saturday morning and explore the outdoor vendor booths offering fresh produce\, meat and seafood\, baked goods\, prepared items\, and handmade crafts\, jewelry\, and art. The vendors change weekly\, but many of your favorites are there on repeat! Market hours are 8 am – 12 pm (April through October)\, and 9am – 12 pm (November though March). See you there!
URL:https://exploreapexnc.com/event-single-post-name/apex-farmers-market-5/2030-05-18/
ATTACH;FMTTYPE=image/png:https://exploreapexnc.com/wp-content/uploads/2026/04/Screenshot-2026-04-08-123450.png
END:VEVENT
BEGIN:VEVENT
DTSTART;TZID=UTC:20300525T080000
DTEND;TZID=UTC:20300525T120000
DTSTAMP:20260425T110457
CREATED:20260414T171018Z
LAST-MODIFIED:20260414T171018Z
UID:10001490-1905926400-1905940800@exploreapexnc.com
SUMMARY:Apex Farmers Market
DESCRIPTION:Head to Downtown Apex every Saturday morning and explore the outdoor vendor booths offering fresh produce\, meat and seafood\, baked goods\, prepared items\, and handmade crafts\, jewelry\, and art. The vendors change weekly\, but many of your favorites are there on repeat! Market hours are 8 am – 12 pm (April through October)\, and 9am – 12 pm (November though March). See you there!
URL:https://exploreapexnc.com/event-single-post-name/apex-farmers-market-5/2030-05-25/
ATTACH;FMTTYPE=image/png:https://exploreapexnc.com/wp-content/uploads/2026/04/Screenshot-2026-04-08-123450.png
END:VEVENT
BEGIN:VEVENT
DTSTART;TZID=UTC:20300601T080000
DTEND;TZID=UTC:20300601T120000
DTSTAMP:20260425T110457
CREATED:20260414T171018Z
LAST-MODIFIED:20260414T171018Z
UID:10001491-1906531200-1906545600@exploreapexnc.com
SUMMARY:Apex Farmers Market
DESCRIPTION:Head to Downtown Apex every Saturday morning and explore the outdoor vendor booths offering fresh produce\, meat and seafood\, baked goods\, prepared items\, and handmade crafts\, jewelry\, and art. The vendors change weekly\, but many of your favorites are there on repeat! Market hours are 8 am – 12 pm (April through October)\, and 9am – 12 pm (November though March). See you there!
URL:https://exploreapexnc.com/event-single-post-name/apex-farmers-market-5/2030-06-01/
ATTACH;FMTTYPE=image/png:https://exploreapexnc.com/wp-content/uploads/2026/04/Screenshot-2026-04-08-123450.png
END:VEVENT
BEGIN:VEVENT
DTSTART;TZID=UTC:20300608T080000
DTEND;TZID=UTC:20300608T120000
DTSTAMP:20260425T110457
CREATED:20260414T171018Z
LAST-MODIFIED:20260414T171018Z
UID:10001492-1907136000-1907150400@exploreapexnc.com
SUMMARY:Apex Farmers Market
DESCRIPTION:Head to Downtown Apex every Saturday morning and explore the outdoor vendor booths offering fresh produce\, meat and seafood\, baked goods\, prepared items\, and handmade crafts\, jewelry\, and art. The vendors change weekly\, but many of your favorites are there on repeat! Market hours are 8 am – 12 pm (April through October)\, and 9am – 12 pm (November though March). See you there!
URL:https://exploreapexnc.com/event-single-post-name/apex-farmers-market-5/2030-06-08/
ATTACH;FMTTYPE=image/png:https://exploreapexnc.com/wp-content/uploads/2026/04/Screenshot-2026-04-08-123450.png
END:VEVENT
BEGIN:VEVENT
DTSTART;TZID=UTC:20300615T080000
DTEND;TZID=UTC:20300615T120000
DTSTAMP:20260425T110457
CREATED:20260414T171018Z
LAST-MODIFIED:20260414T171018Z
UID:10001493-1907740800-1907755200@exploreapexnc.com
SUMMARY:Apex Farmers Market
DESCRIPTION:Head to Downtown Apex every Saturday morning and explore the outdoor vendor booths offering fresh produce\, meat and seafood\, baked goods\, prepared items\, and handmade crafts\, jewelry\, and art. The vendors change weekly\, but many of your favorites are there on repeat! Market hours are 8 am – 12 pm (April through October)\, and 9am – 12 pm (November though March). See you there!
URL:https://exploreapexnc.com/event-single-post-name/apex-farmers-market-5/2030-06-15/
ATTACH;FMTTYPE=image/png:https://exploreapexnc.com/wp-content/uploads/2026/04/Screenshot-2026-04-08-123450.png
END:VEVENT
BEGIN:VEVENT
DTSTART;TZID=UTC:20300622T080000
DTEND;TZID=UTC:20300622T120000
DTSTAMP:20260425T110457
CREATED:20260414T171018Z
LAST-MODIFIED:20260414T171018Z
UID:10001494-1908345600-1908360000@exploreapexnc.com
SUMMARY:Apex Farmers Market
DESCRIPTION:Head to Downtown Apex every Saturday morning and explore the outdoor vendor booths offering fresh produce\, meat and seafood\, baked goods\, prepared items\, and handmade crafts\, jewelry\, and art. The vendors change weekly\, but many of your favorites are there on repeat! Market hours are 8 am – 12 pm (April through October)\, and 9am – 12 pm (November though March). See you there!
URL:https://exploreapexnc.com/event-single-post-name/apex-farmers-market-5/2030-06-22/
ATTACH;FMTTYPE=image/png:https://exploreapexnc.com/wp-content/uploads/2026/04/Screenshot-2026-04-08-123450.png
END:VEVENT
BEGIN:VEVENT
DTSTART;TZID=UTC:20300629T080000
DTEND;TZID=UTC:20300629T120000
DTSTAMP:20260425T110457
CREATED:20260414T171018Z
LAST-MODIFIED:20260414T171018Z
UID:10001495-1908950400-1908964800@exploreapexnc.com
SUMMARY:Apex Farmers Market
DESCRIPTION:Head to Downtown Apex every Saturday morning and explore the outdoor vendor booths offering fresh produce\, meat and seafood\, baked goods\, prepared items\, and handmade crafts\, jewelry\, and art. The vendors change weekly\, but many of your favorites are there on repeat! Market hours are 8 am – 12 pm (April through October)\, and 9am – 12 pm (November though March). See you there!
URL:https://exploreapexnc.com/event-single-post-name/apex-farmers-market-5/2030-06-29/
ATTACH;FMTTYPE=image/png:https://exploreapexnc.com/wp-content/uploads/2026/04/Screenshot-2026-04-08-123450.png
END:VEVENT
BEGIN:VEVENT
DTSTART;TZID=UTC:20300706T080000
DTEND;TZID=UTC:20300706T120000
DTSTAMP:20260425T110457
CREATED:20260414T171018Z
LAST-MODIFIED:20260414T171018Z
UID:10001496-1909555200-1909569600@exploreapexnc.com
SUMMARY:Apex Farmers Market
DESCRIPTION:Head to Downtown Apex every Saturday morning and explore the outdoor vendor booths offering fresh produce\, meat and seafood\, baked goods\, prepared items\, and handmade crafts\, jewelry\, and art. The vendors change weekly\, but many of your favorites are there on repeat! Market hours are 8 am – 12 pm (April through October)\, and 9am – 12 pm (November though March). See you there!
URL:https://exploreapexnc.com/event-single-post-name/apex-farmers-market-5/2030-07-06/
ATTACH;FMTTYPE=image/png:https://exploreapexnc.com/wp-content/uploads/2026/04/Screenshot-2026-04-08-123450.png
END:VEVENT
BEGIN:VEVENT
DTSTART;TZID=UTC:20300713T080000
DTEND;TZID=UTC:20300713T120000
DTSTAMP:20260425T110457
CREATED:20260414T171018Z
LAST-MODIFIED:20260414T171018Z
UID:10001497-1910160000-1910174400@exploreapexnc.com
SUMMARY:Apex Farmers Market
DESCRIPTION:Head to Downtown Apex every Saturday morning and explore the outdoor vendor booths offering fresh produce\, meat and seafood\, baked goods\, prepared items\, and handmade crafts\, jewelry\, and art. The vendors change weekly\, but many of your favorites are there on repeat! Market hours are 8 am – 12 pm (April through October)\, and 9am – 12 pm (November though March). See you there!
URL:https://exploreapexnc.com/event-single-post-name/apex-farmers-market-5/2030-07-13/
ATTACH;FMTTYPE=image/png:https://exploreapexnc.com/wp-content/uploads/2026/04/Screenshot-2026-04-08-123450.png
END:VEVENT
BEGIN:VEVENT
DTSTART;TZID=UTC:20300720T080000
DTEND;TZID=UTC:20300720T120000
DTSTAMP:20260425T110457
CREATED:20260414T171018Z
LAST-MODIFIED:20260414T171018Z
UID:10001498-1910764800-1910779200@exploreapexnc.com
SUMMARY:Apex Farmers Market
DESCRIPTION:Head to Downtown Apex every Saturday morning and explore the outdoor vendor booths offering fresh produce\, meat and seafood\, baked goods\, prepared items\, and handmade crafts\, jewelry\, and art. The vendors change weekly\, but many of your favorites are there on repeat! Market hours are 8 am – 12 pm (April through October)\, and 9am – 12 pm (November though March). See you there!
URL:https://exploreapexnc.com/event-single-post-name/apex-farmers-market-5/2030-07-20/
ATTACH;FMTTYPE=image/png:https://exploreapexnc.com/wp-content/uploads/2026/04/Screenshot-2026-04-08-123450.png
END:VEVENT
BEGIN:VEVENT
DTSTART;TZID=UTC:20300727T080000
DTEND;TZID=UTC:20300727T120000
DTSTAMP:20260425T110457
CREATED:20260414T171018Z
LAST-MODIFIED:20260414T171018Z
UID:10001499-1911369600-1911384000@exploreapexnc.com
SUMMARY:Apex Farmers Market
DESCRIPTION:Head to Downtown Apex every Saturday morning and explore the outdoor vendor booths offering fresh produce\, meat and seafood\, baked goods\, prepared items\, and handmade crafts\, jewelry\, and art. The vendors change weekly\, but many of your favorites are there on repeat! Market hours are 8 am – 12 pm (April through October)\, and 9am – 12 pm (November though March). See you there!
URL:https://exploreapexnc.com/event-single-post-name/apex-farmers-market-5/2030-07-27/
ATTACH;FMTTYPE=image/png:https://exploreapexnc.com/wp-content/uploads/2026/04/Screenshot-2026-04-08-123450.png
END:VEVENT
BEGIN:VEVENT
DTSTART;TZID=UTC:20300803T080000
DTEND;TZID=UTC:20300803T120000
DTSTAMP:20260425T110457
CREATED:20260414T171018Z
LAST-MODIFIED:20260414T171018Z
UID:10001500-1911974400-1911988800@exploreapexnc.com
SUMMARY:Apex Farmers Market
DESCRIPTION:Head to Downtown Apex every Saturday morning and explore the outdoor vendor booths offering fresh produce\, meat and seafood\, baked goods\, prepared items\, and handmade crafts\, jewelry\, and art. The vendors change weekly\, but many of your favorites are there on repeat! Market hours are 8 am – 12 pm (April through October)\, and 9am – 12 pm (November though March). See you there!
URL:https://exploreapexnc.com/event-single-post-name/apex-farmers-market-5/2030-08-03/
ATTACH;FMTTYPE=image/png:https://exploreapexnc.com/wp-content/uploads/2026/04/Screenshot-2026-04-08-123450.png
END:VEVENT
END:VCALENDAR