BEGIN:VCALENDAR
VERSION:2.0
PRODID:-//Explore Apex - ECPv6.15.20//NONSGML v1.0//EN
CALSCALE:GREGORIAN
METHOD:PUBLISH
X-WR-CALNAME:Explore Apex
X-ORIGINAL-URL:https://exploreapexnc.com
X-WR-CALDESC:Events for Explore Apex
REFRESH-INTERVAL;VALUE=DURATION:PT1H
X-Robots-Tag:noindex
X-PUBLISHED-TTL:PT1H
BEGIN:VTIMEZONE
TZID:UTC
BEGIN:STANDARD
TZOFFSETFROM:+0000
TZOFFSETTO:+0000
TZNAME:UTC
DTSTART:20270101T000000
END:STANDARD
END:VTIMEZONE
BEGIN:VEVENT
DTSTART;TZID=UTC:20280916T080000
DTEND;TZID=UTC:20280916T120000
DTSTAMP:20260425T105240
CREATED:20260414T171018Z
LAST-MODIFIED:20260414T171018Z
UID:10001402-1852704000-1852718400@exploreapexnc.com
SUMMARY:Apex Farmers Market
DESCRIPTION:Head to Downtown Apex every Saturday morning and explore the outdoor vendor booths offering fresh produce\, meat and seafood\, baked goods\, prepared items\, and handmade crafts\, jewelry\, and art. The vendors change weekly\, but many of your favorites are there on repeat! Market hours are 8 am – 12 pm (April through October)\, and 9am – 12 pm (November though March). See you there!
URL:https://exploreapexnc.com/event-single-post-name/apex-farmers-market-5/2028-09-16/
ATTACH;FMTTYPE=image/png:https://exploreapexnc.com/wp-content/uploads/2026/04/Screenshot-2026-04-08-123450.png
END:VEVENT
BEGIN:VEVENT
DTSTART;TZID=UTC:20280923T080000
DTEND;TZID=UTC:20280923T120000
DTSTAMP:20260425T105240
CREATED:20260414T171018Z
LAST-MODIFIED:20260414T171018Z
UID:10001403-1853308800-1853323200@exploreapexnc.com
SUMMARY:Apex Farmers Market
DESCRIPTION:Head to Downtown Apex every Saturday morning and explore the outdoor vendor booths offering fresh produce\, meat and seafood\, baked goods\, prepared items\, and handmade crafts\, jewelry\, and art. The vendors change weekly\, but many of your favorites are there on repeat! Market hours are 8 am – 12 pm (April through October)\, and 9am – 12 pm (November though March). See you there!
URL:https://exploreapexnc.com/event-single-post-name/apex-farmers-market-5/2028-09-23/
ATTACH;FMTTYPE=image/png:https://exploreapexnc.com/wp-content/uploads/2026/04/Screenshot-2026-04-08-123450.png
END:VEVENT
BEGIN:VEVENT
DTSTART;TZID=UTC:20280930T080000
DTEND;TZID=UTC:20280930T120000
DTSTAMP:20260425T105240
CREATED:20260414T171018Z
LAST-MODIFIED:20260414T171018Z
UID:10001404-1853913600-1853928000@exploreapexnc.com
SUMMARY:Apex Farmers Market
DESCRIPTION:Head to Downtown Apex every Saturday morning and explore the outdoor vendor booths offering fresh produce\, meat and seafood\, baked goods\, prepared items\, and handmade crafts\, jewelry\, and art. The vendors change weekly\, but many of your favorites are there on repeat! Market hours are 8 am – 12 pm (April through October)\, and 9am – 12 pm (November though March). See you there!
URL:https://exploreapexnc.com/event-single-post-name/apex-farmers-market-5/2028-09-30/
ATTACH;FMTTYPE=image/png:https://exploreapexnc.com/wp-content/uploads/2026/04/Screenshot-2026-04-08-123450.png
END:VEVENT
BEGIN:VEVENT
DTSTART;TZID=UTC:20281007T080000
DTEND;TZID=UTC:20281007T120000
DTSTAMP:20260425T105240
CREATED:20260414T171018Z
LAST-MODIFIED:20260414T171018Z
UID:10001405-1854518400-1854532800@exploreapexnc.com
SUMMARY:Apex Farmers Market
DESCRIPTION:Head to Downtown Apex every Saturday morning and explore the outdoor vendor booths offering fresh produce\, meat and seafood\, baked goods\, prepared items\, and handmade crafts\, jewelry\, and art. The vendors change weekly\, but many of your favorites are there on repeat! Market hours are 8 am – 12 pm (April through October)\, and 9am – 12 pm (November though March). See you there!
URL:https://exploreapexnc.com/event-single-post-name/apex-farmers-market-5/2028-10-07/
ATTACH;FMTTYPE=image/png:https://exploreapexnc.com/wp-content/uploads/2026/04/Screenshot-2026-04-08-123450.png
END:VEVENT
BEGIN:VEVENT
DTSTART;TZID=UTC:20281014T080000
DTEND;TZID=UTC:20281014T120000
DTSTAMP:20260425T105240
CREATED:20260414T171018Z
LAST-MODIFIED:20260414T171018Z
UID:10001406-1855123200-1855137600@exploreapexnc.com
SUMMARY:Apex Farmers Market
DESCRIPTION:Head to Downtown Apex every Saturday morning and explore the outdoor vendor booths offering fresh produce\, meat and seafood\, baked goods\, prepared items\, and handmade crafts\, jewelry\, and art. The vendors change weekly\, but many of your favorites are there on repeat! Market hours are 8 am – 12 pm (April through October)\, and 9am – 12 pm (November though March). See you there!
URL:https://exploreapexnc.com/event-single-post-name/apex-farmers-market-5/2028-10-14/
ATTACH;FMTTYPE=image/png:https://exploreapexnc.com/wp-content/uploads/2026/04/Screenshot-2026-04-08-123450.png
END:VEVENT
BEGIN:VEVENT
DTSTART;TZID=UTC:20281021T080000
DTEND;TZID=UTC:20281021T120000
DTSTAMP:20260425T105240
CREATED:20260414T171018Z
LAST-MODIFIED:20260414T171018Z
UID:10001407-1855728000-1855742400@exploreapexnc.com
SUMMARY:Apex Farmers Market
DESCRIPTION:Head to Downtown Apex every Saturday morning and explore the outdoor vendor booths offering fresh produce\, meat and seafood\, baked goods\, prepared items\, and handmade crafts\, jewelry\, and art. The vendors change weekly\, but many of your favorites are there on repeat! Market hours are 8 am – 12 pm (April through October)\, and 9am – 12 pm (November though March). See you there!
URL:https://exploreapexnc.com/event-single-post-name/apex-farmers-market-5/2028-10-21/
ATTACH;FMTTYPE=image/png:https://exploreapexnc.com/wp-content/uploads/2026/04/Screenshot-2026-04-08-123450.png
END:VEVENT
BEGIN:VEVENT
DTSTART;TZID=UTC:20281028T080000
DTEND;TZID=UTC:20281028T120000
DTSTAMP:20260425T105240
CREATED:20260414T171018Z
LAST-MODIFIED:20260414T171018Z
UID:10001408-1856332800-1856347200@exploreapexnc.com
SUMMARY:Apex Farmers Market
DESCRIPTION:Head to Downtown Apex every Saturday morning and explore the outdoor vendor booths offering fresh produce\, meat and seafood\, baked goods\, prepared items\, and handmade crafts\, jewelry\, and art. The vendors change weekly\, but many of your favorites are there on repeat! Market hours are 8 am – 12 pm (April through October)\, and 9am – 12 pm (November though March). See you there!
URL:https://exploreapexnc.com/event-single-post-name/apex-farmers-market-5/2028-10-28/
ATTACH;FMTTYPE=image/png:https://exploreapexnc.com/wp-content/uploads/2026/04/Screenshot-2026-04-08-123450.png
END:VEVENT
BEGIN:VEVENT
DTSTART;TZID=UTC:20281104T080000
DTEND;TZID=UTC:20281104T120000
DTSTAMP:20260425T105240
CREATED:20260414T171018Z
LAST-MODIFIED:20260414T171018Z
UID:10001409-1856937600-1856952000@exploreapexnc.com
SUMMARY:Apex Farmers Market
DESCRIPTION:Head to Downtown Apex every Saturday morning and explore the outdoor vendor booths offering fresh produce\, meat and seafood\, baked goods\, prepared items\, and handmade crafts\, jewelry\, and art. The vendors change weekly\, but many of your favorites are there on repeat! Market hours are 8 am – 12 pm (April through October)\, and 9am – 12 pm (November though March). See you there!
URL:https://exploreapexnc.com/event-single-post-name/apex-farmers-market-5/2028-11-04/
ATTACH;FMTTYPE=image/png:https://exploreapexnc.com/wp-content/uploads/2026/04/Screenshot-2026-04-08-123450.png
END:VEVENT
BEGIN:VEVENT
DTSTART;TZID=UTC:20281111T080000
DTEND;TZID=UTC:20281111T120000
DTSTAMP:20260425T105240
CREATED:20260414T171018Z
LAST-MODIFIED:20260414T171018Z
UID:10001410-1857542400-1857556800@exploreapexnc.com
SUMMARY:Apex Farmers Market
DESCRIPTION:Head to Downtown Apex every Saturday morning and explore the outdoor vendor booths offering fresh produce\, meat and seafood\, baked goods\, prepared items\, and handmade crafts\, jewelry\, and art. The vendors change weekly\, but many of your favorites are there on repeat! Market hours are 8 am – 12 pm (April through October)\, and 9am – 12 pm (November though March). See you there!
URL:https://exploreapexnc.com/event-single-post-name/apex-farmers-market-5/2028-11-11/
ATTACH;FMTTYPE=image/png:https://exploreapexnc.com/wp-content/uploads/2026/04/Screenshot-2026-04-08-123450.png
END:VEVENT
BEGIN:VEVENT
DTSTART;TZID=UTC:20281118T080000
DTEND;TZID=UTC:20281118T120000
DTSTAMP:20260425T105240
CREATED:20260414T171018Z
LAST-MODIFIED:20260414T171018Z
UID:10001411-1858147200-1858161600@exploreapexnc.com
SUMMARY:Apex Farmers Market
DESCRIPTION:Head to Downtown Apex every Saturday morning and explore the outdoor vendor booths offering fresh produce\, meat and seafood\, baked goods\, prepared items\, and handmade crafts\, jewelry\, and art. The vendors change weekly\, but many of your favorites are there on repeat! Market hours are 8 am – 12 pm (April through October)\, and 9am – 12 pm (November though March). See you there!
URL:https://exploreapexnc.com/event-single-post-name/apex-farmers-market-5/2028-11-18/
ATTACH;FMTTYPE=image/png:https://exploreapexnc.com/wp-content/uploads/2026/04/Screenshot-2026-04-08-123450.png
END:VEVENT
BEGIN:VEVENT
DTSTART;TZID=UTC:20281125T080000
DTEND;TZID=UTC:20281125T120000
DTSTAMP:20260425T105240
CREATED:20260414T171018Z
LAST-MODIFIED:20260414T171018Z
UID:10001412-1858752000-1858766400@exploreapexnc.com
SUMMARY:Apex Farmers Market
DESCRIPTION:Head to Downtown Apex every Saturday morning and explore the outdoor vendor booths offering fresh produce\, meat and seafood\, baked goods\, prepared items\, and handmade crafts\, jewelry\, and art. The vendors change weekly\, but many of your favorites are there on repeat! Market hours are 8 am – 12 pm (April through October)\, and 9am – 12 pm (November though March). See you there!
URL:https://exploreapexnc.com/event-single-post-name/apex-farmers-market-5/2028-11-25/
ATTACH;FMTTYPE=image/png:https://exploreapexnc.com/wp-content/uploads/2026/04/Screenshot-2026-04-08-123450.png
END:VEVENT
BEGIN:VEVENT
DTSTART;TZID=UTC:20281202T080000
DTEND;TZID=UTC:20281202T120000
DTSTAMP:20260425T105240
CREATED:20260414T171018Z
LAST-MODIFIED:20260414T171018Z
UID:10001413-1859356800-1859371200@exploreapexnc.com
SUMMARY:Apex Farmers Market
DESCRIPTION:Head to Downtown Apex every Saturday morning and explore the outdoor vendor booths offering fresh produce\, meat and seafood\, baked goods\, prepared items\, and handmade crafts\, jewelry\, and art. The vendors change weekly\, but many of your favorites are there on repeat! Market hours are 8 am – 12 pm (April through October)\, and 9am – 12 pm (November though March). See you there!
URL:https://exploreapexnc.com/event-single-post-name/apex-farmers-market-5/2028-12-02/
ATTACH;FMTTYPE=image/png:https://exploreapexnc.com/wp-content/uploads/2026/04/Screenshot-2026-04-08-123450.png
END:VEVENT
BEGIN:VEVENT
DTSTART;TZID=UTC:20281209T080000
DTEND;TZID=UTC:20281209T120000
DTSTAMP:20260425T105240
CREATED:20260414T171018Z
LAST-MODIFIED:20260414T171018Z
UID:10001414-1859961600-1859976000@exploreapexnc.com
SUMMARY:Apex Farmers Market
DESCRIPTION:Head to Downtown Apex every Saturday morning and explore the outdoor vendor booths offering fresh produce\, meat and seafood\, baked goods\, prepared items\, and handmade crafts\, jewelry\, and art. The vendors change weekly\, but many of your favorites are there on repeat! Market hours are 8 am – 12 pm (April through October)\, and 9am – 12 pm (November though March). See you there!
URL:https://exploreapexnc.com/event-single-post-name/apex-farmers-market-5/2028-12-09/
ATTACH;FMTTYPE=image/png:https://exploreapexnc.com/wp-content/uploads/2026/04/Screenshot-2026-04-08-123450.png
END:VEVENT
BEGIN:VEVENT
DTSTART;TZID=UTC:20281216T080000
DTEND;TZID=UTC:20281216T120000
DTSTAMP:20260425T105240
CREATED:20260414T171018Z
LAST-MODIFIED:20260414T171018Z
UID:10001415-1860566400-1860580800@exploreapexnc.com
SUMMARY:Apex Farmers Market
DESCRIPTION:Head to Downtown Apex every Saturday morning and explore the outdoor vendor booths offering fresh produce\, meat and seafood\, baked goods\, prepared items\, and handmade crafts\, jewelry\, and art. The vendors change weekly\, but many of your favorites are there on repeat! Market hours are 8 am – 12 pm (April through October)\, and 9am – 12 pm (November though March). See you there!
URL:https://exploreapexnc.com/event-single-post-name/apex-farmers-market-5/2028-12-16/
ATTACH;FMTTYPE=image/png:https://exploreapexnc.com/wp-content/uploads/2026/04/Screenshot-2026-04-08-123450.png
END:VEVENT
BEGIN:VEVENT
DTSTART;TZID=UTC:20281223T080000
DTEND;TZID=UTC:20281223T120000
DTSTAMP:20260425T105240
CREATED:20260414T171018Z
LAST-MODIFIED:20260414T171018Z
UID:10001416-1861171200-1861185600@exploreapexnc.com
SUMMARY:Apex Farmers Market
DESCRIPTION:Head to Downtown Apex every Saturday morning and explore the outdoor vendor booths offering fresh produce\, meat and seafood\, baked goods\, prepared items\, and handmade crafts\, jewelry\, and art. The vendors change weekly\, but many of your favorites are there on repeat! Market hours are 8 am – 12 pm (April through October)\, and 9am – 12 pm (November though March). See you there!
URL:https://exploreapexnc.com/event-single-post-name/apex-farmers-market-5/2028-12-23/
ATTACH;FMTTYPE=image/png:https://exploreapexnc.com/wp-content/uploads/2026/04/Screenshot-2026-04-08-123450.png
END:VEVENT
BEGIN:VEVENT
DTSTART;TZID=UTC:20281230T080000
DTEND;TZID=UTC:20281230T120000
DTSTAMP:20260425T105240
CREATED:20260414T171018Z
LAST-MODIFIED:20260414T171018Z
UID:10001417-1861776000-1861790400@exploreapexnc.com
SUMMARY:Apex Farmers Market
DESCRIPTION:Head to Downtown Apex every Saturday morning and explore the outdoor vendor booths offering fresh produce\, meat and seafood\, baked goods\, prepared items\, and handmade crafts\, jewelry\, and art. The vendors change weekly\, but many of your favorites are there on repeat! Market hours are 8 am – 12 pm (April through October)\, and 9am – 12 pm (November though March). See you there!
URL:https://exploreapexnc.com/event-single-post-name/apex-farmers-market-5/2028-12-30/
ATTACH;FMTTYPE=image/png:https://exploreapexnc.com/wp-content/uploads/2026/04/Screenshot-2026-04-08-123450.png
END:VEVENT
BEGIN:VEVENT
DTSTART;TZID=UTC:20290106T080000
DTEND;TZID=UTC:20290106T120000
DTSTAMP:20260425T105240
CREATED:20260414T171018Z
LAST-MODIFIED:20260414T171018Z
UID:10001418-1862380800-1862395200@exploreapexnc.com
SUMMARY:Apex Farmers Market
DESCRIPTION:Head to Downtown Apex every Saturday morning and explore the outdoor vendor booths offering fresh produce\, meat and seafood\, baked goods\, prepared items\, and handmade crafts\, jewelry\, and art. The vendors change weekly\, but many of your favorites are there on repeat! Market hours are 8 am – 12 pm (April through October)\, and 9am – 12 pm (November though March). See you there!
URL:https://exploreapexnc.com/event-single-post-name/apex-farmers-market-5/2029-01-06/
ATTACH;FMTTYPE=image/png:https://exploreapexnc.com/wp-content/uploads/2026/04/Screenshot-2026-04-08-123450.png
END:VEVENT
BEGIN:VEVENT
DTSTART;TZID=UTC:20290113T080000
DTEND;TZID=UTC:20290113T120000
DTSTAMP:20260425T105240
CREATED:20260414T171018Z
LAST-MODIFIED:20260414T171018Z
UID:10001419-1862985600-1863000000@exploreapexnc.com
SUMMARY:Apex Farmers Market
DESCRIPTION:Head to Downtown Apex every Saturday morning and explore the outdoor vendor booths offering fresh produce\, meat and seafood\, baked goods\, prepared items\, and handmade crafts\, jewelry\, and art. The vendors change weekly\, but many of your favorites are there on repeat! Market hours are 8 am – 12 pm (April through October)\, and 9am – 12 pm (November though March). See you there!
URL:https://exploreapexnc.com/event-single-post-name/apex-farmers-market-5/2029-01-13/
ATTACH;FMTTYPE=image/png:https://exploreapexnc.com/wp-content/uploads/2026/04/Screenshot-2026-04-08-123450.png
END:VEVENT
BEGIN:VEVENT
DTSTART;TZID=UTC:20290120T080000
DTEND;TZID=UTC:20290120T120000
DTSTAMP:20260425T105240
CREATED:20260414T171018Z
LAST-MODIFIED:20260414T171018Z
UID:10001420-1863590400-1863604800@exploreapexnc.com
SUMMARY:Apex Farmers Market
DESCRIPTION:Head to Downtown Apex every Saturday morning and explore the outdoor vendor booths offering fresh produce\, meat and seafood\, baked goods\, prepared items\, and handmade crafts\, jewelry\, and art. The vendors change weekly\, but many of your favorites are there on repeat! Market hours are 8 am – 12 pm (April through October)\, and 9am – 12 pm (November though March). See you there!
URL:https://exploreapexnc.com/event-single-post-name/apex-farmers-market-5/2029-01-20/
ATTACH;FMTTYPE=image/png:https://exploreapexnc.com/wp-content/uploads/2026/04/Screenshot-2026-04-08-123450.png
END:VEVENT
BEGIN:VEVENT
DTSTART;TZID=UTC:20290127T080000
DTEND;TZID=UTC:20290127T120000
DTSTAMP:20260425T105240
CREATED:20260414T171018Z
LAST-MODIFIED:20260414T171018Z
UID:10001421-1864195200-1864209600@exploreapexnc.com
SUMMARY:Apex Farmers Market
DESCRIPTION:Head to Downtown Apex every Saturday morning and explore the outdoor vendor booths offering fresh produce\, meat and seafood\, baked goods\, prepared items\, and handmade crafts\, jewelry\, and art. The vendors change weekly\, but many of your favorites are there on repeat! Market hours are 8 am – 12 pm (April through October)\, and 9am – 12 pm (November though March). See you there!
URL:https://exploreapexnc.com/event-single-post-name/apex-farmers-market-5/2029-01-27/
ATTACH;FMTTYPE=image/png:https://exploreapexnc.com/wp-content/uploads/2026/04/Screenshot-2026-04-08-123450.png
END:VEVENT
BEGIN:VEVENT
DTSTART;TZID=UTC:20290203T080000
DTEND;TZID=UTC:20290203T120000
DTSTAMP:20260425T105240
CREATED:20260414T171018Z
LAST-MODIFIED:20260414T171018Z
UID:10001422-1864800000-1864814400@exploreapexnc.com
SUMMARY:Apex Farmers Market
DESCRIPTION:Head to Downtown Apex every Saturday morning and explore the outdoor vendor booths offering fresh produce\, meat and seafood\, baked goods\, prepared items\, and handmade crafts\, jewelry\, and art. The vendors change weekly\, but many of your favorites are there on repeat! Market hours are 8 am – 12 pm (April through October)\, and 9am – 12 pm (November though March). See you there!
URL:https://exploreapexnc.com/event-single-post-name/apex-farmers-market-5/2029-02-03/
ATTACH;FMTTYPE=image/png:https://exploreapexnc.com/wp-content/uploads/2026/04/Screenshot-2026-04-08-123450.png
END:VEVENT
BEGIN:VEVENT
DTSTART;TZID=UTC:20290210T080000
DTEND;TZID=UTC:20290210T120000
DTSTAMP:20260425T105240
CREATED:20260414T171018Z
LAST-MODIFIED:20260414T171018Z
UID:10001423-1865404800-1865419200@exploreapexnc.com
SUMMARY:Apex Farmers Market
DESCRIPTION:Head to Downtown Apex every Saturday morning and explore the outdoor vendor booths offering fresh produce\, meat and seafood\, baked goods\, prepared items\, and handmade crafts\, jewelry\, and art. The vendors change weekly\, but many of your favorites are there on repeat! Market hours are 8 am – 12 pm (April through October)\, and 9am – 12 pm (November though March). See you there!
URL:https://exploreapexnc.com/event-single-post-name/apex-farmers-market-5/2029-02-10/
ATTACH;FMTTYPE=image/png:https://exploreapexnc.com/wp-content/uploads/2026/04/Screenshot-2026-04-08-123450.png
END:VEVENT
BEGIN:VEVENT
DTSTART;TZID=UTC:20290217T080000
DTEND;TZID=UTC:20290217T120000
DTSTAMP:20260425T105240
CREATED:20260414T171018Z
LAST-MODIFIED:20260414T171018Z
UID:10001424-1866009600-1866024000@exploreapexnc.com
SUMMARY:Apex Farmers Market
DESCRIPTION:Head to Downtown Apex every Saturday morning and explore the outdoor vendor booths offering fresh produce\, meat and seafood\, baked goods\, prepared items\, and handmade crafts\, jewelry\, and art. The vendors change weekly\, but many of your favorites are there on repeat! Market hours are 8 am – 12 pm (April through October)\, and 9am – 12 pm (November though March). See you there!
URL:https://exploreapexnc.com/event-single-post-name/apex-farmers-market-5/2029-02-17/
ATTACH;FMTTYPE=image/png:https://exploreapexnc.com/wp-content/uploads/2026/04/Screenshot-2026-04-08-123450.png
END:VEVENT
BEGIN:VEVENT
DTSTART;TZID=UTC:20290224T080000
DTEND;TZID=UTC:20290224T120000
DTSTAMP:20260425T105240
CREATED:20260414T171018Z
LAST-MODIFIED:20260414T171018Z
UID:10001425-1866614400-1866628800@exploreapexnc.com
SUMMARY:Apex Farmers Market
DESCRIPTION:Head to Downtown Apex every Saturday morning and explore the outdoor vendor booths offering fresh produce\, meat and seafood\, baked goods\, prepared items\, and handmade crafts\, jewelry\, and art. The vendors change weekly\, but many of your favorites are there on repeat! Market hours are 8 am – 12 pm (April through October)\, and 9am – 12 pm (November though March). See you there!
URL:https://exploreapexnc.com/event-single-post-name/apex-farmers-market-5/2029-02-24/
ATTACH;FMTTYPE=image/png:https://exploreapexnc.com/wp-content/uploads/2026/04/Screenshot-2026-04-08-123450.png
END:VEVENT
BEGIN:VEVENT
DTSTART;TZID=UTC:20290303T080000
DTEND;TZID=UTC:20290303T120000
DTSTAMP:20260425T105240
CREATED:20260414T171018Z
LAST-MODIFIED:20260414T171018Z
UID:10001426-1867219200-1867233600@exploreapexnc.com
SUMMARY:Apex Farmers Market
DESCRIPTION:Head to Downtown Apex every Saturday morning and explore the outdoor vendor booths offering fresh produce\, meat and seafood\, baked goods\, prepared items\, and handmade crafts\, jewelry\, and art. The vendors change weekly\, but many of your favorites are there on repeat! Market hours are 8 am – 12 pm (April through October)\, and 9am – 12 pm (November though March). See you there!
URL:https://exploreapexnc.com/event-single-post-name/apex-farmers-market-5/2029-03-03/
ATTACH;FMTTYPE=image/png:https://exploreapexnc.com/wp-content/uploads/2026/04/Screenshot-2026-04-08-123450.png
END:VEVENT
BEGIN:VEVENT
DTSTART;TZID=UTC:20290310T080000
DTEND;TZID=UTC:20290310T120000
DTSTAMP:20260425T105240
CREATED:20260414T171018Z
LAST-MODIFIED:20260414T171018Z
UID:10001427-1867824000-1867838400@exploreapexnc.com
SUMMARY:Apex Farmers Market
DESCRIPTION:Head to Downtown Apex every Saturday morning and explore the outdoor vendor booths offering fresh produce\, meat and seafood\, baked goods\, prepared items\, and handmade crafts\, jewelry\, and art. The vendors change weekly\, but many of your favorites are there on repeat! Market hours are 8 am – 12 pm (April through October)\, and 9am – 12 pm (November though March). See you there!
URL:https://exploreapexnc.com/event-single-post-name/apex-farmers-market-5/2029-03-10/
ATTACH;FMTTYPE=image/png:https://exploreapexnc.com/wp-content/uploads/2026/04/Screenshot-2026-04-08-123450.png
END:VEVENT
BEGIN:VEVENT
DTSTART;TZID=UTC:20290317T080000
DTEND;TZID=UTC:20290317T120000
DTSTAMP:20260425T105240
CREATED:20260414T171018Z
LAST-MODIFIED:20260414T171018Z
UID:10001428-1868428800-1868443200@exploreapexnc.com
SUMMARY:Apex Farmers Market
DESCRIPTION:Head to Downtown Apex every Saturday morning and explore the outdoor vendor booths offering fresh produce\, meat and seafood\, baked goods\, prepared items\, and handmade crafts\, jewelry\, and art. The vendors change weekly\, but many of your favorites are there on repeat! Market hours are 8 am – 12 pm (April through October)\, and 9am – 12 pm (November though March). See you there!
URL:https://exploreapexnc.com/event-single-post-name/apex-farmers-market-5/2029-03-17/
ATTACH;FMTTYPE=image/png:https://exploreapexnc.com/wp-content/uploads/2026/04/Screenshot-2026-04-08-123450.png
END:VEVENT
BEGIN:VEVENT
DTSTART;TZID=UTC:20290324T080000
DTEND;TZID=UTC:20290324T120000
DTSTAMP:20260425T105240
CREATED:20260414T171018Z
LAST-MODIFIED:20260414T171018Z
UID:10001429-1869033600-1869048000@exploreapexnc.com
SUMMARY:Apex Farmers Market
DESCRIPTION:Head to Downtown Apex every Saturday morning and explore the outdoor vendor booths offering fresh produce\, meat and seafood\, baked goods\, prepared items\, and handmade crafts\, jewelry\, and art. The vendors change weekly\, but many of your favorites are there on repeat! Market hours are 8 am – 12 pm (April through October)\, and 9am – 12 pm (November though March). See you there!
URL:https://exploreapexnc.com/event-single-post-name/apex-farmers-market-5/2029-03-24/
ATTACH;FMTTYPE=image/png:https://exploreapexnc.com/wp-content/uploads/2026/04/Screenshot-2026-04-08-123450.png
END:VEVENT
BEGIN:VEVENT
DTSTART;TZID=UTC:20290331T080000
DTEND;TZID=UTC:20290331T120000
DTSTAMP:20260425T105240
CREATED:20260414T171018Z
LAST-MODIFIED:20260414T171018Z
UID:10001430-1869638400-1869652800@exploreapexnc.com
SUMMARY:Apex Farmers Market
DESCRIPTION:Head to Downtown Apex every Saturday morning and explore the outdoor vendor booths offering fresh produce\, meat and seafood\, baked goods\, prepared items\, and handmade crafts\, jewelry\, and art. The vendors change weekly\, but many of your favorites are there on repeat! Market hours are 8 am – 12 pm (April through October)\, and 9am – 12 pm (November though March). See you there!
URL:https://exploreapexnc.com/event-single-post-name/apex-farmers-market-5/2029-03-31/
ATTACH;FMTTYPE=image/png:https://exploreapexnc.com/wp-content/uploads/2026/04/Screenshot-2026-04-08-123450.png
END:VEVENT
BEGIN:VEVENT
DTSTART;TZID=UTC:20290407T080000
DTEND;TZID=UTC:20290407T120000
DTSTAMP:20260425T105240
CREATED:20260414T171018Z
LAST-MODIFIED:20260414T171018Z
UID:10001431-1870243200-1870257600@exploreapexnc.com
SUMMARY:Apex Farmers Market
DESCRIPTION:Head to Downtown Apex every Saturday morning and explore the outdoor vendor booths offering fresh produce\, meat and seafood\, baked goods\, prepared items\, and handmade crafts\, jewelry\, and art. The vendors change weekly\, but many of your favorites are there on repeat! Market hours are 8 am – 12 pm (April through October)\, and 9am – 12 pm (November though March). See you there!
URL:https://exploreapexnc.com/event-single-post-name/apex-farmers-market-5/2029-04-07/
ATTACH;FMTTYPE=image/png:https://exploreapexnc.com/wp-content/uploads/2026/04/Screenshot-2026-04-08-123450.png
END:VEVENT
END:VCALENDAR