BEGIN:VCALENDAR
VERSION:2.0
PRODID:-//Explore Apex - ECPv6.15.20//NONSGML v1.0//EN
CALSCALE:GREGORIAN
METHOD:PUBLISH
X-ORIGINAL-URL:https://exploreapexnc.com
X-WR-CALDESC:Events for Explore Apex
REFRESH-INTERVAL;VALUE=DURATION:PT1H
X-Robots-Tag:noindex
X-PUBLISHED-TTL:PT1H
BEGIN:VTIMEZONE
TZID:UTC
BEGIN:STANDARD
TZOFFSETFROM:+0000
TZOFFSETTO:+0000
TZNAME:UTC
DTSTART:20250101T000000
END:STANDARD
END:VTIMEZONE
BEGIN:VEVENT
DTSTART;TZID=UTC:20260808T080000
DTEND;TZID=UTC:20260808T120000
DTSTAMP:20260423T224745
CREATED:20260414T171018Z
LAST-MODIFIED:20260414T171018Z
UID:10001292-1786176000-1786190400@exploreapexnc.com
SUMMARY:Apex Farmers Market
DESCRIPTION:Head to Downtown Apex every Saturday morning and explore the outdoor vendor booths offering fresh produce\, meat and seafood\, baked goods\, prepared items\, and handmade crafts\, jewelry\, and art. The vendors change weekly\, but many of your favorites are there on repeat! Market hours are 8 am – 12 pm (April through October)\, and 9am – 12 pm (November though March). See you there!
URL:https://exploreapexnc.com/event-single-post-name/apex-farmers-market-5/2026-08-08/
ATTACH;FMTTYPE=image/png:https://exploreapexnc.com/wp-content/uploads/2026/04/Screenshot-2026-04-08-123450.png
END:VEVENT
BEGIN:VEVENT
DTSTART;TZID=UTC:20260815T080000
DTEND;TZID=UTC:20260815T120000
DTSTAMP:20260423T224745
CREATED:20260414T171018Z
LAST-MODIFIED:20260414T171018Z
UID:10001293-1786780800-1786795200@exploreapexnc.com
SUMMARY:Apex Farmers Market
DESCRIPTION:Head to Downtown Apex every Saturday morning and explore the outdoor vendor booths offering fresh produce\, meat and seafood\, baked goods\, prepared items\, and handmade crafts\, jewelry\, and art. The vendors change weekly\, but many of your favorites are there on repeat! Market hours are 8 am – 12 pm (April through October)\, and 9am – 12 pm (November though March). See you there!
URL:https://exploreapexnc.com/event-single-post-name/apex-farmers-market-5/2026-08-15/
ATTACH;FMTTYPE=image/png:https://exploreapexnc.com/wp-content/uploads/2026/04/Screenshot-2026-04-08-123450.png
END:VEVENT
BEGIN:VEVENT
DTSTART;TZID=UTC:20260822T080000
DTEND;TZID=UTC:20260822T120000
DTSTAMP:20260423T224745
CREATED:20260414T171018Z
LAST-MODIFIED:20260414T171018Z
UID:10001294-1787385600-1787400000@exploreapexnc.com
SUMMARY:Apex Farmers Market
DESCRIPTION:Head to Downtown Apex every Saturday morning and explore the outdoor vendor booths offering fresh produce\, meat and seafood\, baked goods\, prepared items\, and handmade crafts\, jewelry\, and art. The vendors change weekly\, but many of your favorites are there on repeat! Market hours are 8 am – 12 pm (April through October)\, and 9am – 12 pm (November though March). See you there!
URL:https://exploreapexnc.com/event-single-post-name/apex-farmers-market-5/2026-08-22/
ATTACH;FMTTYPE=image/png:https://exploreapexnc.com/wp-content/uploads/2026/04/Screenshot-2026-04-08-123450.png
END:VEVENT
BEGIN:VEVENT
DTSTART;TZID=UTC:20260822T150000
DTEND;TZID=UTC:20260822T170000
DTSTAMP:20260423T224745
CREATED:20260114T153946Z
LAST-MODIFIED:20260114T153946Z
UID:10000895-1787410800-1787418000@exploreapexnc.com
SUMMARY:Crafter-noon @ Bottle Theory!
DESCRIPTION:Bottle Theory presents… Crafter-noon! ✂🎨 \nThe 4th Saturday of every month we will open our space to those looking to get creative\, meet fellow crafters\, and sip on great beverages! Please note\, we are not leading the craft session. However if you are interested in leading a craft for one of the afternoons\, please reach out to us and we would love to acommodate! \nPlease bring some supplies (such as coloring\, knitting\,\nwatercolor\, etc)\, and we will provide items like corks\,\nbottles\, and cardboard. 🍾 \nLet the creative juices (and the good drinks) flow\, and\nlet’s create something beautiful!! 🖌
URL:https://exploreapexnc.com/event-single-post-name/crafter-noon-bottle-theory/2026-08-22/
LOCATION:Bottle Theory\, 3675 W Green Level Rd\, Apex\, NC\, 27523\, United States
ATTACH;FMTTYPE=image/png:https://exploreapexnc.com/wp-content/uploads/2026/01/Crafternoon-Social-Post-1.png
ORGANIZER;CN="Bottle Theory":MAILTO:events@apexbottletheory.com
END:VEVENT
BEGIN:VEVENT
DTSTART;TZID=UTC:20260829T080000
DTEND;TZID=UTC:20260829T120000
DTSTAMP:20260423T224745
CREATED:20260414T171018Z
LAST-MODIFIED:20260414T171018Z
UID:10001295-1787990400-1788004800@exploreapexnc.com
SUMMARY:Apex Farmers Market
DESCRIPTION:Head to Downtown Apex every Saturday morning and explore the outdoor vendor booths offering fresh produce\, meat and seafood\, baked goods\, prepared items\, and handmade crafts\, jewelry\, and art. The vendors change weekly\, but many of your favorites are there on repeat! Market hours are 8 am – 12 pm (April through October)\, and 9am – 12 pm (November though March). See you there!
URL:https://exploreapexnc.com/event-single-post-name/apex-farmers-market-5/2026-08-29/
ATTACH;FMTTYPE=image/png:https://exploreapexnc.com/wp-content/uploads/2026/04/Screenshot-2026-04-08-123450.png
END:VEVENT
BEGIN:VEVENT
DTSTART;TZID=UTC:20260905T080000
DTEND;TZID=UTC:20260905T120000
DTSTAMP:20260423T224745
CREATED:20260414T171018Z
LAST-MODIFIED:20260414T171018Z
UID:10001296-1788595200-1788609600@exploreapexnc.com
SUMMARY:Apex Farmers Market
DESCRIPTION:Head to Downtown Apex every Saturday morning and explore the outdoor vendor booths offering fresh produce\, meat and seafood\, baked goods\, prepared items\, and handmade crafts\, jewelry\, and art. The vendors change weekly\, but many of your favorites are there on repeat! Market hours are 8 am – 12 pm (April through October)\, and 9am – 12 pm (November though March). See you there!
URL:https://exploreapexnc.com/event-single-post-name/apex-farmers-market-5/2026-09-05/
ATTACH;FMTTYPE=image/png:https://exploreapexnc.com/wp-content/uploads/2026/04/Screenshot-2026-04-08-123450.png
END:VEVENT
BEGIN:VEVENT
DTSTART;TZID=UTC:20260912T080000
DTEND;TZID=UTC:20260912T120000
DTSTAMP:20260423T224745
CREATED:20260414T171018Z
LAST-MODIFIED:20260414T171018Z
UID:10001297-1789200000-1789214400@exploreapexnc.com
SUMMARY:Apex Farmers Market
DESCRIPTION:Head to Downtown Apex every Saturday morning and explore the outdoor vendor booths offering fresh produce\, meat and seafood\, baked goods\, prepared items\, and handmade crafts\, jewelry\, and art. The vendors change weekly\, but many of your favorites are there on repeat! Market hours are 8 am – 12 pm (April through October)\, and 9am – 12 pm (November though March). See you there!
URL:https://exploreapexnc.com/event-single-post-name/apex-farmers-market-5/2026-09-12/
ATTACH;FMTTYPE=image/png:https://exploreapexnc.com/wp-content/uploads/2026/04/Screenshot-2026-04-08-123450.png
END:VEVENT
BEGIN:VEVENT
DTSTART;TZID=UTC:20260919T080000
DTEND;TZID=UTC:20260919T120000
DTSTAMP:20260423T224745
CREATED:20260414T171018Z
LAST-MODIFIED:20260414T171018Z
UID:10001298-1789804800-1789819200@exploreapexnc.com
SUMMARY:Apex Farmers Market
DESCRIPTION:Head to Downtown Apex every Saturday morning and explore the outdoor vendor booths offering fresh produce\, meat and seafood\, baked goods\, prepared items\, and handmade crafts\, jewelry\, and art. The vendors change weekly\, but many of your favorites are there on repeat! Market hours are 8 am – 12 pm (April through October)\, and 9am – 12 pm (November though March). See you there!
URL:https://exploreapexnc.com/event-single-post-name/apex-farmers-market-5/2026-09-19/
ATTACH;FMTTYPE=image/png:https://exploreapexnc.com/wp-content/uploads/2026/04/Screenshot-2026-04-08-123450.png
END:VEVENT
BEGIN:VEVENT
DTSTART;TZID=UTC:20260926T080000
DTEND;TZID=UTC:20260926T120000
DTSTAMP:20260423T224745
CREATED:20260414T171018Z
LAST-MODIFIED:20260414T171018Z
UID:10001299-1790409600-1790424000@exploreapexnc.com
SUMMARY:Apex Farmers Market
DESCRIPTION:Head to Downtown Apex every Saturday morning and explore the outdoor vendor booths offering fresh produce\, meat and seafood\, baked goods\, prepared items\, and handmade crafts\, jewelry\, and art. The vendors change weekly\, but many of your favorites are there on repeat! Market hours are 8 am – 12 pm (April through October)\, and 9am – 12 pm (November though March). See you there!
URL:https://exploreapexnc.com/event-single-post-name/apex-farmers-market-5/2026-09-26/
ATTACH;FMTTYPE=image/png:https://exploreapexnc.com/wp-content/uploads/2026/04/Screenshot-2026-04-08-123450.png
END:VEVENT
BEGIN:VEVENT
DTSTART;TZID=UTC:20260926T150000
DTEND;TZID=UTC:20260926T170000
DTSTAMP:20260423T224745
CREATED:20260114T153946Z
LAST-MODIFIED:20260114T153946Z
UID:10000896-1790434800-1790442000@exploreapexnc.com
SUMMARY:Crafter-noon @ Bottle Theory!
DESCRIPTION:Bottle Theory presents… Crafter-noon! ✂🎨 \nThe 4th Saturday of every month we will open our space to those looking to get creative\, meet fellow crafters\, and sip on great beverages! Please note\, we are not leading the craft session. However if you are interested in leading a craft for one of the afternoons\, please reach out to us and we would love to acommodate! \nPlease bring some supplies (such as coloring\, knitting\,\nwatercolor\, etc)\, and we will provide items like corks\,\nbottles\, and cardboard. 🍾 \nLet the creative juices (and the good drinks) flow\, and\nlet’s create something beautiful!! 🖌
URL:https://exploreapexnc.com/event-single-post-name/crafter-noon-bottle-theory/2026-09-26/
LOCATION:Bottle Theory\, 3675 W Green Level Rd\, Apex\, NC\, 27523\, United States
ATTACH;FMTTYPE=image/png:https://exploreapexnc.com/wp-content/uploads/2026/01/Crafternoon-Social-Post-1.png
ORGANIZER;CN="Bottle Theory":MAILTO:events@apexbottletheory.com
END:VEVENT
BEGIN:VEVENT
DTSTART;TZID=UTC:20261003T080000
DTEND;TZID=UTC:20261003T120000
DTSTAMP:20260423T224745
CREATED:20260414T171018Z
LAST-MODIFIED:20260414T171018Z
UID:10001300-1791014400-1791028800@exploreapexnc.com
SUMMARY:Apex Farmers Market
DESCRIPTION:Head to Downtown Apex every Saturday morning and explore the outdoor vendor booths offering fresh produce\, meat and seafood\, baked goods\, prepared items\, and handmade crafts\, jewelry\, and art. The vendors change weekly\, but many of your favorites are there on repeat! Market hours are 8 am – 12 pm (April through October)\, and 9am – 12 pm (November though March). See you there!
URL:https://exploreapexnc.com/event-single-post-name/apex-farmers-market-5/2026-10-03/
ATTACH;FMTTYPE=image/png:https://exploreapexnc.com/wp-content/uploads/2026/04/Screenshot-2026-04-08-123450.png
END:VEVENT
BEGIN:VEVENT
DTSTART;TZID=UTC:20261010T080000
DTEND;TZID=UTC:20261010T120000
DTSTAMP:20260423T224745
CREATED:20260414T171018Z
LAST-MODIFIED:20260414T171018Z
UID:10001301-1791619200-1791633600@exploreapexnc.com
SUMMARY:Apex Farmers Market
DESCRIPTION:Head to Downtown Apex every Saturday morning and explore the outdoor vendor booths offering fresh produce\, meat and seafood\, baked goods\, prepared items\, and handmade crafts\, jewelry\, and art. The vendors change weekly\, but many of your favorites are there on repeat! Market hours are 8 am – 12 pm (April through October)\, and 9am – 12 pm (November though March). See you there!
URL:https://exploreapexnc.com/event-single-post-name/apex-farmers-market-5/2026-10-10/
ATTACH;FMTTYPE=image/png:https://exploreapexnc.com/wp-content/uploads/2026/04/Screenshot-2026-04-08-123450.png
END:VEVENT
BEGIN:VEVENT
DTSTART;TZID=UTC:20261017T080000
DTEND;TZID=UTC:20261017T120000
DTSTAMP:20260423T224745
CREATED:20260414T171018Z
LAST-MODIFIED:20260414T171018Z
UID:10001302-1792224000-1792238400@exploreapexnc.com
SUMMARY:Apex Farmers Market
DESCRIPTION:Head to Downtown Apex every Saturday morning and explore the outdoor vendor booths offering fresh produce\, meat and seafood\, baked goods\, prepared items\, and handmade crafts\, jewelry\, and art. The vendors change weekly\, but many of your favorites are there on repeat! Market hours are 8 am – 12 pm (April through October)\, and 9am – 12 pm (November though March). See you there!
URL:https://exploreapexnc.com/event-single-post-name/apex-farmers-market-5/2026-10-17/
ATTACH;FMTTYPE=image/png:https://exploreapexnc.com/wp-content/uploads/2026/04/Screenshot-2026-04-08-123450.png
END:VEVENT
BEGIN:VEVENT
DTSTART;TZID=UTC:20261024T080000
DTEND;TZID=UTC:20261024T120000
DTSTAMP:20260423T224745
CREATED:20260414T171018Z
LAST-MODIFIED:20260414T171018Z
UID:10001303-1792828800-1792843200@exploreapexnc.com
SUMMARY:Apex Farmers Market
DESCRIPTION:Head to Downtown Apex every Saturday morning and explore the outdoor vendor booths offering fresh produce\, meat and seafood\, baked goods\, prepared items\, and handmade crafts\, jewelry\, and art. The vendors change weekly\, but many of your favorites are there on repeat! Market hours are 8 am – 12 pm (April through October)\, and 9am – 12 pm (November though March). See you there!
URL:https://exploreapexnc.com/event-single-post-name/apex-farmers-market-5/2026-10-24/
ATTACH;FMTTYPE=image/png:https://exploreapexnc.com/wp-content/uploads/2026/04/Screenshot-2026-04-08-123450.png
END:VEVENT
BEGIN:VEVENT
DTSTART;TZID=UTC:20261024T150000
DTEND;TZID=UTC:20261024T170000
DTSTAMP:20260423T224745
CREATED:20260114T153946Z
LAST-MODIFIED:20260114T153946Z
UID:10000897-1792854000-1792861200@exploreapexnc.com
SUMMARY:Crafter-noon @ Bottle Theory!
DESCRIPTION:Bottle Theory presents… Crafter-noon! ✂🎨 \nThe 4th Saturday of every month we will open our space to those looking to get creative\, meet fellow crafters\, and sip on great beverages! Please note\, we are not leading the craft session. However if you are interested in leading a craft for one of the afternoons\, please reach out to us and we would love to acommodate! \nPlease bring some supplies (such as coloring\, knitting\,\nwatercolor\, etc)\, and we will provide items like corks\,\nbottles\, and cardboard. 🍾 \nLet the creative juices (and the good drinks) flow\, and\nlet’s create something beautiful!! 🖌
URL:https://exploreapexnc.com/event-single-post-name/crafter-noon-bottle-theory/2026-10-24/
LOCATION:Bottle Theory\, 3675 W Green Level Rd\, Apex\, NC\, 27523\, United States
ATTACH;FMTTYPE=image/png:https://exploreapexnc.com/wp-content/uploads/2026/01/Crafternoon-Social-Post-1.png
ORGANIZER;CN="Bottle Theory":MAILTO:events@apexbottletheory.com
END:VEVENT
BEGIN:VEVENT
DTSTART;TZID=UTC:20261031T080000
DTEND;TZID=UTC:20261031T120000
DTSTAMP:20260423T224745
CREATED:20260414T171018Z
LAST-MODIFIED:20260414T171018Z
UID:10001304-1793433600-1793448000@exploreapexnc.com
SUMMARY:Apex Farmers Market
DESCRIPTION:Head to Downtown Apex every Saturday morning and explore the outdoor vendor booths offering fresh produce\, meat and seafood\, baked goods\, prepared items\, and handmade crafts\, jewelry\, and art. The vendors change weekly\, but many of your favorites are there on repeat! Market hours are 8 am – 12 pm (April through October)\, and 9am – 12 pm (November though March). See you there!
URL:https://exploreapexnc.com/event-single-post-name/apex-farmers-market-5/2026-10-31/
ATTACH;FMTTYPE=image/png:https://exploreapexnc.com/wp-content/uploads/2026/04/Screenshot-2026-04-08-123450.png
END:VEVENT
BEGIN:VEVENT
DTSTART;TZID=UTC:20261107T080000
DTEND;TZID=UTC:20261107T120000
DTSTAMP:20260423T224745
CREATED:20260414T171018Z
LAST-MODIFIED:20260414T171018Z
UID:10001305-1794038400-1794052800@exploreapexnc.com
SUMMARY:Apex Farmers Market
DESCRIPTION:Head to Downtown Apex every Saturday morning and explore the outdoor vendor booths offering fresh produce\, meat and seafood\, baked goods\, prepared items\, and handmade crafts\, jewelry\, and art. The vendors change weekly\, but many of your favorites are there on repeat! Market hours are 8 am – 12 pm (April through October)\, and 9am – 12 pm (November though March). See you there!
URL:https://exploreapexnc.com/event-single-post-name/apex-farmers-market-5/2026-11-07/
ATTACH;FMTTYPE=image/png:https://exploreapexnc.com/wp-content/uploads/2026/04/Screenshot-2026-04-08-123450.png
END:VEVENT
BEGIN:VEVENT
DTSTART;TZID=UTC:20261114T080000
DTEND;TZID=UTC:20261114T120000
DTSTAMP:20260423T224745
CREATED:20260414T171018Z
LAST-MODIFIED:20260414T171018Z
UID:10001306-1794643200-1794657600@exploreapexnc.com
SUMMARY:Apex Farmers Market
DESCRIPTION:Head to Downtown Apex every Saturday morning and explore the outdoor vendor booths offering fresh produce\, meat and seafood\, baked goods\, prepared items\, and handmade crafts\, jewelry\, and art. The vendors change weekly\, but many of your favorites are there on repeat! Market hours are 8 am – 12 pm (April through October)\, and 9am – 12 pm (November though March). See you there!
URL:https://exploreapexnc.com/event-single-post-name/apex-farmers-market-5/2026-11-14/
ATTACH;FMTTYPE=image/png:https://exploreapexnc.com/wp-content/uploads/2026/04/Screenshot-2026-04-08-123450.png
END:VEVENT
BEGIN:VEVENT
DTSTART;TZID=UTC:20261121T080000
DTEND;TZID=UTC:20261121T120000
DTSTAMP:20260423T224745
CREATED:20260414T171018Z
LAST-MODIFIED:20260414T171018Z
UID:10001307-1795248000-1795262400@exploreapexnc.com
SUMMARY:Apex Farmers Market
DESCRIPTION:Head to Downtown Apex every Saturday morning and explore the outdoor vendor booths offering fresh produce\, meat and seafood\, baked goods\, prepared items\, and handmade crafts\, jewelry\, and art. The vendors change weekly\, but many of your favorites are there on repeat! Market hours are 8 am – 12 pm (April through October)\, and 9am – 12 pm (November though March). See you there!
URL:https://exploreapexnc.com/event-single-post-name/apex-farmers-market-5/2026-11-21/
ATTACH;FMTTYPE=image/png:https://exploreapexnc.com/wp-content/uploads/2026/04/Screenshot-2026-04-08-123450.png
END:VEVENT
BEGIN:VEVENT
DTSTART;TZID=UTC:20261128T080000
DTEND;TZID=UTC:20261128T120000
DTSTAMP:20260423T224745
CREATED:20260414T171018Z
LAST-MODIFIED:20260414T171018Z
UID:10001308-1795852800-1795867200@exploreapexnc.com
SUMMARY:Apex Farmers Market
DESCRIPTION:Head to Downtown Apex every Saturday morning and explore the outdoor vendor booths offering fresh produce\, meat and seafood\, baked goods\, prepared items\, and handmade crafts\, jewelry\, and art. The vendors change weekly\, but many of your favorites are there on repeat! Market hours are 8 am – 12 pm (April through October)\, and 9am – 12 pm (November though March). See you there!
URL:https://exploreapexnc.com/event-single-post-name/apex-farmers-market-5/2026-11-28/
ATTACH;FMTTYPE=image/png:https://exploreapexnc.com/wp-content/uploads/2026/04/Screenshot-2026-04-08-123450.png
END:VEVENT
BEGIN:VEVENT
DTSTART;TZID=UTC:20261128T150000
DTEND;TZID=UTC:20261128T170000
DTSTAMP:20260423T224745
CREATED:20260114T153946Z
LAST-MODIFIED:20260114T153946Z
UID:10000898-1795878000-1795885200@exploreapexnc.com
SUMMARY:Crafter-noon @ Bottle Theory!
DESCRIPTION:Bottle Theory presents… Crafter-noon! ✂🎨 \nThe 4th Saturday of every month we will open our space to those looking to get creative\, meet fellow crafters\, and sip on great beverages! Please note\, we are not leading the craft session. However if you are interested in leading a craft for one of the afternoons\, please reach out to us and we would love to acommodate! \nPlease bring some supplies (such as coloring\, knitting\,\nwatercolor\, etc)\, and we will provide items like corks\,\nbottles\, and cardboard. 🍾 \nLet the creative juices (and the good drinks) flow\, and\nlet’s create something beautiful!! 🖌
URL:https://exploreapexnc.com/event-single-post-name/crafter-noon-bottle-theory/2026-11-28/
LOCATION:Bottle Theory\, 3675 W Green Level Rd\, Apex\, NC\, 27523\, United States
ATTACH;FMTTYPE=image/png:https://exploreapexnc.com/wp-content/uploads/2026/01/Crafternoon-Social-Post-1.png
ORGANIZER;CN="Bottle Theory":MAILTO:events@apexbottletheory.com
END:VEVENT
BEGIN:VEVENT
DTSTART;TZID=UTC:20261205T080000
DTEND;TZID=UTC:20261205T120000
DTSTAMP:20260423T224745
CREATED:20260414T171018Z
LAST-MODIFIED:20260414T171018Z
UID:10001309-1796457600-1796472000@exploreapexnc.com
SUMMARY:Apex Farmers Market
DESCRIPTION:Head to Downtown Apex every Saturday morning and explore the outdoor vendor booths offering fresh produce\, meat and seafood\, baked goods\, prepared items\, and handmade crafts\, jewelry\, and art. The vendors change weekly\, but many of your favorites are there on repeat! Market hours are 8 am – 12 pm (April through October)\, and 9am – 12 pm (November though March). See you there!
URL:https://exploreapexnc.com/event-single-post-name/apex-farmers-market-5/2026-12-05/
ATTACH;FMTTYPE=image/png:https://exploreapexnc.com/wp-content/uploads/2026/04/Screenshot-2026-04-08-123450.png
END:VEVENT
BEGIN:VEVENT
DTSTART;TZID=UTC:20261212T080000
DTEND;TZID=UTC:20261212T120000
DTSTAMP:20260423T224745
CREATED:20260414T171018Z
LAST-MODIFIED:20260414T171018Z
UID:10001310-1797062400-1797076800@exploreapexnc.com
SUMMARY:Apex Farmers Market
DESCRIPTION:Head to Downtown Apex every Saturday morning and explore the outdoor vendor booths offering fresh produce\, meat and seafood\, baked goods\, prepared items\, and handmade crafts\, jewelry\, and art. The vendors change weekly\, but many of your favorites are there on repeat! Market hours are 8 am – 12 pm (April through October)\, and 9am – 12 pm (November though March). See you there!
URL:https://exploreapexnc.com/event-single-post-name/apex-farmers-market-5/2026-12-12/
ATTACH;FMTTYPE=image/png:https://exploreapexnc.com/wp-content/uploads/2026/04/Screenshot-2026-04-08-123450.png
END:VEVENT
BEGIN:VEVENT
DTSTART;TZID=UTC:20261219T080000
DTEND;TZID=UTC:20261219T120000
DTSTAMP:20260423T224745
CREATED:20260414T171018Z
LAST-MODIFIED:20260414T171018Z
UID:10001311-1797667200-1797681600@exploreapexnc.com
SUMMARY:Apex Farmers Market
DESCRIPTION:Head to Downtown Apex every Saturday morning and explore the outdoor vendor booths offering fresh produce\, meat and seafood\, baked goods\, prepared items\, and handmade crafts\, jewelry\, and art. The vendors change weekly\, but many of your favorites are there on repeat! Market hours are 8 am – 12 pm (April through October)\, and 9am – 12 pm (November though March). See you there!
URL:https://exploreapexnc.com/event-single-post-name/apex-farmers-market-5/2026-12-19/
ATTACH;FMTTYPE=image/png:https://exploreapexnc.com/wp-content/uploads/2026/04/Screenshot-2026-04-08-123450.png
END:VEVENT
BEGIN:VEVENT
DTSTART;TZID=UTC:20261226T080000
DTEND;TZID=UTC:20261226T120000
DTSTAMP:20260423T224745
CREATED:20260414T171018Z
LAST-MODIFIED:20260414T171018Z
UID:10001312-1798272000-1798286400@exploreapexnc.com
SUMMARY:Apex Farmers Market
DESCRIPTION:Head to Downtown Apex every Saturday morning and explore the outdoor vendor booths offering fresh produce\, meat and seafood\, baked goods\, prepared items\, and handmade crafts\, jewelry\, and art. The vendors change weekly\, but many of your favorites are there on repeat! Market hours are 8 am – 12 pm (April through October)\, and 9am – 12 pm (November though March). See you there!
URL:https://exploreapexnc.com/event-single-post-name/apex-farmers-market-5/2026-12-26/
ATTACH;FMTTYPE=image/png:https://exploreapexnc.com/wp-content/uploads/2026/04/Screenshot-2026-04-08-123450.png
END:VEVENT
BEGIN:VEVENT
DTSTART;TZID=UTC:20261226T150000
DTEND;TZID=UTC:20261226T170000
DTSTAMP:20260423T224745
CREATED:20260114T153946Z
LAST-MODIFIED:20260114T153946Z
UID:10000899-1798297200-1798304400@exploreapexnc.com
SUMMARY:Crafter-noon @ Bottle Theory!
DESCRIPTION:Bottle Theory presents… Crafter-noon! ✂🎨 \nThe 4th Saturday of every month we will open our space to those looking to get creative\, meet fellow crafters\, and sip on great beverages! Please note\, we are not leading the craft session. However if you are interested in leading a craft for one of the afternoons\, please reach out to us and we would love to acommodate! \nPlease bring some supplies (such as coloring\, knitting\,\nwatercolor\, etc)\, and we will provide items like corks\,\nbottles\, and cardboard. 🍾 \nLet the creative juices (and the good drinks) flow\, and\nlet’s create something beautiful!! 🖌
URL:https://exploreapexnc.com/event-single-post-name/crafter-noon-bottle-theory/2026-12-26/
LOCATION:Bottle Theory\, 3675 W Green Level Rd\, Apex\, NC\, 27523\, United States
ATTACH;FMTTYPE=image/png:https://exploreapexnc.com/wp-content/uploads/2026/01/Crafternoon-Social-Post-1.png
ORGANIZER;CN="Bottle Theory":MAILTO:events@apexbottletheory.com
END:VEVENT
BEGIN:VEVENT
DTSTART;TZID=UTC:20270102T080000
DTEND;TZID=UTC:20270102T120000
DTSTAMP:20260423T224746
CREATED:20260414T171018Z
LAST-MODIFIED:20260414T171018Z
UID:10001313-1798876800-1798891200@exploreapexnc.com
SUMMARY:Apex Farmers Market
DESCRIPTION:Head to Downtown Apex every Saturday morning and explore the outdoor vendor booths offering fresh produce\, meat and seafood\, baked goods\, prepared items\, and handmade crafts\, jewelry\, and art. The vendors change weekly\, but many of your favorites are there on repeat! Market hours are 8 am – 12 pm (April through October)\, and 9am – 12 pm (November though March). See you there!
URL:https://exploreapexnc.com/event-single-post-name/apex-farmers-market-5/2027-01-02/
ATTACH;FMTTYPE=image/png:https://exploreapexnc.com/wp-content/uploads/2026/04/Screenshot-2026-04-08-123450.png
END:VEVENT
BEGIN:VEVENT
DTSTART;TZID=UTC:20270109T080000
DTEND;TZID=UTC:20270109T120000
DTSTAMP:20260423T224746
CREATED:20260414T171018Z
LAST-MODIFIED:20260414T171018Z
UID:10001314-1799481600-1799496000@exploreapexnc.com
SUMMARY:Apex Farmers Market
DESCRIPTION:Head to Downtown Apex every Saturday morning and explore the outdoor vendor booths offering fresh produce\, meat and seafood\, baked goods\, prepared items\, and handmade crafts\, jewelry\, and art. The vendors change weekly\, but many of your favorites are there on repeat! Market hours are 8 am – 12 pm (April through October)\, and 9am – 12 pm (November though March). See you there!
URL:https://exploreapexnc.com/event-single-post-name/apex-farmers-market-5/2027-01-09/
ATTACH;FMTTYPE=image/png:https://exploreapexnc.com/wp-content/uploads/2026/04/Screenshot-2026-04-08-123450.png
END:VEVENT
BEGIN:VEVENT
DTSTART;TZID=UTC:20270116T080000
DTEND;TZID=UTC:20270116T120000
DTSTAMP:20260423T224746
CREATED:20260414T171018Z
LAST-MODIFIED:20260414T171018Z
UID:10001315-1800086400-1800100800@exploreapexnc.com
SUMMARY:Apex Farmers Market
DESCRIPTION:Head to Downtown Apex every Saturday morning and explore the outdoor vendor booths offering fresh produce\, meat and seafood\, baked goods\, prepared items\, and handmade crafts\, jewelry\, and art. The vendors change weekly\, but many of your favorites are there on repeat! Market hours are 8 am – 12 pm (April through October)\, and 9am – 12 pm (November though March). See you there!
URL:https://exploreapexnc.com/event-single-post-name/apex-farmers-market-5/2027-01-16/
ATTACH;FMTTYPE=image/png:https://exploreapexnc.com/wp-content/uploads/2026/04/Screenshot-2026-04-08-123450.png
END:VEVENT
BEGIN:VEVENT
DTSTART;TZID=UTC:20270123T080000
DTEND;TZID=UTC:20270123T120000
DTSTAMP:20260423T224746
CREATED:20260414T171018Z
LAST-MODIFIED:20260414T171018Z
UID:10001316-1800691200-1800705600@exploreapexnc.com
SUMMARY:Apex Farmers Market
DESCRIPTION:Head to Downtown Apex every Saturday morning and explore the outdoor vendor booths offering fresh produce\, meat and seafood\, baked goods\, prepared items\, and handmade crafts\, jewelry\, and art. The vendors change weekly\, but many of your favorites are there on repeat! Market hours are 8 am – 12 pm (April through October)\, and 9am – 12 pm (November though March). See you there!
URL:https://exploreapexnc.com/event-single-post-name/apex-farmers-market-5/2027-01-23/
ATTACH;FMTTYPE=image/png:https://exploreapexnc.com/wp-content/uploads/2026/04/Screenshot-2026-04-08-123450.png
END:VEVENT
END:VCALENDAR