BEGIN:VCALENDAR
VERSION:2.0
PRODID:-//Explore Apex - ECPv6.15.20//NONSGML v1.0//EN
CALSCALE:GREGORIAN
METHOD:PUBLISH
X-ORIGINAL-URL:https://exploreapexnc.com
X-WR-CALDESC:Events for Explore Apex
REFRESH-INTERVAL;VALUE=DURATION:PT1H
X-Robots-Tag:noindex
X-PUBLISHED-TTL:PT1H
BEGIN:VTIMEZONE
TZID:UTC
BEGIN:STANDARD
TZOFFSETFROM:+0000
TZOFFSETTO:+0000
TZNAME:UTC
DTSTART:20230101T000000
END:STANDARD
END:VTIMEZONE
BEGIN:VEVENT
DTSTART;TZID=UTC:20240907T080000
DTEND;TZID=UTC:20240907T120000
DTSTAMP:20260424T220727
CREATED:20240828T205730Z
LAST-MODIFIED:20240903T191950Z
UID:10000020-1725696000-1725710400@exploreapexnc.com
SUMMARY:Apex Farmers Market
DESCRIPTION:The Apex Farmers Market is an outdoor market featuring local vendors. Vendors change weekly\, offering produce\, meat and seafood\, baked goods\, prepared items\, and handmade crafts\, jewelry\, and art. \nKnow Before You Go\n\nView the downtown parking map for walkable parking locations.\nThe Depot Plaza will be closed for parking at 12:00 am each Saturday and will reopen for parking around 1:00 pm.\nGoApex Route1 operates through N. Salem Street\, with a stop in front of the Depot Plaza. Learn more about GoApex Route 1.\n\nFor more information\, visit the Apex Farmers Market website.
URL:https://exploreapexnc.com/event-single-post-name/apex-farmers-market/
LOCATION:The Depot\, 220 N Salem Street\, Apex\, 27502\, United States
ATTACH;FMTTYPE=image/jpeg:https://exploreapexnc.com/wp-content/uploads/2024/06/2017.06-Farmers-Market-28-1-scaled.jpg
END:VEVENT
BEGIN:VEVENT
DTSTART;TZID=UTC:20240908T080000
DTEND;TZID=UTC:20240908T170000
DTSTAMP:20260424T220727
CREATED:20240515T202557Z
LAST-MODIFIED:20240520T125445Z
UID:10000008-1725782400-1725814800@exploreapexnc.com
SUMMARY:Peak City Fitness Festival
DESCRIPTION:For more information on vendors\, schedule\, and more\, visit the Facts for Youth website. \nCelebrate fitness and wellness with this exercise and healthy living fair! Learn from wellness-based businesses and healthy food vendors about their products and services. The festival features: \n\nLive music and organized exercise sessions\nFood truck rodeo\nLocal health and wellness vendors\n\nKnow Before You Go:\n\nAll parking lots on Town Hall Campus are available during this event except the arch parking lot between Town Hall and the John M. Brown Community Center\, which is closed to vehicular traffic. View the downtown parking map for additional walkable parking locations.\nAccessible parking spaces are available at the John M. Brown Community Center and Town Hall.\nThere are no road closures for this event.\nTown staff may be on site during the festival taking photos/video of events and attendees.
URL:https://exploreapexnc.com/event-single-post-name/peak-city-fitness-festival/
LOCATION:Apex Town Campus\, 73 Hunter Street\, Apex\, NC\, 27502\, United States
ATTACH;FMTTYPE=image/png:https://exploreapexnc.com/wp-content/uploads/2024/05/Screenshot-2024-05-20-085325-e1768335129913.png
END:VEVENT
BEGIN:VEVENT
DTSTART;TZID=UTC:20240911T093000
DTEND;TZID=UTC:20240911T103000
DTSTAMP:20260424T220727
CREATED:20240618T143637Z
LAST-MODIFIED:20240618T143724Z
UID:10000010-1726047000-1726050600@exploreapexnc.com
SUMMARY:Patriot Day Ceremony
DESCRIPTION:This is a Community Event organized by the Apex American Legion Post 124. \nFor more information\, visit the Apex Legion website. \nPatriot Day Ceremony is an event organized by the American Legion Post 124\, where members of Apex public safety\, Town Council\, and other community members share words and reflect on the tragic events of September 11\, 2001. \n\nMonday\, September 11th from 9:30 to 10:30 am\nThis event takes place at the Downtown Service Memorial (corner of Salem Street and Saunders Street)\nSaunders Street\, between Commerce Street and Salem Street\, will be closed from 9:00 to 11:00 am.\nIn case of inclement weather\, the ceremony will move to Apex Fire Station 1 (210 N Salem Street)\nGoApex Route 1 will operate on its normal route and schedule.\nf you would like to plan ahead for parking\, this map may help: www.apexnc.org/downtownparking
URL:https://exploreapexnc.com/event-single-post-name/patriot-day-ceremony/
LOCATION:Apex Service Memorial\, corner of Saunders St. and N Salem St.\, Apex\, NC\, 27502\, United States
ATTACH;FMTTYPE=image/jpeg:https://exploreapexnc.com/wp-content/uploads/2024/06/IMG_3389-Edit-scaled.jpg
END:VEVENT
BEGIN:VEVENT
DTSTART;TZID=UTC:20240914T080000
DTEND;TZID=UTC:20240914T120000
DTSTAMP:20260424T220728
CREATED:20240903T192125Z
LAST-MODIFIED:20240903T192125Z
UID:10000021-1726300800-1726315200@exploreapexnc.com
SUMMARY:Apex Farmer's Market
DESCRIPTION:The Apex Farmers Market is an outdoor market featuring local vendors. Vendors change weekly\, offering produce\, meat and seafood\, baked goods\, prepared items\, and handmade crafts\, jewelry\, and art. \nKnow Before You Go\n\nView the downtown parking map for walkable parking locations.\nThe Depot Plaza will be closed for parking at 12:00 am each Saturday and will reopen for parking around 1:00 pm.\nGoApex Route1 operates through N. Salem Street\, with a stop in front of the Depot Plaza. Learn more about GoApex Route 1.\n\nFor more information\, visit the Apex Farmers Market website.
URL:https://exploreapexnc.com/event-single-post-name/apex-farmers-market-2/
LOCATION:The Depot\, 220 N Salem Street\, Apex\, 27502\, United States
ATTACH;FMTTYPE=image/jpeg:https://exploreapexnc.com/wp-content/uploads/2024/06/2017.06-Farmers-Market-28-1-scaled.jpg
END:VEVENT
BEGIN:VEVENT
DTSTART;TZID=UTC:20240921T080000
DTEND;TZID=UTC:20240921T120000
DTSTAMP:20260424T220728
CREATED:20240903T193400Z
LAST-MODIFIED:20240903T195134Z
UID:10000022-1726905600-1726920000@exploreapexnc.com
SUMMARY:Apex Farmer's Market
DESCRIPTION:The Apex Farmers Market is an outdoor market featuring local vendors. Vendors change weekly\, offering produce\, meat and seafood\, baked goods\, prepared items\, and handmade crafts\, jewelry\, and art. \nKnow Before You Go\n\nView the downtown parking map for walkable parking locations.\nThe Depot Plaza will be closed for parking at 12:00 am each Saturday and will reopen for parking around 1:00 pm.\nGoApex Route1 operates through N. Salem Street\, with a stop in front of the Depot Plaza. Learn more about GoApex Route 1.\n\nFor more information\, visit the Apex Farmers Market website.
URL:https://exploreapexnc.com/event-single-post-name/apex-farmers-market-3/
LOCATION:The Depot\, 220 N Salem Street\, Apex\, 27502\, United States
ATTACH;FMTTYPE=image/jpeg:https://exploreapexnc.com/wp-content/uploads/2024/06/2017.06-Farmers-Market-28-1-scaled.jpg
END:VEVENT
BEGIN:VEVENT
DTSTART;TZID=UTC:20240921T110000
DTEND;TZID=UTC:20240921T170000
DTSTAMP:20260424T220728
CREATED:20240917T143305Z
LAST-MODIFIED:20240917T143305Z
UID:10000025-1726916400-1726938000@exploreapexnc.com
SUMMARY:Fall in Stars Hollow
DESCRIPTION:Join us for a day full of celebrating all things Gilmore Girls by drinking Luke’s coffee\, shopping Rory’s Bookshelf\, doing Halloween DIYs\, snapping photos in our Fall Photobooth and so much more fall fun! \nThis Stars Hollow themed day will include:\n☕️ a pop up coffee shop by WanderBee Coffee Co (whos ready to try the Sookie?!)\n🎃 Lauren Likes Jewelry will have a DIY Spooky Earrings Bar\n🌸 Golden Flora will have succulent pumpkins and DIY Bouquet Bar\n🧶 WanderlustBee will have cozy crochet goods\n📚 Rory’s Bookshelf where you can shop mystery books\n📺 Gilmore Girls will be playing in our theatre all day\n✏️ Gilmore Girls trivia!!\n🖊️ Henna by Nadia will be doing Henna from 11-2\n🎨 plus 20+ other local handmade artist will have tons of unique gifts and treats to shop! \nBring a friend and spend the day with us relaxing and enjoying the perfect fall weather from 11-5pm in Downtown Apex at The Studio as we settle the debate: Jess\, Dean or Logan!\n106 W Chatham St Apex NC. Parking is free on the street at the Baptist church across the street.
URL:https://exploreapexnc.com/event-single-post-name/fall-in-stars-hollow/
LOCATION:the studio\, 106 W Chatham St\, Apex\, 27502\, United States
ATTACH;FMTTYPE=image/jpeg:https://exploreapexnc.com/wp-content/uploads/2024/09/Beige-Scrapbook-Music-Festival-Facebook-Event-Cover-Facebook-Cover-Instagram-Post.jpg
END:VEVENT
BEGIN:VEVENT
DTSTART;TZID=UTC:20240921T110000
DTEND;TZID=UTC:20240921T190000
DTSTAMP:20260424T220728
CREATED:20240903T151335Z
LAST-MODIFIED:20240903T191319Z
UID:10000011-1726916400-1726945200@exploreapexnc.com
SUMMARY:Festa Italiana
DESCRIPTION:This is a Community Event organized by Festa Italia North Carolina. \nNew in 2024! Festa Italiana brings Italian heritage and culture to Apex! For more information on vendors\, entertainment\, sponsorship opportunities and volunteering\, visit the Festa Italiana NC website. \nThis year’s celebration will feature: \n\nLive entertainment and cooking demonstrations\nKids zone\nFood trucks\nStreet vendors\nand more!\n\nKnow Before You Go:\n\nHunter Street will be closed to vehicles between Ambergate Station and Laura Duncan Road\nTown staff may be on site during the festival taking photos/video of festival events and attendees
URL:https://exploreapexnc.com/event-single-post-name/festa-italiana/
LOCATION:Apex Town Campus\, 73 Hunter Street\, Apex\, NC\, 27502\, United States
ATTACH;FMTTYPE=image/png:https://exploreapexnc.com/wp-content/uploads/2024/06/Screenshot-2024-06-18-105406.png
END:VEVENT
BEGIN:VEVENT
DTSTART;TZID=UTC:20240928T150000
DTEND;TZID=UTC:20240928T210000
DTSTAMP:20260424T220728
CREATED:20240903T151455Z
LAST-MODIFIED:20240903T191516Z
UID:10000017-1727535600-1727557200@exploreapexnc.com
SUMMARY:Latino Arts Festival
DESCRIPTION:The Latino Arts & Culinary Festival invites attendees to celebrate and learn about Latino culture and heritage. \nThis year’s celebration features: \n\nLive music and entertainment\n\nColombian band\, Abakua Latin Music\nSpanish Flamenco Dancing by Eduardo de Rosamaria’s Spanish Guitar and Flamenco Ensemble\nBrazilian dancing and drumming by the NC Brazilian Arts Project\nTakiri Folclor Latino dance group\nDJ Machete\n\n\nFood Truck Rodeo\nLatino-inspired arts and crafts vendors\n\nKnow Before You Go:\n\nThe Depot parking lot will be closed for the event. View the downtown parking map for walkable parking locations.\nSalem Street will be closed from Center Street to Saunders Street during the event.\nGoApex Route 1 will operate on an alternative route during the festival and road closures. View the detour map\nTown staff will be on site during the festival taking photos/video of festival events and attendees.
URL:https://exploreapexnc.com/event-single-post-name/latino-arts-festival/
LOCATION:The Depot\, 220 N Salem Street\, Apex\, 27502\, United States
ATTACH;FMTTYPE=image/jpeg:https://exploreapexnc.com/wp-content/uploads/2024/05/2022-06-04-Latino-Arts-Festival-64-scaled.jpg
END:VEVENT
END:VCALENDAR