BEGIN:VCALENDAR
VERSION:2.0
PRODID:-//Explore Apex - ECPv6.15.20//NONSGML v1.0//EN
CALSCALE:GREGORIAN
METHOD:PUBLISH
X-WR-CALNAME:Explore Apex
X-ORIGINAL-URL:https://exploreapexnc.com
X-WR-CALDESC:Events for Explore Apex
REFRESH-INTERVAL;VALUE=DURATION:PT1H
X-Robots-Tag:noindex
X-PUBLISHED-TTL:PT1H
BEGIN:VTIMEZONE
TZID:UTC
BEGIN:STANDARD
TZOFFSETFROM:+0000
TZOFFSETTO:+0000
TZNAME:UTC
DTSTART:20230101T000000
END:STANDARD
END:VTIMEZONE
BEGIN:VEVENT
DTSTART;TZID=UTC:20241001T163000
DTEND;TZID=UTC:20241001T190000
DTSTAMP:20260424T220609
CREATED:20240515T200743Z
LAST-MODIFIED:20240515T200743Z
UID:10000005-1727800200-1727809200@exploreapexnc.com
SUMMARY:Apex Night Out (featuring Touch-a-Truck)
DESCRIPTION:This event combines everything you love about our annual National Night Out event and Touch-a-Truck. Join the Apex Police Department and Apex Parks\, Recreation and Cultural Resources for an evening of ultimate fun! This is a free event for the community and no registration is required. \n\n\n\n\n\n\n\n\n\n\n\n\n\n\n\n\n\n\n\n\n\nEvent Details\nNational Night Out was designed to enhance the relationship between neighbors and law enforcement while bringing back a true sense of community under positive circumstances. National Night Out events are held in August nationwide\, however our event is held in October to beat the summer heat. There will be safety information and displays\, as well house games and lots of interactive activities. \nTouch-a-Truck allows children to get in the driver’s seat with a free hands-on experience with vehicles of all kinds. We will have local representatives and their vehicles from emergency\, construction\, landscaping\, military\, transportation\, and delivery all in one place! Children will be allowed to touch\, climb on\, and ask questions about their favorite trucks and cars in a safe and supervised environment. \n\nKnow Before You Go:\n\nHorn free hour is from 4:30 pm – 5:30 pm for those that may be sensitive to loud sounds and sirens.\nThis is a rain or shine event – be prepared for all weather!\nAdult supervision is required.\nThere are no road closures during this event\, but some parking on campus may be closed to vehicle traffic. View the downtown parking map for walkable parking locations.\nTown staff may be on site during the event to take photos/videos
URL:https://exploreapexnc.com/event-single-post-name/apex-night-out-featuring-touch-a-truck/
LOCATION:Apex Town Campus\, 73 Hunter Street\, Apex\, NC\, 27502\, United States
ATTACH;FMTTYPE=image/jpeg:https://exploreapexnc.com/wp-content/uploads/2024/05/2022-Touch-a-Truck-Aex-Night-Out-20-scaled.jpg
END:VEVENT
BEGIN:VEVENT
DTSTART;TZID=UTC:20241006T110000
DTEND;TZID=UTC:20241006T160000
DTSTAMP:20260424T220609
CREATED:20240917T201430Z
LAST-MODIFIED:20240917T201430Z
UID:10000026-1728212400-1728230400@exploreapexnc.com
SUMMARY:Apex "Love Local" Showcase
DESCRIPTION:Join Apex Economic Development as we “Love Local” Apex businesses and they “Showcase” why Apex is the “Peak of Good Business!”\nAt the Apex Love Local Showcase attendees will be able to shop\, sample\, stroll and experience Apex businesses all in one destination!\nFor more information\, visit: www.apexnc.org/Love-Local-Showcase
URL:https://exploreapexnc.com/event-single-post-name/apex-love-local-showcase/
LOCATION:Downtown Apex\, 220 N Salem Street\, Apex\, NC\, 27502\, United States
ATTACH;FMTTYPE=image/png:https://exploreapexnc.com/wp-content/uploads/2024/09/Social-media-graphic-for-businesses.png
ORGANIZER;CN="Apex Economic Development":MAILTO:Colleen.Merays@apexnc.org
END:VEVENT
BEGIN:VEVENT
DTSTART;TZID=UTC:20241010T180000
DTEND;TZID=UTC:20241010T193000
DTSTAMP:20260424T220609
CREATED:20240515T200038Z
LAST-MODIFIED:20240925T153029Z
UID:10000004-1728583200-1728588600@exploreapexnc.com
SUMMARY:Explore S'more
DESCRIPTION:Enjoy an evening of exploring nature and connecting with your Apex neighbors! This is a free annual community event held the last Thursday in September during Take a Child Outside Week. Take a Child Outside is an international program that encourages children and adults to spend time outdoors doing fun things and learning about nature together. \nExplore S’more is hosted by the Apex Parks\, Recreation\, and Cultural Resources staff and features nature education information\, interactive games\, and\, of course\, roasting s’mores!
URL:https://exploreapexnc.com/event-single-post-name/explore-smore/
LOCATION:Apex Nature Park Amphitheater\, 2600 Evans Road\, Apex\, NC\, 27502\, United States
ATTACH;FMTTYPE=image/png:https://exploreapexnc.com/wp-content/uploads/2024/05/Screenshot-2024-05-15-160019.png
END:VEVENT
BEGIN:VEVENT
DTSTART;TZID=UTC:20241014T080000
DTEND;TZID=UTC:20241014T170000
DTSTAMP:20260424T220609
CREATED:20240618T153358Z
LAST-MODIFIED:20240618T153655Z
UID:10000013-1728892800-1728925200@exploreapexnc.com
SUMMARY:Indigenous Peoples' Day
DESCRIPTION:This is a Town-Organized event. \nIndigenous Peoples’ Day is a holiday that honors and celebrates the histories and cultures of indigenous peoples in the United States. It is celebrated on the second Monday of October. \nCheck back for more information on this event.
URL:https://exploreapexnc.com/event-single-post-name/indigenous-peoples-day/
LOCATION:NC
ATTACH;FMTTYPE=image/jpeg:https://exploreapexnc.com/wp-content/uploads/2024/06/2023-Indigenous-Peoples-Day-80-scaled.jpg
END:VEVENT
BEGIN:VEVENT
DTSTART;VALUE=DATE:20241018
DTEND;VALUE=DATE:20241101
DTSTAMP:20260424T220609
CREATED:20240828T204805Z
LAST-MODIFIED:20240828T204805Z
UID:10000018-1729209600-1730419199@exploreapexnc.com
SUMMARY:Tour of Frights
DESCRIPTION:The Tour of Frights is an annual program that features Apex homes and business with some of the very best Halloween or fall-themed decorations. \nHow it works: Every year in September\, residents and businesses sign up for the Tour to showcase their homes or businesses. After registration closes\, we create a Tour of Frights map to share with the community! Participants must have their display ready to go live by mid-October.
URL:https://exploreapexnc.com/event-single-post-name/tour-of-frights/
LOCATION:NC
ATTACH;FMTTYPE=image/png:https://exploreapexnc.com/wp-content/uploads/2024/08/Document.png
END:VEVENT
BEGIN:VEVENT
DTSTART;TZID=UTC:20241019T133000
DTEND;TZID=UTC:20241019T160000
DTSTAMP:20260424T220609
CREATED:20241017T123030Z
LAST-MODIFIED:20241017T123030Z
UID:10000032-1729344600-1729353600@exploreapexnc.com
SUMMARY:3rd Annual Pawsitively Spooky Pet Fest
DESCRIPTION:Presented once again by Positively Apex\, Peak City Veterinary Hospital\, and K9 Resorts of Apex!\nFestival is FREE to attend for people and dogs.\nAll dogs should be on a leash\, and acceptable for social setting.\nAs always\, the free festival will have food\, activities\, trick or treating for people and pets\, and costume contests for all ages and pets!\nWe will have a bunch of vendors from local businesses that would love to meet you\, and give out candy and dog treats. You can get a ziploc bag to collect dog treats at check-in table\, and a bag for candy while supplies last!\nSign in for the costume contest before 2:30pm! \n3:00-3:30pm: Costume contests- special guest judge!\nWe will have some rescues involved that will have fundraising efforts!\nVendor spots still open! Limited spots available. Spaces will be $75 for non- partners of Positively Apex. No more than 2 per category allowed. Vendors do not have to be pet-related but we aim to have many of those too.\nQuestions? Email positivelyapex@gmail.com
URL:https://exploreapexnc.com/event-single-post-name/3rd-annual-pawsitively-spooky-pet-fest/
LOCATION:Beaver Creek Crossings\, 1571 Beaver Creek Commons Dr\, Apex\, N\, 27502\, United States
ATTACH;FMTTYPE=image/jpeg:https://exploreapexnc.com/wp-content/uploads/2024/10/456627180_1185794673011909_4963896509088865013_n.jpg
ORGANIZER;CN="Positively Apex":MAILTO:positivelyapex@gmail.com
END:VEVENT
BEGIN:VEVENT
DTSTART;TZID=UTC:20241025T170000
DTEND;TZID=UTC:20241025T210000
DTSTAMP:20260424T220609
CREATED:20240925T152940Z
LAST-MODIFIED:20240925T152940Z
UID:10000027-1729875600-1729890000@exploreapexnc.com
SUMMARY:Witches Night Out
DESCRIPTION:Dust off your broomsticks and grab your pointy hats—it’s time for Witches Night Out on Salem Street in Downtown Apex! Join us on October 25th from 5 PM to 9 PM\, as your favorite downtown spots stay open late with magical experiences and spellbinding promotions.\nDon’t miss out on this year’s Witches Night Out—mark your calendars for an enchanting evening!\nCurrent Participating Businesses: Adventures In Bloom Alleyway Bookstore: 10% off all books Bear Hands | Gifts\, Workshop & Studio Cotton Wood Cottage French Bleue Gail and Grace: Giveaway with purchase Monroe Boutique The Perky Lady Rose & Lee Co Sawdust and Clay Stylish Living: 10% off The Tulip Magnolia\n…and more to come!\nJoin us for a bewitching night you won’t forget! 
URL:https://exploreapexnc.com/event-single-post-name/witches-night-out/
LOCATION:Downtown Apex\, 220 N Salem Street\, Apex\, NC\, 27502\, United States
ATTACH;FMTTYPE=image/png:https://exploreapexnc.com/wp-content/uploads/2024/09/Save-The-Date.png
END:VEVENT
END:VCALENDAR