BEGIN:VCALENDAR
VERSION:2.0
PRODID:-//Explore Apex - ECPv6.15.20//NONSGML v1.0//EN
CALSCALE:GREGORIAN
METHOD:PUBLISH
X-WR-CALNAME:Explore Apex
X-ORIGINAL-URL:https://exploreapexnc.com
X-WR-CALDESC:Events for Explore Apex
REFRESH-INTERVAL;VALUE=DURATION:PT1H
X-Robots-Tag:noindex
X-PUBLISHED-TTL:PT1H
BEGIN:VTIMEZONE
TZID:UTC
BEGIN:STANDARD
TZOFFSETFROM:+0000
TZOFFSETTO:+0000
TZNAME:UTC
DTSTART:20230101T000000
END:STANDARD
END:VTIMEZONE
BEGIN:VEVENT
DTSTART;VALUE=DATE:20241206
DTEND;VALUE=DATE:20241216
DTSTAMP:20260424T180238
CREATED:20241016T201800Z
LAST-MODIFIED:20241016T201800Z
UID:10000030-1733443200-1734307199@exploreapexnc.com
SUMMARY:Snowman Stroll on Salem
DESCRIPTION:The Snowman Stroll on Salem is a festive promotional event designed to enhance your holiday experience in Downtown Apex. As you explore\, collect passport stamps by visiting participating businesses and engaging in a variety of holiday activities. Each stop will feature delightful snowman and winter-themed specials\, decorations\, and unique offerings. \nHow to Participate and Earn Passport Stamps:\n1. Visit Downtown Snowman Stops: Collect stamps in your Snowman Stroll Passport by stopping at participating locations. \n2. Join in on Holiday Happenings: Attend the Annual Apex Tree Lighting\, take a Holiday Lights Tour\, and enjoy many other festive events. \n3. Engage in Merrymaking Activities: Purchase food or drinks\, buy gift cards\, create snowman-themed art for the Free Little Art Gallery\, or snap a festive selfie with a snowman and tag #SnowmanStrollApexNC2024. \n4. Enter the Raffle: Submit your completed passport by Monday\, December 16 for a chance to win exciting prizes! Each six stamps collected earns you one raffle entry.
URL:https://exploreapexnc.com/event-single-post-name/snowman-stroll-on-salem/
LOCATION:Downtown Apex\, 220 N Salem Street\, Apex\, NC\, 27502\, United States
ATTACH;FMTTYPE=image/png:https://exploreapexnc.com/wp-content/uploads/2024/10/save-the-date-nov-4.png
ORGANIZER;CN="Apex Economic Development":MAILTO:Colleen.Merays@apexnc.org
END:VEVENT
BEGIN:VEVENT
DTSTART;TZID=UTC:20241206T163000
DTEND;TZID=UTC:20241206T180000
DTSTAMP:20260424T180238
CREATED:20241017T162654Z
LAST-MODIFIED:20241017T162654Z
UID:10000033-1733502600-1733508000@exploreapexnc.com
SUMMARY:Apex Christmas Tree Lighting
DESCRIPTION:Join community members and the Apex Town Council in downtown Apex as the tree at The Depot is lit! \nKnow Before You Go:\n-View the downtown parking map for walkable parking locations.\n-The lighting of the tree is rain or shine; however\, youth performances may be cancelled due to inclement weather.\n-GoApex Route 1 will operate on normal schedule during this event.\n-Town staff may be on site during the festival taking photos/video of festival events and attendees.
URL:https://exploreapexnc.com/event-single-post-name/apex-christmas-tree-lighting/
LOCATION:The Depot\, 220 N Salem Street\, Apex\, 27502\, United States
ATTACH;FMTTYPE=image/jpeg:https://exploreapexnc.com/wp-content/uploads/2024/10/2021.12.03-Tree-Lighting-Downtown-Depot-Caroling-Band-Community-97-scaled-2.jpg
END:VEVENT
BEGIN:VEVENT
DTSTART;TZID=UTC:20241207T170000
DTEND;TZID=UTC:20241207T190000
DTSTAMP:20260424T180238
CREATED:20241017T204736Z
LAST-MODIFIED:20241018T193419Z
UID:10000034-1733590800-1733598000@exploreapexnc.com
SUMMARY:Apex Rotary Christmas Parade
DESCRIPTION:The Annual Apex Rotary Christmas Parade traditionally takes place the first Saturday of December. The parade is the only nighttime holiday parade in Wake County. The Apex Rotary Club organizes the parade\, with proceeds benefitting numerous local charities; the primary benefactor being Western Wake Crisis Ministry. The parade kicks off at Apex Peakway and Ambergate Station\, turning down Salem Street\, and ending at Moore Street. \nKnow Before You Go:\nThis is a rain or shine event.\nView the downtown parking map for walkable parking locations.\nTown staff may be on site during the event taking photos/video of the event and attendees.
URL:https://exploreapexnc.com/event-single-post-name/apex-rotary-christmas-parade/
LOCATION:Downtown Apex\, 220 N Salem Street\, Apex\, NC\, 27502\, United States
ATTACH;FMTTYPE=image/jpeg:https://exploreapexnc.com/wp-content/uploads/2024/10/2023-Christmas-Parade-92-scaled-1.jpg
END:VEVENT
BEGIN:VEVENT
DTSTART;TZID=UTC:20241208T150000
DTEND;TZID=UTC:20241208T170000
DTSTAMP:20260424T180238
CREATED:20241120T164605Z
LAST-MODIFIED:20241120T164605Z
UID:10000045-1733670000-1733677200@exploreapexnc.com
SUMMARY:Dearest Gentle Eater... A Holiday Tea Party
DESCRIPTION:Dearest Gentle Eater…\nJoin us for our Bridgerton-ball-themed Holiday tea Party!\nTickets are $79 per person or $149 per pair.\nDress in your finest Regency-themed attire (there will be a contest!)\, and practice sticking those pinkies out!\nAges 10 and up welcome.\nTraditional afternoon tea service\, other activities\, a giving and taking tree\, door prizes\, and more! Grab those hats\, fascinators and tiaras and have some fun!\nHosted by Positively Apex and The Enchanted Picnic Company\, featuring teas from Serasana Holly Springs!
URL:https://exploreapexnc.com/event-single-post-name/dearest-gentle-eater-a-holiday-tea-party/
LOCATION:New Hill Community Center\, 3101 New Hill Holleman Rd\, New Hill\, N\, 27562\, United States
ATTACH;FMTTYPE=image/jpeg:https://exploreapexnc.com/wp-content/uploads/2024/11/Holiday-Tea-Party-2.jpg
ORGANIZER;CN="Positively Apex":MAILTO:positivelyapex@gmail.com
END:VEVENT
BEGIN:VEVENT
DTSTART;TZID=UTC:20241213T170000
DTEND;TZID=UTC:20241213T210000
DTSTAMP:20260424T180238
CREATED:20241205T140225Z
LAST-MODIFIED:20241205T140225Z
UID:10000053-1734109200-1734123600@exploreapexnc.com
SUMMARY:Downtown Apex Ugly Sweater Party
DESCRIPTION:Get ready to sleigh the night away in your most delightfully tacky holiday sweaters! 🌟 Join us for the Downtown Apex Ugly Sweater Party\, where festive fashion meets late-night holiday shopping fun.\nEvent Highlights:\n✨ Participating stores will stay open late\, offering exclusive deals\, holiday treats\, and gift-wrapping services for those donning their ugliest of sweaters!\n✨ Stroll through our charming downtown\, decked out in twinkling lights and holiday cheer.\n✨ Wrap up your shopping while soaking in the festive vibes.\n✨ Whether you’re hunting for the perfect gift\, enjoying delicious treats\, or just want to rock your ugliest sweater\, this event is for you! \n📌 Don’t forget to bring your friends and family—it’s the most wonderful time to shop\, celebrate\, and support local businesses! \nFollow our Facebook event for updates and participating store details: https://www.facebook.com/events/1624713295120202?acontext=%7B%22event_action_history%22%3A[]%7D
URL:https://exploreapexnc.com/event-single-post-name/downtown-apex-ugly-sweater-party/
LOCATION:Downtown Apex\, 220 N Salem Street\, Apex\, NC\, 27502\, United States
ATTACH;FMTTYPE=image/png:https://exploreapexnc.com/wp-content/uploads/2024/12/IG-Post-1-Ugly-Sweater-1.png
END:VEVENT
BEGIN:VEVENT
DTSTART;TZID=UTC:20241221T100000
DTEND;TZID=UTC:20241221T170000
DTSTAMP:20260424T180238
CREATED:20241212T132008Z
LAST-MODIFIED:20241212T132008Z
UID:10000054-1734775200-1734800400@exploreapexnc.com
SUMMARY:Gilmore Girls Christmas
DESCRIPTION:Join us for a day full of celebrating all things Gilmore Girls by drinking Luke’s coffee\, shopping Rory’s Bookshelf\, and so much more holiday fun! \nThis Stars Hollow themed day will include: \n☕️ a pop up coffee shop by WanderBee Coffee Co (whos ready to try the Sookie?!)\n❄️ Gilmore Girls themed gifts items\n🎄 Lauren Likes Jewelry will have a DIY Christmas Earrings Bar\n🧶 WanderlustBee will have cozy crochet goods\n📚 Rory’s Bookshelf where you can shop mystery books\n❓ Gilmore Girl Trivia will be at 2pm with prizes!\n🎨 25+ other local handmade artist will have tons of unique gifts for last minute christmas shopping!\n🛍️ 7 Vintage vendors for expertly curated vintage clothes\, home goods\, and unique finds \nBring a friend and spend the day with us celebrating all things Stars Hollow and lets see if we smell snow from 10-5pm in Downtown Apex at The Studio as we settle the debate: Jess\, Dean or Logan!\n106 W Chatham St Apex NC.
URL:https://exploreapexnc.com/event-single-post-name/gilmore-girls-christmas/
LOCATION:the studio\, 106 W Chatham St\, Apex\, 27502\, United States
ATTACH;FMTTYPE=image/jpeg:https://exploreapexnc.com/wp-content/uploads/2024/12/Red-Collage-Merry-Christmas-Facebook-Cover-Instagram-Post.jpg
END:VEVENT
BEGIN:VEVENT
DTSTART;VALUE=DATE:20241229
DTEND;VALUE=DATE:20241230
DTSTAMP:20260424T180238
CREATED:20240515T202937Z
LAST-MODIFIED:20240515T202937Z
UID:10000009-1735430400-1735516799@exploreapexnc.com
SUMMARY:Chanukah Festival
DESCRIPTION:For more information\, visit the Chabad of Cary website. \nThe Chanukah Festival is an event organized by the Chabad of Cary and celebrates the beginning of the Jewish eight-day festival of lights\, Chanukah. This event features games\, crafts\, and food\, and ends with lighting a menorah on Town Campus. \nKnow Before You Go:\n\nAll parking lots on Town Hall Campus are available during this event except the arc parking lot between Town Hall and the John M. Brown Community Center\, which is closed to vehicular traffic. View the downtown parking map for additional walkable parking locations.\nThis is a rain or shine event. Attendees will be told about any changes to the outdoor ceremony at the event.\nAccessible parking spaces are available at the John M. Brown Community Center and Town Hall.\nThere are no road closures during this event.\nTown staff may be on site during the festival taking photos/video of events and attendees.
URL:https://exploreapexnc.com/event-single-post-name/chanukah-festival/
LOCATION:Apex Senior Center\, 63 Hunter Street\, Apex\, NC\, 27502\, United States
END:VEVENT
END:VCALENDAR