BEGIN:VCALENDAR
VERSION:2.0
PRODID:-//Explore Apex - ECPv6.15.20//NONSGML v1.0//EN
CALSCALE:GREGORIAN
METHOD:PUBLISH
X-ORIGINAL-URL:https://exploreapexnc.com
X-WR-CALDESC:Events for Explore Apex
REFRESH-INTERVAL;VALUE=DURATION:PT1H
X-Robots-Tag:noindex
X-PUBLISHED-TTL:PT1H
BEGIN:VTIMEZONE
TZID:UTC
BEGIN:STANDARD
TZOFFSETFROM:+0000
TZOFFSETTO:+0000
TZNAME:UTC
DTSTART:20240101T000000
END:STANDARD
END:VTIMEZONE
BEGIN:VEVENT
DTSTART;VALUE=DATE:20250113
DTEND;VALUE=DATE:20250308
DTSTAMP:20260424T154101
CREATED:20250225T211856Z
LAST-MODIFIED:20250225T211856Z
UID:10000107-1736726400-1741391999@exploreapexnc.com
SUMMARY:2025 Think Apex Awards Nominations
DESCRIPTION:Nominate a business\, an individual/group\, a non-profit organization\, or youth member that has positively impacted the Town of Apex through selfless acts or made contributions to the community at large in 2024.\nNomination Requirements:\nIndividual\, group\, or youth nominees must live in Apex AND/OR the act of service must directly impact the Apex community.\nBusiness and non-profit organizations must be located in Apex.\nAge of youth category is Kindergarten through Senior year of High School\nPast recipients of the Top Thinker Award ARE NOT eligible to be nominated again (see list on website).\nPast recipients of the Honorable Mention ARE eligible to be nominated again (see list on website).\nThe selfless acts or community contributions occurred in calendar year 2024. \nNote: This is NOT an award based on “customer service” or any other aspect of an individual’s profession.\nTo provide judges with a thorough summary of the nominee\, please fill out the entire form with as much detail as possible.\nHint: Providing highly descriptive nomination details will increase the nominee’s consideration by the judges.
URL:https://exploreapexnc.com/event-single-post-name/2025-think-apex-awards-nominations/
LOCATION:NC
ATTACH;FMTTYPE=image/png:https://exploreapexnc.com/wp-content/uploads/2025/02/2025-Nominations-Open-.png
END:VEVENT
BEGIN:VEVENT
DTSTART;TZID=UTC:20250209T120000
DTEND;TZID=UTC:20250209T143000
DTSTAMP:20260424T154101
CREATED:20250108T154846Z
LAST-MODIFIED:20250108T154846Z
UID:10000065-1739102400-1739111400@exploreapexnc.com
SUMMARY:Wintry Valentines Bridgerton-themed Tea Party
DESCRIPTION:Dearest Gentle Eater… \nJoin us for our Bridgerton-ball-themed Wintry Valentines Tea Party!\nTickets are $79 per person or $149 per pair\, BUT we have an EARLY BIRD SPECIAL if you buy tickets by 1/10/25. Until then\, tickets are $69 per person or $124 per pair!!!!\nDress in your finest Regency-themed attire (we will choose a Diamond of the Season!)\, and practice sticking those pinkies out!\nAges 10 and up welcome. Ladies and Gents!\nTraditional afternoon tea service\, other activities\, Give and Take to local orgs with the chocolate box\, door prizes\, and more! Grab those hats\, fascinators and tiaras and have some fun!\nHosted by Positively Apex and The Enchanted Picnic Company\, featuring teas from Serasana Holly Springs! Sponsored by SOS by Lisa.
URL:https://exploreapexnc.com/event-single-post-name/wintry-valentines-bridgerton-themed-tea-party/
LOCATION:New Hill Community Center\, 3101 New Hill Holleman Rd\, New Hill\, N\, 27562\, United States
ATTACH;FMTTYPE=image/png:https://exploreapexnc.com/wp-content/uploads/2025/01/Valentines-tea-party.png
ORGANIZER;CN="Positively Apex":MAILTO:positivelyapex@gmail.com
END:VEVENT
BEGIN:VEVENT
DTSTART;TZID=UTC:20250212T120000
DTEND;TZID=UTC:20250212T130000
DTSTAMP:20260424T154101
CREATED:20250207T195302Z
LAST-MODIFIED:20250207T201334Z
UID:10000088-1739361600-1739365200@exploreapexnc.com
SUMMARY:Learning Lunch Series: Chinese New Year
DESCRIPTION:Learning Lunch Series \nMonthly\nFriendship Room\, Apex Senior Center\, 63 Hunter Street\n12 pm – 1 pm \nBring your lunch and we’ll bring the knowledge! The Learning Lunch series features a deep dive into various cultural events highlighted throughout the year. Each month\, a new topic will be discussed by attendees and an expert on the subject. \nNo registration required!
URL:https://exploreapexnc.com/event-single-post-name/learning-lunch-series-chinese-new-year/
LOCATION:Apex Senior Center\, 63 Hunter Street\, Apex\, NC\, 27502\, United States
END:VEVENT
BEGIN:VEVENT
DTSTART;TZID=UTC:20250213T180000
DTEND;TZID=UTC:20250213T210000
DTSTAMP:20260424T154101
CREATED:20250206T145939Z
LAST-MODIFIED:20250206T145939Z
UID:10000085-1739469600-1739480400@exploreapexnc.com
SUMMARY:enV's Galentines Party
DESCRIPTION:enV Salon is collaborating with other Apex small businesses to celebrate Galentines Day! This is an event that is open to the public\, specifically women to celebrate friendship\, and women in business. We will have a DJ\, Mimosa bar\, light refreshments\, vendor tables\, and stylists available for consultations. The event is no charge\, vendors will be selling their product at each table. Our collaborators are: Charley Madelyn\, A Shore Think Spray Tan Bar\, Adventures In Bloom\, and Madelyn Tattoo and Piercing\, and DJ Red Vixon.
URL:https://exploreapexnc.com/event-single-post-name/envs-galentines-party/
LOCATION:Salem Middle School Track\, 6150 Old Jenks Road\, Apex\, NC\, 27523\, United States
ATTACH;FMTTYPE=image/jpeg:https://exploreapexnc.com/wp-content/uploads/2025/02/0A22B20A-0EBB-4B1F-AC47-F97E0A6C039A.jpeg
ORGANIZER;CN="env":MAILTO:manager@envsalon.com
END:VEVENT
BEGIN:VEVENT
DTSTART;TZID=UTC:20250222T100000
DTEND;TZID=UTC:20250222T150000
DTSTAMP:20260424T154101
CREATED:20250213T181544Z
LAST-MODIFIED:20250213T181544Z
UID:10000097-1740218400-1740236400@exploreapexnc.com
SUMMARY:A Day At The Office: Cats\, Pretzels\, Trivia
DESCRIPTION:Who’s the biggest Office fan in the Triangle?! Let’s find out! Join us for an Office themed event at The Studio! Grab your stapler in jello and join us for: \n🛍️ Office themed handmade goodies\n🥨 Pretzel Day! Get freshly made soft pretzels!\n🐈 Angela’s cat adoption with Facilitate Rescue from 11-3pm\n🙋‍♀️ Office Trivia at 2pm (free to join!) with prizes!\n❤️ 25+ local artists to shop with\n🧥 7 vintage vendors to shop from \n🐈 Facilitate Rescue will be accepting donations of kitty litter and food. \nCome shop and celebrate our beloved Office characters from 10am-3pm at 106 W Chatham St in downtown Apex. \nParking is free on the street and at the church.
URL:https://exploreapexnc.com/event-single-post-name/a-day-at-the-office-cats-pretzels-trivia/
LOCATION:the studio\, 106 W Chatham St\, Apex\, 27502\, United States
ATTACH;FMTTYPE=image/jpeg:https://exploreapexnc.com/wp-content/uploads/2025/02/2.jpg
END:VEVENT
BEGIN:VEVENT
DTSTART;TZID=UTC:20250222T120000
DTEND;TZID=UTC:20250222T140000
DTSTAMP:20260424T154101
CREATED:20250207T200927Z
LAST-MODIFIED:20250207T200927Z
UID:10000089-1740225600-1740232800@exploreapexnc.com
SUMMARY:Black History Month: Hip Hop Workshop
DESCRIPTION:Hip Hop Workshop\nSaturday\, February 22\, 2025 | 12 – 2 pm\nApex Senior Center (63 Hunter St) – Seaboard\, Hughes\, and Hunter Rooms \nJoin us for an interactive workshop featuring Nick Courmon\, an acclaimed spoken word performer\, who cultivates critical thinking and positive change one poem\, one performance\, or one person at a time. After his performance\, Nikki Turner\, an award winning dance teacher\, accompanied by multi-instrumentalist Alex Weiss\, will host an all ages\, all skill level Hip Hop Dance class. Alexander Flowers\, founder of BrainSTEMology\, will have an exhibit highlighting how STEM concepts can be taught through hip hop music. \nFood and beverages will be provided. \nSign-up for the Hip Hop Workshop here.
URL:https://exploreapexnc.com/event-single-post-name/black-history-month-hip-hop-workshop/
LOCATION:Apex Senior Center\, 63 Hunter Street\, Apex\, NC\, 27502\, United States
ATTACH;FMTTYPE=image/jpeg:https://exploreapexnc.com/wp-content/uploads/2025/02/Black-History-Month-Hip-Hop-Workshop-Feb-2025.jpg
END:VEVENT
END:VCALENDAR