BEGIN:VCALENDAR
VERSION:2.0
PRODID:-//Explore Apex - ECPv6.15.20//NONSGML v1.0//EN
CALSCALE:GREGORIAN
METHOD:PUBLISH
X-ORIGINAL-URL:https://exploreapexnc.com
X-WR-CALDESC:Events for Explore Apex
REFRESH-INTERVAL;VALUE=DURATION:PT1H
X-Robots-Tag:noindex
X-PUBLISHED-TTL:PT1H
BEGIN:VTIMEZONE
TZID:UTC
BEGIN:STANDARD
TZOFFSETFROM:+0000
TZOFFSETTO:+0000
TZNAME:UTC
DTSTART:20240101T000000
END:STANDARD
END:VTIMEZONE
BEGIN:VEVENT
DTSTART;TZID=UTC:20250404T180000
DTEND;TZID=UTC:20250404T200000
DTSTAMP:20260424T105754
CREATED:20250403T170111Z
LAST-MODIFIED:20250403T170111Z
UID:10000151-1743789600-1743796800@exploreapexnc.com
SUMMARY:Earth in Focus Art Exhibition - FREE Opening Reception
DESCRIPTION:“Earth in Focus: A Dialogue Between Art and Environment” invites viewers to explore the diverse perspectives through which we perceive our world\, whether through lens or brush. Featuring the captivating works of Dain Kim\, Irena Cepulyte\, and the Cary Photographic Artists\, this exhibit highlights the unique interpretations of our surroundings\, encouraging a deeper understanding of how individual experiences shape our connection to the planet.\nFriday\, April 4th from 6pm to 8pm with live music and light refreshment!
URL:https://exploreapexnc.com/event-single-post-name/earth-in-focus-art-exhibition-free-opening-reception/
LOCATION:The Halle Cultural Arts Center\, 237 N. Salem Street\, Apex\, N\, 27502\, United States
ATTACH;FMTTYPE=image/png:https://exploreapexnc.com/wp-content/uploads/2025/04/Earth-in-Focus-SM-1.png
END:VEVENT
BEGIN:VEVENT
DTSTART;TZID=UTC:20250405T140000
DTEND;TZID=UTC:20250405T180000
DTSTAMP:20260424T105754
CREATED:20250324T192727Z
LAST-MODIFIED:20250324T192727Z
UID:10000132-1743861600-1743876000@exploreapexnc.com
SUMMARY:Holi Celebration
DESCRIPTION:Holi\, an festival of colors\, celebrates the beginning of spring. \nThis year’s celebration features: \nLive music and performances\nFood trucks: Bruster’s Ice Cream\, Gul Mohar\, ART Indian Canteen\, Momomandu\nHoli powders (powder in a variety of colors\, while supplies last)\nHum Sub Information booth\nKnow Before You Go:\nHoli powders will be provided at the event. No powders brought to the event will be permitted inside the event boundary. Visit the information booth at the event to pick up your powder packets!\nParking is available at Salem Elementary and Salem Middle School parking lots\nParticipants will be required to sign a Liability Waiver. Attendees can bring a signed copy or sign a copy at the event.\nTossed powders may stain clothing\, hair or skin. Please wear clothing that can get messy.\nThere is a designated area for tossing Holi powders into the air. Attendees will be required to stay within the designated area while tossing powder.\nTown staff may be on site during the festival taking photos/video of festival events and attendees
URL:https://exploreapexnc.com/event-single-post-name/holi-celebration/
LOCATION:Salem Middle School Track\, 6150 Old Jenks Road\, Apex\, NC\, 27523\, United States
ATTACH;FMTTYPE=image/png:https://exploreapexnc.com/wp-content/uploads/2025/03/Holi.png
END:VEVENT
BEGIN:VEVENT
DTSTART;TZID=UTC:20250406T120000
DTEND;TZID=UTC:20250406T170000
DTSTAMP:20260424T105754
CREATED:20250310T125105Z
LAST-MODIFIED:20250310T125105Z
UID:10000121-1743940800-1743958800@exploreapexnc.com
SUMMARY:Geek and Grub Market (Fantasy Edition)
DESCRIPTION:Dress in your fave Fantasy inspired garb and come join us at our first ever event at Optimist Farm in Apex for a FREE day filled with Renn Fest fun ft The Festival of Legends\, The Sword Conservatory\, Inc..\, Piedmont Wildlife Center and The Variant\, 50+ Geektastic Vendors and Hilarious Activities. Get your free tickets at GeekandGrubMarket.com!
URL:https://exploreapexnc.com/event-single-post-name/geek-and-grub-market-fantasy-edition/
LOCATION:The Optimist Farm\, 2908 Optimist Farm Rd\, Apex\, N\, 27539\, United States
ATTACH;FMTTYPE=image/jpeg:https://exploreapexnc.com/wp-content/uploads/2025/03/474845358_913682837596413_724205003570716595_n.jpg
ORGANIZER;CN="Geek and Grub Market":MAILTO:erin@geekandgrubmarket.com
END:VEVENT
BEGIN:VEVENT
DTSTART;TZID=UTC:20250411T170000
DTEND;TZID=UTC:20250411T220000
DTSTAMP:20260424T105754
CREATED:20250324T200214Z
LAST-MODIFIED:20250324T200417Z
UID:10000133-1744390800-1744408800@exploreapexnc.com
SUMMARY:Peak City Pig Fest
DESCRIPTION:This is a Community Event organized by the Sunrise Rotary Club. \nFriday and Saturday\, April 11 & 12\, 2025\nTown Hall Campus\, 73 Hunter Street\nFriday: 5 pm – 10 pm\nSaturday: 11 am – 9 pm \nFor more information and to view a schedule of events\, bands and competition times\, visit www.peakcitypigfest.com \nThis annual event features food trucks\, kids area\, cooking class\, beer garden\, Police vs Fire rib eating contest Friday night\, live music\, vendors\, and more! \nKnow Before You Go:\nView the downtown parking map for walkable parking locations.\nThere are no road closures during this event.\nTown staff may be on site during the festival taking photos/video of festival events and attendees.
URL:https://exploreapexnc.com/event-single-post-name/peak-city-pig-fest/
LOCATION:Apex Town Campus\, 73 Hunter Street\, Apex\, NC\, 27502\, United States
ATTACH;FMTTYPE=image/png:https://exploreapexnc.com/wp-content/uploads/2025/03/Pig-Fest.png
END:VEVENT
BEGIN:VEVENT
DTSTART;TZID=UTC:20250412T100000
DTEND;TZID=UTC:20250412T150000
DTSTAMP:20260424T105754
CREATED:20250401T125458Z
LAST-MODIFIED:20250401T125458Z
UID:10000143-1744452000-1744470000@exploreapexnc.com
SUMMARY:Garden Party: Spring Shopping + DIY
DESCRIPTION:Come celebrate The Studio’s 1st Birthday with a Garden Party! Your favorite little local handmade shop is celebrating a year of creativity\, artists\, and community!\nWell have:\n🌸 Build your own bouquet bar\n🌺 Build your own spring earring bar\n🌹 DIY Candle bar\n🫖 Snacks\n🎨 25 local artists to shop with\n🛍️ Vintage vendors to shop from\nAnd so much more!\nJoin us from 10am-3pm at 106 W. Chatham St in downtown Apex.\nParking on the street and at the church is free.
URL:https://exploreapexnc.com/event-single-post-name/garden-party-spring-shopping-diy/
LOCATION:the studio\, 106 W Chatham St\, Apex\, 27502\, United States
ATTACH;FMTTYPE=image/jpeg:https://exploreapexnc.com/wp-content/uploads/2025/03/1.jpg
END:VEVENT
BEGIN:VEVENT
DTSTART;TZID=UTC:20250412T110000
DTEND;TZID=UTC:20250412T210000
DTSTAMP:20260424T105754
CREATED:20250324T202004Z
LAST-MODIFIED:20250324T202004Z
UID:10000135-1744455600-1744491600@exploreapexnc.com
SUMMARY:Peak City Pig Fest
DESCRIPTION:This is a Community Event organized by the Sunrise Rotary Club. \nFriday and Saturday\, April 11 & 12\, 2025\nTown Hall Campus\, 73 Hunter Street\nFriday: 5 pm – 10 pm\nSaturday: 11 am – 9 pm \nFor more information and to view a schedule of events\, bands and competition times\, visit www.peakcitypigfest.com \nThis annual event features food trucks\, kids area\, cooking class\, beer garden\, Police vs Fire rib eating contest Friday night\, live music\, vendors\, and more! \nKnow Before You Go:\nView the downtown parking map for walkable parking locations.\nThere are no road closures during this event.\nTown staff may be on site during the festival taking photos/video of festival events and attendees.
URL:https://exploreapexnc.com/event-single-post-name/peak-city-pig-fest-3/
LOCATION:Apex Town Campus\, 73 Hunter Street\, Apex\, NC\, 27502\, United States
ATTACH;FMTTYPE=image/png:https://exploreapexnc.com/wp-content/uploads/2025/03/Pig-Fest-2.png
END:VEVENT
BEGIN:VEVENT
DTSTART;TZID=UTC:20250426T090000
DTEND;TZID=UTC:20250426T130000
DTSTAMP:20260424T105754
CREATED:20250403T152320Z
LAST-MODIFIED:20250403T152615Z
UID:10000150-1745658000-1745672400@exploreapexnc.com
SUMMARY:Think Apex Day
DESCRIPTION:Think Apex Day is a day dedicated to giving back to the Apex community by volunteering in ways that positively impact the town and the people who live here. \nHow will you give back and #thinkapex? \nFor questions\, please contact Brianne Gill at (919) 249-1122 or Brianne.Gill@apexnc.org \nPlease see website address below in the Details section to register for any of the following activities: \n\nThink Clean: Pleasant Park\, 3400 Pleasant Plains Rd\, 9 am – 11 am Join the Pleasant Park Beautification Project by planting shrubs\, bushes\, and grass to improve the natural beauty of the park. All necessary supplies\, including plants and gardening tools\, will be provided by the Town of Apex. Your efforts will help maintain this community space for future generations. What to Bring: Comfortable clothing you don’t mind getting dirty\nThink Life: Apex United Methodist Church\, 100 S Hughes St\, 9 am – 2 pm. Did you know that every two seconds\, someone in the U.S. needs blood? When a patient receives blood\, it was given in advance by a generous donor—just like you. Hospitals and patients are in constant need of blood donations\, and every day\, blood donations help save lives. Be a part of saving lives! Make a difference by donating blood to support patients in need. Appointments are encouraged! New to Blood Donation? Learn more about what to expect\, how to prepare\, and the truth about blood donation.\nThink Refresh: Apex Community Park\, 2200 Laura Duncan Rd (meet at the back of the park\, near the lake entrance)\,  9 am – 11 am. All necessary supplies\, including painting materials\, will be provided by the Town of Apex. Volunteers will participate in two key activities: Trail Making: Creating or improving trails for safe\, accessible recreational use\, touching up paint\, refreshing park amenities for aesthetic appeal.          What to Bring: Comfortable clothing you don’t mind getting paint on\n\n4. Think Revitalize: Justice Heights Neighborhood\, 9 am – 12 pm. Think Revitalize focuses on revitalizing Apex’s legacy neighborhoods through a day of community-driven beautification. The event brings together            volunteers for a day of fellowship and service that supports our community. Think Revitalize welcomes anyone who is willing to volunteer\, whether as an individual or with a group. Volunteers can expect to: rake              leaves\, spread mulch\, plant flowers\, and make essential home repairs and improvements. This year’s service project is in partnership with Preserving Home\, Inc. What to Bring: Comfortable clothing you don’t mind            getting dirty \n5.  Think Create: John M. Brown Community Center\, 53 Hunter St\, 10 am – 12 pm. Community members are invited to decorate and fill canvas bags with toiletries for incoming residents of Spring Arbor Senior                   Living. This creative project will provide thoughtful gifts and bring joy to new residents. All design materials\, canvas bags\, and toiletries will be provided by the Town of Apex. What to Bring: Comfortable                        clothing you don’t mind getting dirty \n6. Think Golden Games: Cambridge Village Senior Living\, 10000 Cambridge Village Loop\, 10 am – 12 pm. Spring Arbor of Apex\, 901 Spring Arbor Ct\, 10:45 am – 11:15 am. Join the residents of Cambridge Village            Senior Living for a fun time playing table games together. This event provides an opportunity for intergenerational bonding and fun for both residents and volunteers. Games will be provided by the Cambridge Village Senior Living Community. What to Bring: Comfortable clothing \n7. Think ReUse: Apex ReStore\, 826 E. Williams St\, 10 am – 1 pm. ReStore sale proceeds support Habitat for Humanity’s mission and help keep usable materials from going to local landfills each year. Volunteers will            work side-by-side with staff\, including: Taking donations\, preparing donations for the sales floor\, and stocking and organizing the sales floor. Projects for the day such as rearranging departments\, or measuring and              labeling doors\, windows\, carpets\, etc. \n8. Think Unity: Western Wake Crisis Ministry\, 1600 Olive Chapel Rd Suite 408\, 9 am – 12 pm. Join us for “Think Unity” – a painting service project at Western Wake Crisis Ministry (WWCM). Whether you’re an                experienced painter or a first-time volunteer\, your efforts will help revitalize the pantry at a community-driven organization that supports individuals in crisis. WWCM provides essential services like food\, financial            assistance\, and housing support to Apex residents. What to Bring: Comfortable clothing you don’t mind getting paint on \nNote: “Groups” such as businesses\, religious organizations\, non-profits\, schools\, neighborhoods\, civic\, etc. are limited to 10 total people including the registrant. All participants must register individually. No exceptions. Registration for activities will end April 23rd at 5:00pm.
URL:https://exploreapexnc.com/event-single-post-name/think-apex-day/
LOCATION:NC
ATTACH;FMTTYPE=image/png:https://exploreapexnc.com/wp-content/uploads/2025/04/TAD-2025.png
END:VEVENT
BEGIN:VEVENT
DTSTART;TZID=UTC:20250426T120000
DTEND;TZID=UTC:20250426T160000
DTSTAMP:20260424T105754
CREATED:20250305T131355Z
LAST-MODIFIED:20250317T194548Z
UID:10000113-1745668800-1745683200@exploreapexnc.com
SUMMARY:Earthfest
DESCRIPTION:New for 2025! \nReimagine your Ride and earn a free treat! The first 50 attendees who take an alternative form of transportation to Earthfest earn a coupon for Everbowl. Alternative types of transportation include riding the GoApex Bus\, biking\, and walking. \nAn organized bike ride to Earthfest is happening from the Bicycle Chain of Apex! Riders under 16 must be accompanied by an adult. Click here to register and learn more! \n\nWhat to Expect at Earthfest 2025:\nLive and roving performancesby the Asheville Mountain Boys\, “the Bubble Man”\, Ryan Dial from the Triangle Native American Society\, and Poetry Fox\nTinker Café where attendees watch demonstrations on how to repair common household items\nTree Planting Demonstrationwith Apex Electric’s Phillip Barnes and members of TreeCAP\nClothing Swap with Caroline Gavanbring your unwanted\, laundered clothing to swap with your neighbors and find a new piece for your closet! No money required to participate.\nLow waste food truck rodeooffering BPI-certified product containers: St. Paul’s Baklava Sundaes & more to come!\nVendors Marketplaceshowcasing Apex-based and regional information and resources\nLive animals from Piedmont Wildlife Center\nInteractive art activity hosted by greenway artist\, Autumn Cobeland\n\n  \nFor more details\, visit the EARTHFEST WEBSITE \n  \nPlease feel free to reach out if you have any questions. We hope to see you there!
URL:https://exploreapexnc.com/event-single-post-name/earthfest/
LOCATION:Apex Town Campus\, 73 Hunter Street\, Apex\, NC\, 27502\, United States
ATTACH;FMTTYPE=image/png:https://exploreapexnc.com/wp-content/uploads/2025/03/Screenshot-2025-03-04-150345.png
END:VEVENT
BEGIN:VEVENT
DTSTART;TZID=UTC:20250426T190000
DTEND;TZID=UTC:20250427T020000
DTSTAMP:20260424T105754
CREATED:20250417T123739Z
LAST-MODIFIED:20250417T123739Z
UID:10000172-1745694000-1745719200@exploreapexnc.com
SUMMARY:RETRO- Back to the 80’s
DESCRIPTION:RETRO BACK TO THE 80’s!\nWe’re throwing it way back at The Backyard Bar with an epic Live Music Night you won’t want to miss!\nSaturday\, April 26 | 8 PM till 2 AM\nKick off the night with the legendary M80’s\, a high-energy 80’s tribute band bringing all your favorite throwback hits to life!\nThen stick around as we turn up the volume with a DJ dance party indoors until 2 AM\, spinning beats everyone will love! \nFood trucks on-site to keep you fueled\, drinks flowing all night\, and nothing but good vibes. \nCome dressed to impress in your best retro fit!\nLet’s make it a night to remember!
URL:https://exploreapexnc.com/event-single-post-name/retro-back-to-the-80s/
LOCATION:The Backyard Bar\, 2901 US-64\, Apex\, N\, 27523\, United States
ATTACH;FMTTYPE=image/jpeg:https://exploreapexnc.com/wp-content/uploads/2025/04/f415d8fd-46ea-4c2b-9fd1-74d1d464f38a.jpeg
ORGANIZER;CN="The Backyard Bar":MAILTO:Contact@thebackyardbarnc.com
END:VEVENT
END:VCALENDAR