BEGIN:VCALENDAR
VERSION:2.0
PRODID:-//Explore Apex - ECPv6.15.20//NONSGML v1.0//EN
CALSCALE:GREGORIAN
METHOD:PUBLISH
X-ORIGINAL-URL:https://exploreapexnc.com
X-WR-CALDESC:Events for Explore Apex
REFRESH-INTERVAL;VALUE=DURATION:PT1H
X-Robots-Tag:noindex
X-PUBLISHED-TTL:PT1H
BEGIN:VTIMEZONE
TZID:UTC
BEGIN:STANDARD
TZOFFSETFROM:+0000
TZOFFSETTO:+0000
TZNAME:UTC
DTSTART:20240101T000000
END:STANDARD
END:VTIMEZONE
BEGIN:VEVENT
DTSTART;TZID=UTC:20250807T180000
DTEND;TZID=UTC:20250807T203000
DTSTAMP:20260424T045008
CREATED:20250717T205636Z
LAST-MODIFIED:20250717T205636Z
UID:10000305-1754589600-1754598600@exploreapexnc.com
SUMMARY:Positively Apex Community Resource Guide Launch Party!
DESCRIPTION:Positively Apex\, known for publications\, marketing\, and events over the last decade\, has a NEW resource available SOON to the Apex community at large! This will also launch our new brand\, Positively Community\, which will overarch Positively Apex and future towns.\nThe 2025 Positively Apex Community Resource Guide is an annual guide featuring local business and lifestyle information.\nYOU are invited to join us at the official launch party\, where you can get a guide\, and celebrate with those who made this possible!\nThere will plenty of food and drink\, giveaways and prizes\, networking and mingling\, and more! We will also have limited quantities available of special edition prints for sale of the original painting commissioned for the guide cover. All proceeds will be given to the Apex Public School Foundation!\nPLEASE text Leslie at 919-745-0494 to rsvp or email positivelyapex@gmail if you plan to join in the fun so we can plan properly. You won’t want to miss this!
URL:https://exploreapexnc.com/event-single-post-name/positively-apex-community-resource-guide-launch-party/
LOCATION:Curate Studio\, 3651 Green Level W Rd\, Suite 101\, Apex\, N\, 27523\, United States
ATTACH;FMTTYPE=image/png:https://exploreapexnc.com/wp-content/uploads/2025/07/Guide-2025-Launch.png
ORGANIZER;CN="Positively Apex":MAILTO:positivelyapex@gmail.com
END:VEVENT
BEGIN:VEVENT
DTSTART;TZID=UTC:20250809T190000
DTEND;TZID=UTC:20250809T203000
DTSTAMP:20260424T045008
CREATED:20250609T184606Z
LAST-MODIFIED:20250609T184606Z
UID:10000241-1754766000-1754771400@exploreapexnc.com
SUMMARY:Rhythm & Reels - Impending Joy Concert
DESCRIPTION:Join us on select Saturday evenings at the Apex Nature Park Amphitheatre for a night of music and movies under the stars. Our 2025 music lineup boasts a variety of genres from nu-funk to garage punk\, and features several bands from Western North Carolina! So come groove with GRAMMY® Award-winning band King Garbage\, let loose with Asheville’s Impending Joy\, and enjoy family favorite movies under the stars at #RRApex\nBring your family and friends\, pack a picnic basket\, and come enjoy a memorable\, magical summer evening! Concerts begin at 7:00pm\, movies begin at dusk. To learn more about the event visit thehalle.org or follow @thehalleapex on Instagram and Facebook \nEvents are held at the Apex Nature Park Amphitheatre (2600 Evans Road.) Load up the kids\, lawn chairs\, blankets\, a picnic dinner and show up early for good seats! No Pets or Alcohol allowed.
URL:https://exploreapexnc.com/event-single-post-name/rhythm-reels-impending-joy-concert/
LOCATION:Apex Nature Park Amphitheater\, 2600 Evans Road\, Apex\, NC\, 27502\, United States
ATTACH;FMTTYPE=image/png:https://exploreapexnc.com/wp-content/uploads/2025/06/RR-IJ-Square.png
END:VEVENT
BEGIN:VEVENT
DTSTART;TZID=UTC:20250814T120000
DTEND;TZID=UTC:20250814T130000
DTSTAMP:20260424T045008
CREATED:20250718T153716Z
LAST-MODIFIED:20250718T153716Z
UID:10000307-1755172800-1755176400@exploreapexnc.com
SUMMARY:National Dog Day- Learning Lunch
DESCRIPTION:Join us in celebrating National Dog Day with a special\ndemonstration by the Town of Apex Police Department’s\nK9 Unit! Watch as these highly-trained dogs showcase\ntheir skills in a live demonstration while enjoying our\nthemed human snacks and dog treats from Foxtail Coffee!\nThis free event is organized by the Town of Apex.\nRegistration encouraged at www.apexnc.org/peakconnect\nwith code # 17812.
URL:https://exploreapexnc.com/event-single-post-name/national-dog-day-learning-lunch/
LOCATION:Hunter Street Park\, 1250 Ambergate Station\, Apex\, NC\, 27502\, United States
ATTACH;FMTTYPE=image/png:https://exploreapexnc.com/wp-content/uploads/2025/07/Screenshot-2025-07-18-104645.png
END:VEVENT
BEGIN:VEVENT
DTSTART;TZID=UTC:20250814T180000
DTEND;TZID=UTC:20250814T190000
DTSTAMP:20260424T045008
CREATED:20250806T195800Z
LAST-MODIFIED:20250806T195800Z
UID:10000344-1755194400-1755198000@exploreapexnc.com
SUMMARY:Ofrenda In Apex
DESCRIPTION:Join artist\, Peter Marin\, to learn about the history and importance of ofrendas\, and learn how to create ofrenda elements to honor your lost pets. Materials created at the workshops will be on display at the Halle Cultural Arts Center from October 24 – November 3\, 2025.
URL:https://exploreapexnc.com/event-single-post-name/ofrenda-in-apex/
LOCATION:Apex Senior Center\, 63 Hunter Street\, Apex\, NC\, 27502\, United States
ATTACH;FMTTYPE=image/png:https://exploreapexnc.com/wp-content/uploads/2025/08/Screenshot-2025-08-06-154108.png
END:VEVENT
BEGIN:VEVENT
DTSTART;TZID=UTC:20250816T200000
DTEND;TZID=UTC:20250816T220000
DTSTAMP:20260424T045008
CREATED:20250609T185033Z
LAST-MODIFIED:20250609T185033Z
UID:10000242-1755374400-1755381600@exploreapexnc.com
SUMMARY:Rhythm & Reels - "A Minecraft Movie" Movie
DESCRIPTION:Join us on select Saturday evenings at the Apex Nature Park Amphitheatre for a night of music and movies under the stars. Our 2025 music lineup boasts a variety of genres from nu-funk to garage punk\, and features several bands from Western North Carolina! So come groove with GRAMMY® Award-winning band King Garbage\, let loose with Asheville’s Impending Joy\, and enjoy family favorite movies under the stars at #RRApex\nBring your family and friends\, pack a picnic basket\, and come enjoy a memorable\, magical summer evening! Concerts begin at 7:00pm\, movies begin at dusk. To learn more about the event visit thehalle.org or follow @thehalleapex on Instagram and Facebook \nEvents are held at the Apex Nature Park Amphitheatre (2600 Evans Road.) Load up the kids\, lawn chairs\, blankets\, a picnic dinner and show up early for good seats! No Pets or Alcohol allowed.
URL:https://exploreapexnc.com/event-single-post-name/rhythm-reels-a-minecraft-movie-movie/
LOCATION:Apex Nature Park Amphitheater\, 2600 Evans Road\, Apex\, NC\, 27502\, United States
ATTACH;FMTTYPE=image/png:https://exploreapexnc.com/wp-content/uploads/2025/06/RR-AMM-Square.png
END:VEVENT
BEGIN:VEVENT
DTSTART;TZID=UTC:20250819T183000
DTEND;TZID=UTC:20250819T200000
DTSTAMP:20260424T045008
CREATED:20250703T160011Z
LAST-MODIFIED:20250703T160011Z
UID:10000285-1755628200-1755633600@exploreapexnc.com
SUMMARY:Modern Calligraphy for Beginners at Cloer Family Vineyards
DESCRIPTION:Join Sip & ScriptⓇ for Modern Calligraphy Fun! \nJoin us at Cloer Family Vineyards in Apex\, North Carolina for pretty lettering! Whether you’re a stationery nerd\, DIY Bride-to-be\, or just a crafty individual\, you’ll be introduced to modern calligraphy with a pointed dip pen and ink in this workshop. We will cover all the basics and prepare you to add those unique lettered details to your snail mail\, wedding paper goods\, home decor\, and more! The perfect crafty night out! \nClass includes 1.5 hours of instruction and demonstration\, our beginner’s calligraphy kit (two nibs\, black ink pot\, 2 letter guides\, tracing paper\, and straight pen holder)\, and all materials to write on. Everything is yours to keep at the end of the workshop!
URL:https://exploreapexnc.com/event-single-post-name/modern-calligraphy-for-beginners-at-cloer-family-vineyards/
LOCATION:Cloer Family Vineyards\, 8624 Castleberry Road\, Apex\, N\, 27523\, United States
ATTACH;FMTTYPE=image/png:https://exploreapexnc.com/wp-content/uploads/2025/07/Copy-of-2.png
ORGANIZER;CN="Lynn Woods":MAILTO:lynnsipandscript@gmail.com
END:VEVENT
BEGIN:VEVENT
DTSTART;TZID=UTC:20250823T190000
DTEND;TZID=UTC:20250823T203000
DTSTAMP:20260424T045008
CREATED:20250609T185159Z
LAST-MODIFIED:20250609T185159Z
UID:10000243-1755975600-1755981000@exploreapexnc.com
SUMMARY:Rhythm & Reels - Blue Cactus Concert
DESCRIPTION:Join us on select Saturday evenings at the Apex Nature Park Amphitheatre for a night of music and movies under the stars. Our 2025 music lineup boasts a variety of genres from nu-funk to garage punk\, and features several bands from Western North Carolina! So come groove with GRAMMY® Award-winning band King Garbage\, let loose with Asheville’s Impending Joy\, and enjoy family favorite movies under the stars at #RRApex\nBring your family and friends\, pack a picnic basket\, and come enjoy a memorable\, magical summer evening! Concerts begin at 7:00pm\, movies begin at dusk. To learn more about the event visit thehalle.org or follow @thehalleapex on Instagram and Facebook \nEvents are held at the Apex Nature Park Amphitheatre (2600 Evans Road.) Load up the kids\, lawn chairs\, blankets\, a picnic dinner and show up early for good seats! No Pets or Alcohol allowed.
URL:https://exploreapexnc.com/event-single-post-name/rhythm-reels-blue-cactus-concert/
LOCATION:Apex Nature Park Amphitheater\, 2600 Evans Road\, Apex\, NC\, 27502\, United States
ATTACH;FMTTYPE=image/png:https://exploreapexnc.com/wp-content/uploads/2025/06/RR-BC-Square.png
END:VEVENT
BEGIN:VEVENT
DTSTART;TZID=UTC:20250828T193000
DTEND;TZID=UTC:20250828T210000
DTSTAMP:20260424T045008
CREATED:20250728T124739Z
LAST-MODIFIED:20250728T124739Z
UID:10000320-1756409400-1756414800@exploreapexnc.com
SUMMARY:"On The Steps Concert Series" at The Halle - Presents renowned Brazilian Jazz Guitarist DIEGO FIGUEIREDO
DESCRIPTION:On The Steps at The Halle” invites you to an unforgettable evening of songs and stories at the historic Halle Cultural Arts Center in downtown Apex. Designed to strip away the traditional boundaries between performer and audience\, this intimate\, in-the-round acoustic concert series features some of the country’s top touring artists performing just steps away from an audience of only 100 guests. With a unique face-to-face setting\, each show offers a rare chance to hear the stories behind the music—off the stage and off the cuff. \nAugust 28th at 7:30pm – Multi-Grammy Nominated Brazilian Jazz Guitarist DIEGO FIGUEIREDO\nMulti-Grammy nominated guitarist Diego Figueiredo is an extraordinary star among the world’s greatest jazz guitarists. His musical collaborations include Cryill Aimee\, Joao Bosco\, John Clayton\, Gilberto Gil\, Stanley Jordan\, and is a two time winner of the prestigious Montreux Jazz Competition.
URL:https://exploreapexnc.com/event-single-post-name/on-the-steps-concert-series-at-the-halle-presents-renowned-brazilian-jazz-guitarist-diego-figueiredo/
LOCATION:The Halle Cultural Arts Center\, 237 N. Salem Street\, Apex\, N\, 27502\, United States
ATTACH;FMTTYPE=image/jpeg:https://exploreapexnc.com/wp-content/uploads/2025/07/OTS_DiegoFlyer_FINAL-SHARE.jpg
END:VEVENT
BEGIN:VEVENT
DTSTART;TZID=UTC:20250830T103000
DTEND;TZID=UTC:20250830T153000
DTSTAMP:20260424T045008
CREATED:20250827T124658Z
LAST-MODIFIED:20250827T124658Z
UID:10000402-1756549800-1756567800@exploreapexnc.com
SUMMARY:Book Fair for Grown Ups
DESCRIPTION:Calling all book lovers! Come capture that Scholastic Book Fair feeling again with our 90s themed celebration!\nWe’ll have:\n🚌 Gus McGee Book Co with expertly curated used books\n📸 90s themed photobooth\n☕️ Iced coffee + Matcha from Secret Garden Coffee Club\n📕 Bookish Gifts\n🎨 Friendship bracelet DIY station\n🌈 Shop the grown up version of your favorite Scholastic treats\n🛍️ 25+ Local artists to shop with\n👕 7 Vintage Vendors with the best curated finds for home + Clothing\nCome shop and relive the nostalgia with us from 11am-3pm.\n106 W Chatham St Downtown Apex\nParking is free at the church or on Chatham St.
URL:https://exploreapexnc.com/event-single-post-name/book-fair-for-grown-ups-2/
LOCATION:the studio\, 106 W Chatham St\, Apex\, 27502\, United States
ATTACH;FMTTYPE=image/jpeg:https://exploreapexnc.com/wp-content/uploads/2025/08/Colorful-90s-Music-Flyer-Instagram-Post-45.jpg
END:VEVENT
END:VCALENDAR