BEGIN:VCALENDAR
VERSION:2.0
PRODID:-//Explore Apex - ECPv6.15.20//NONSGML v1.0//EN
CALSCALE:GREGORIAN
METHOD:PUBLISH
X-WR-CALNAME:Explore Apex
X-ORIGINAL-URL:https://exploreapexnc.com
X-WR-CALDESC:Events for Explore Apex
REFRESH-INTERVAL;VALUE=DURATION:PT1H
X-Robots-Tag:noindex
X-PUBLISHED-TTL:PT1H
BEGIN:VTIMEZONE
TZID:UTC
BEGIN:STANDARD
TZOFFSETFROM:+0000
TZOFFSETTO:+0000
TZNAME:UTC
DTSTART:20240101T000000
END:STANDARD
END:VTIMEZONE
BEGIN:VEVENT
DTSTART;TZID=UTC:20251003T193000
DTEND;TZID=UTC:20251003T210000
DTSTAMP:20260424T014256
CREATED:20250917T194640Z
LAST-MODIFIED:20250917T194640Z
UID:10000475-1759519800-1759525200@exploreapexnc.com
SUMMARY:Fall Play "Barefoot in the Park"
DESCRIPTION:Join us at The Halle for this year’s Fall Play\, Neil Simon’s “Barefoot in the Park” follows newlyweds Corie and Paul Bratter as they adjust to married life in a cramped New York apartment. Her spontaneity and his practicality soon clash\, especially during a chaotic evening with their eccentric neighbor and Corie’s mother. As tensions rise\, the couple begins to question their compatibility. Through humor and heart\, they learn that love isn’t just about romance—it’s about accepting differences and growing together. This charming comedy captures the ups and downs of building a life with someone truly different from yourself! \nTickets: $18/Adult $15/Senior\, $12/Student(16 & Under) \nPLEASE NOTE: Tickets sold from any outlet outside of The Halle Cultural Arts Center or Etix.com are not valid.\n*****The Halle Cultural Arts Center does not allow refunds or exchanges.*****
URL:https://exploreapexnc.com/event-single-post-name/fall-play-barefoot-in-the-park-2/
LOCATION:The Halle Cultural Arts Center\, 237 N. Salem Street\, Apex\, N\, 27502\, United States
ATTACH;FMTTYPE=image/png:https://exploreapexnc.com/wp-content/uploads/2025/09/Barefoot-in-the-Park-Flyer-1920-x-1080-px-1.png
END:VEVENT
BEGIN:VEVENT
DTSTART;TZID=UTC:20251004T193000
DTEND;TZID=UTC:20251004T210000
DTSTAMP:20260424T014256
CREATED:20250917T192314Z
LAST-MODIFIED:20250917T192314Z
UID:10000476-1759606200-1759611600@exploreapexnc.com
SUMMARY:Fall Play "Barefoot in the Park"
DESCRIPTION:Join us at The Halle for this year’s Fall Play\, Neil Simon’s “Barefoot in the Park” follows newlyweds Corie and Paul Bratter as they adjust to married life in a cramped New York apartment. Her spontaneity and his practicality soon clash\, especially during a chaotic evening with their eccentric neighbor and Corie’s mother. As tensions rise\, the couple begins to question their compatibility. Through humor and heart\, they learn that love isn’t just about romance—it’s about accepting differences and growing together. This charming comedy captures the ups and downs of building a life with someone truly different from yourself! \nTickets: $18/Adult $15/Senior\, $12/Student(16 & Under) \nPLEASE NOTE: Tickets sold from any outlet outside of The Halle Cultural Arts Center or Etix.com are not valid.\n*****The Halle Cultural Arts Center does not allow refunds or exchanges.*****
URL:https://exploreapexnc.com/event-single-post-name/fall-play-barefoot-in-the-park/
LOCATION:The Halle Cultural Arts Center\, 237 N. Salem Street\, Apex\, N\, 27502\, United States
ATTACH;FMTTYPE=image/png:https://exploreapexnc.com/wp-content/uploads/2025/09/Barefoot-in-the-Park-Flyer-1920-x-1080-px-1-1.png
END:VEVENT
BEGIN:VEVENT
DTSTART;TZID=UTC:20251005T110000
DTEND;TZID=UTC:20251005T160000
DTSTAMP:20260424T014256
CREATED:20250923T161408Z
LAST-MODIFIED:20250923T161441Z
UID:10000493-1759662000-1759680000@exploreapexnc.com
SUMMARY:Love Local Showcase
DESCRIPTION:Experience the beauty of downtown Apex with the Apex Love Local Showcase! Spend the afternoon exploring Apex small businesses all in one convenient destination. Downtown and non-Downtown businesses will team up to showcase what they offer—featuring samples\, swag\, and special promotions. Come enjoy the vibrant atmosphere\, discover new favorites\, and take advantage of exclusive promotions throughout the Showcase.
URL:https://exploreapexnc.com/event-single-post-name/love-local-showcase/
LOCATION:Downtown Apex\, 220 N Salem Street\, Apex\, NC\, 27502\, United States
ATTACH;FMTTYPE=image/png:https://exploreapexnc.com/wp-content/uploads/2025/09/LoveLocal2025-FacebookEvent.png
ORGANIZER;CN="Apex Economic Development":MAILTO:Colleen.Merays@apexnc.org
END:VEVENT
BEGIN:VEVENT
DTSTART;TZID=UTC:20251005T150000
DTEND;TZID=UTC:20251005T163000
DTSTAMP:20260424T014256
CREATED:20250918T172542Z
LAST-MODIFIED:20250918T172542Z
UID:10000477-1759676400-1759681800@exploreapexnc.com
SUMMARY:Fall Play "Barefoot in the Park"
DESCRIPTION:Join us at The Halle for this year’s Fall Play\, Neil Simon’s “Barefoot in the Park” follows newlyweds Corie and Paul Bratter as they adjust to married life in a cramped New York apartment. Her spontaneity and his practicality soon clash\, especially during a chaotic evening with their eccentric neighbor and Corie’s mother. As tensions rise\, the couple begins to question their compatibility. Through humor and heart\, they learn that love isn’t just about romance—it’s about accepting differences and growing together. This charming comedy captures the ups and downs of building a life with someone truly different from yourself! \nTickets: $18/Adult $15/Senior\, $12/Student(16 & Under) available by selecting a date above \nPLEASE NOTE: Tickets sold from any outlet outside of The Halle Cultural Arts Center or Etix.com are not valid.\n*****The Halle Cultural Arts Center does not allow refunds or exchanges.*****
URL:https://exploreapexnc.com/event-single-post-name/fall-play-barefoot-in-the-park-4/
LOCATION:The Halle Cultural Arts Center\, 237 N. Salem Street\, Apex\, N\, 27502\, United States
ATTACH;FMTTYPE=image/png:https://exploreapexnc.com/wp-content/uploads/2025/09/Barefoot-in-the-Park-Flyer-1920-x-1080-px-1-2.png
END:VEVENT
BEGIN:VEVENT
DTSTART;TZID=UTC:20251007T163000
DTEND;TZID=UTC:20251007T190000
DTSTAMP:20260424T014256
CREATED:20250828T134942Z
LAST-MODIFIED:20250925T145354Z
UID:10000409-1759854600-1759863600@exploreapexnc.com
SUMMARY:Touch a Truck
DESCRIPTION:National Night Out was designed to enhance the relationship between neighbors and law enforcement while bringing back a true sense of community under positive circumstances. National Night Out events are held in August nationwide\, however our event is held in October to beat the summer heat. There will be safety information and displays\, as well house games and lots of interactive activities. \nTouch-a-Truck allows children to get in the driver’s seat with a free hands-on experience with vehicles of all kinds. We will have local representatives and their vehicles from emergency\, construction\, landscaping\, military\, transportation\, and delivery all in one place! Children will be allowed to touch\, climb on\, and ask questions about their favorite trucks and cars in a safe and supervised environment. \nThis event features: \nVehicles to explore\nVendors and informational booths\nFood trucks\nInteractive games
URL:https://exploreapexnc.com/event-single-post-name/touch-a-truck/
LOCATION:Apex Town Campus\, 73 Hunter Street\, Apex\, NC\, 27502\, United States
ATTACH;FMTTYPE=image/jpeg:https://exploreapexnc.com/wp-content/uploads/2025/08/TouchATruck.jpg
END:VEVENT
BEGIN:VEVENT
DTSTART;TZID=UTC:20251009T173000
DTEND;TZID=UTC:20251009T193000
DTSTAMP:20260424T014256
CREATED:20250828T134415Z
LAST-MODIFIED:20250925T144914Z
UID:10000408-1760031000-1760038200@exploreapexnc.com
SUMMARY:Explore S'more
DESCRIPTION:Enjoy an evening of exploring nature and connecting with your Apex neighbors! This is a free annual community event held during Take a Child Outside Week. Take a Child Outside is an international program that encourages children and adults to spend time outdoors doing fun things and learning about nature together. \nExplore S’more is hosted by the Apex Parks\, Recreation\, and Cultural Resources staff and features: \nNature education information\nInteractive games\nRoasting s’mores (of course)
URL:https://exploreapexnc.com/event-single-post-name/explore-smore-2/
LOCATION:Apex Nature Park Amphitheater\, 2600 Evans Road\, Apex\, NC\, 27502\, United States
ATTACH;FMTTYPE=image/jpeg:https://exploreapexnc.com/wp-content/uploads/2025/08/ExploreSmores.jpg
END:VEVENT
BEGIN:VEVENT
DTSTART;TZID=UTC:20251010T193000
DTEND;TZID=UTC:20251010T210000
DTSTAMP:20260424T014256
CREATED:20250918T172412Z
LAST-MODIFIED:20250918T172412Z
UID:10000478-1760124600-1760130000@exploreapexnc.com
SUMMARY:Fall Play "Barefoot in the Park"
DESCRIPTION:Join us at The Halle for this year’s Fall Play\, Neil Simon’s “Barefoot in the Park” follows newlyweds Corie and Paul Bratter as they adjust to married life in a cramped New York apartment. Her spontaneity and his practicality soon clash\, especially during a chaotic evening with their eccentric neighbor and Corie’s mother. As tensions rise\, the couple begins to question their compatibility. Through humor and heart\, they learn that love isn’t just about romance—it’s about accepting differences and growing together. This charming comedy captures the ups and downs of building a life with someone truly different from yourself! \nTickets: $18/Adult $15/Senior\, $12/Student(16 & Under) available by selecting a date above \nPLEASE NOTE: Tickets sold from any outlet outside of The Halle Cultural Arts Center or Etix.com are not valid.\n*****The Halle Cultural Arts Center does not allow refunds or exchanges.*****
URL:https://exploreapexnc.com/event-single-post-name/fall-play-barefoot-in-the-park-3/
LOCATION:The Halle Cultural Arts Center\, 237 N. Salem Street\, Apex\, N\, 27502\, United States
ATTACH;FMTTYPE=image/png:https://exploreapexnc.com/wp-content/uploads/2025/09/Barefoot-in-the-Park-Flyer-1920-x-1080-px-1-3.png
END:VEVENT
BEGIN:VEVENT
DTSTART;TZID=UTC:20251011T103000
DTEND;TZID=UTC:20251011T130000
DTSTAMP:20260424T014256
CREATED:20250918T172830Z
LAST-MODIFIED:20250918T172830Z
UID:10000481-1760178600-1760187600@exploreapexnc.com
SUMMARY:Family Pumpkin Painting
DESCRIPTION:Visit downtown Apex for a fun Family Pumpkin Painting event\, hosted by our Halle staff! Each ticket includes one medium pumpkin\, paints\, and brushes to create your masterpiece. All ages are welcome—so bring your friends and family for a festive\, creative time together! Participants can bring their pumpkin directly home\, or pick it up from The Halle after a drying period. \nTickets:$ 5 per pumpkin\nCourse # 18567 – Register at thehalle.org
URL:https://exploreapexnc.com/event-single-post-name/family-pumpkin-painting/
LOCATION:The Halle Cultural Arts Center\, 237 N. Salem Street\, Apex\, N\, 27502\, United States
ATTACH;FMTTYPE=image/png:https://exploreapexnc.com/wp-content/uploads/2025/09/Orange-and-Black-Colourful-and-Vibrant-Halloween-Pumpkin-Carving-Contest-Poster-1920-x-1080-px.png
END:VEVENT
BEGIN:VEVENT
DTSTART;TZID=UTC:20251011T193000
DTEND;TZID=UTC:20251011T210000
DTSTAMP:20260424T014256
CREATED:20250918T172633Z
LAST-MODIFIED:20250918T172633Z
UID:10000479-1760211000-1760216400@exploreapexnc.com
SUMMARY:Fall Play "Barefoot in the Park"
DESCRIPTION:Join us at The Halle for this year’s Fall Play\, Neil Simon’s “Barefoot in the Park” follows newlyweds Corie and Paul Bratter as they adjust to married life in a cramped New York apartment. Her spontaneity and his practicality soon clash\, especially during a chaotic evening with their eccentric neighbor and Corie’s mother. As tensions rise\, the couple begins to question their compatibility. Through humor and heart\, they learn that love isn’t just about romance—it’s about accepting differences and growing together. This charming comedy captures the ups and downs of building a life with someone truly different from yourself! \nTickets: $18/Adult $15/Senior\, $12/Student(16 & Under) available by selecting a date above \nPLEASE NOTE: Tickets sold from any outlet outside of The Halle Cultural Arts Center or Etix.com are not valid.\n*****The Halle Cultural Arts Center does not allow refunds or exchanges.*****
URL:https://exploreapexnc.com/event-single-post-name/fall-play-barefoot-in-the-park-5/
LOCATION:The Halle Cultural Arts Center\, 237 N. Salem Street\, Apex\, N\, 27502\, United States
ATTACH;FMTTYPE=image/png:https://exploreapexnc.com/wp-content/uploads/2025/09/Barefoot-in-the-Park-Flyer-1920-x-1080-px-1-4.png
END:VEVENT
BEGIN:VEVENT
DTSTART;TZID=UTC:20251012T150000
DTEND;TZID=UTC:20251012T163000
DTSTAMP:20260424T014256
CREATED:20250918T172727Z
LAST-MODIFIED:20250918T172727Z
UID:10000480-1760281200-1760286600@exploreapexnc.com
SUMMARY:Fall Play "Barefoot in the Park"
DESCRIPTION:Join us at The Halle for this year’s Fall Play\, Neil Simon’s “Barefoot in the Park” follows newlyweds Corie and Paul Bratter as they adjust to married life in a cramped New York apartment. Her spontaneity and his practicality soon clash\, especially during a chaotic evening with their eccentric neighbor and Corie’s mother. As tensions rise\, the couple begins to question their compatibility. Through humor and heart\, they learn that love isn’t just about romance—it’s about accepting differences and growing together. This charming comedy captures the ups and downs of building a life with someone truly different from yourself! \nTickets: $18/Adult $15/Senior\, $12/Student(16 & Under) available by selecting a date above \nPLEASE NOTE: Tickets sold from any outlet outside of The Halle Cultural Arts Center or Etix.com are not valid.\n*****The Halle Cultural Arts Center does not allow refunds or exchanges.*****
URL:https://exploreapexnc.com/event-single-post-name/fall-play-barefoot-in-the-park-6/
LOCATION:The Halle Cultural Arts Center\, 237 N. Salem Street\, Apex\, N\, 27502\, United States
ATTACH;FMTTYPE=image/png:https://exploreapexnc.com/wp-content/uploads/2025/09/Barefoot-in-the-Park-Flyer-1920-x-1080-px-1-5.png
END:VEVENT
BEGIN:VEVENT
DTSTART;TZID=UTC:20251013T180000
DTEND;TZID=UTC:20251013T193000
DTSTAMP:20260424T014256
CREATED:20250828T135145Z
LAST-MODIFIED:20251010T134225Z
UID:10000410-1760378400-1760383800@exploreapexnc.com
SUMMARY:Indigenous Peoples Day
DESCRIPTION:Indigenous Peoples’ Day is a holiday that honors and celebrates the histories and cultures of indigenous peoples in the United States. It is celebrated on the second Monday of October. \nThis year’s celebration features: \nPerformances and storytelling\nFriendship dances\nFood vendors\nCrafts
URL:https://exploreapexnc.com/event-single-post-name/indigenous-peoples-day-2/
LOCATION:Apex Nature Park Amphitheater\, 2600 Evans Road\, Apex\, NC\, 27502\, United States
ATTACH;FMTTYPE=image/jpeg:https://exploreapexnc.com/wp-content/uploads/2025/08/IndigenousPeoplesDay-e1760103737373.jpg
END:VEVENT
BEGIN:VEVENT
DTSTART;VALUE=DATE:20251017
DTEND;VALUE=DATE:20251018
DTSTAMP:20260424T014256
CREATED:20251013T001215Z
LAST-MODIFIED:20251013T001215Z
UID:10000543-1760659200-1760745599@exploreapexnc.com
SUMMARY:Oktoberfest Celebration with The Oak City Polka Kings @ The Backyard Bar
DESCRIPTION:Friday\, October 17th Oktoberfest at The Backyard Bar! \nGet ready for one of our biggest parties of the year — Oktoberfest at The Backyard Bar! We’re transforming the bar into a Bavarian-style celebration with themed décor\, Oktoberfest beer on tap\, and special seasonal cocktails made just for the night. \n🏆 Stein Holding & Beer Chugging Competitions from 7 pm onwards!\nThink you’ve got what it takes? Show off your strength and speed in two Oktoberfest classics — the stein-holding challenge and beer-chugging contest! Win prizes\, bragging rights\, and a guaranteed good time. \n🎶 Live Music by The Oak City Polka Kings!\nThe legends of local Oktoberfest\, these Raleigh favorites bring the oompah party with infectious energy\, sing-alongs\, and a mix of traditional and modern tunes. Accordion\, brass\, and plenty of crowd interaction — it’s the full Oktoberfest experience! \n🍴 Fusion Foods Truck – bringing the flavor to match your pint. \n🔥 Firepits\, heaters\, and no cover — just great beer\, great music\, and great vibes all night long!
URL:https://exploreapexnc.com/event-single-post-name/oktoberfest-celebration-with-the-oak-city-polka-kings-the-backyard-bar/
LOCATION:The Backyard Bar\, 2901 US-64\, Apex\, N\, 27523\, United States
ATTACH;FMTTYPE=image/jpeg:https://exploreapexnc.com/wp-content/uploads/2025/10/oktober.jpg
ORGANIZER;CN="The Backyard Bar":MAILTO:Contact@thebackyardbarnc.com
END:VEVENT
BEGIN:VEVENT
DTSTART;TZID=UTC:20251018T160000
DTEND;TZID=UTC:20251018T210000
DTSTAMP:20260424T014256
CREATED:20250904T122815Z
LAST-MODIFIED:20250904T122815Z
UID:10000434-1760803200-1760821200@exploreapexnc.com
SUMMARY:Geek and Grub Market (Halloween Edition)
DESCRIPTION:Join us for the return of our most popular event of the year – the HALLOWEEN Edition of the Geek and Grub Market! This free event features fun activities\, 40+ geektastic vendors\, food trucks and a FREE horror hayride! Grab your FREE tickets and come out and join us!
URL:https://exploreapexnc.com/event-single-post-name/geek-and-grub-market-halloween-edition/
LOCATION:The Optimist Farm\, 2908 Optimist Farm Rd\, Apex\, N\, 27539\, United States
ATTACH;FMTTYPE=image/jpeg:https://exploreapexnc.com/wp-content/uploads/2025/09/484599232_950604253904271_4296334892295751141_n.jpg
ORGANIZER;CN="Geek and Grub Market":MAILTO:erin@geekandgrubmarket.com
END:VEVENT
BEGIN:VEVENT
DTSTART;TZID=UTC:20251018T160000
DTEND;TZID=UTC:20251018T210000
DTSTAMP:20260424T014256
CREATED:20251007T124328Z
LAST-MODIFIED:20251007T124328Z
UID:10000518-1760803200-1760821200@exploreapexnc.com
SUMMARY:Geek and Grub Market (Halloween Edition)
DESCRIPTION:Join us for the return of our most popular event of the year – the HALLOWEEN Edition of the Geek and Grub Market! This free event features fun activities\, 40+ geektastic vendors\, food trucks and a FREE horror hayride! Grab your FREE tickets and come out and join us!
URL:https://exploreapexnc.com/event-single-post-name/geek-and-grub-market-halloween-edition-2/
LOCATION:The Optimist Farm\, 2908 Optimist Farm Rd\, Apex\, N\, 27539\, United States
ATTACH;FMTTYPE=image/jpeg:https://exploreapexnc.com/wp-content/uploads/2025/10/484599232_950604253904271_4296334892295751141_n.jpg
ORGANIZER;CN="Geek and Grub Market":MAILTO:erin@geekandgrubmarket.com
END:VEVENT
BEGIN:VEVENT
DTSTART;TZID=UTC:20251023T180000
DTEND;TZID=UTC:20251023T193000
DTSTAMP:20260424T014256
CREATED:20251013T003012Z
LAST-MODIFIED:20251013T003012Z
UID:10000528-1761242400-1761247800@exploreapexnc.com
SUMMARY:Positively Apex Happy Hour Networking at Cloer Family Vineyards
DESCRIPTION:Join us at our monthly happy hour for networking\, refreshments\, prizes\, and fun!\nHosted by Cloer Family Vineyards and featuring Voda Cleaning and Restoration.\nAll are welcome. RSVP helpful for planning.
URL:https://exploreapexnc.com/event-single-post-name/positively-apex-happy-hour-networking-at-cloer-family-vineyards/
LOCATION:Cloer Family Vineyards\, 8624 Castleberry Road\, Apex\, N\, 27523\, United States
ATTACH;FMTTYPE=image/jpeg:https://exploreapexnc.com/wp-content/uploads/2025/10/Oct-Happy-Hour.jpg
ORGANIZER;CN="Positively Apex":MAILTO:positivelyapex@gmail.com
END:VEVENT
BEGIN:VEVENT
DTSTART;TZID=UTC:20251024T130000
DTEND;TZID=UTC:20251024T170000
DTSTAMP:20260424T014256
CREATED:20251008T201132Z
LAST-MODIFIED:20251008T201132Z
UID:10000525-1761310800-1761325200@exploreapexnc.com
SUMMARY:Fill Your Cup 2nd Annual Women's Wellness Event
DESCRIPTION:Join Peak Pelvic Health and MissionFIT Rehab & Performance for our 2nd Annual Women’s Wellness event to learn about the services and resources available to you in the community to help you “Fill Your Cup.” Cost is $35 and will include 1 free drink/flight ticket\, hors d’oeuvres\, learning from keynote speakers and networking with woman owned businesses and local health and wellness businesses. You will also have an opportunity to hear speakers on topics that include menopause\, nutrition\, sleep hygiene\, metabolic health\, financial fitness\, and so much more. \nUse the following link for registration:\nhttps://www.ticketleap.events/…/2nd-annual-fill-your… \nWe are SO excited to have a powerhouse group of women coming together again! You can check the announcements page for a list of participating keynote speakers\, schedule of events/itinerary and updates as we get closer to the event. \n**Note\, rain date is scheduled for the following Friday\, November 7th.**
URL:https://exploreapexnc.com/event-single-post-name/fill-your-cup-2nd-annual-womens-wellness-event/
LOCATION:Cloer Family Vineyards\, 8624 Castleberry Road\, Apex\, N\, 27523\, United States
ATTACH;FMTTYPE=image/png:https://exploreapexnc.com/wp-content/uploads/2025/10/2nd-annual-FYCF-2-1.png
ORGANIZER;CN="Peak Pelivc Health Physical Therapy":MAILTO:info@peakpelvichealth.com
END:VEVENT
BEGIN:VEVENT
DTSTART;TZID=UTC:20251024T170000
DTEND;TZID=UTC:20251024T210000
DTSTAMP:20260424T014256
CREATED:20250923T162237Z
LAST-MODIFIED:20250923T162237Z
UID:10000494-1761325200-1761339600@exploreapexnc.com
SUMMARY:Witches Night Out
DESCRIPTION:Dust off your broomsticks and grab your pointy hats—it’s time for Witches Night Out on Salem Street in Downtown Apex! Join us on October 24th from 5 PM to 9 PM\, as your favorite downtown spots stay open late with magical experiences and spellbinding promotions. \nDon’t miss out on this year’s Witches Night Out—mark your calendars for an enchanting evening!
URL:https://exploreapexnc.com/event-single-post-name/witches-night-out-2/
LOCATION:Downtown Apex\, 220 N Salem Street\, Apex\, NC\, 27502\, United States
ATTACH;FMTTYPE=image/jpeg:https://exploreapexnc.com/wp-content/uploads/2025/09/FB-Header.jpg
ORGANIZER;CN="Apex Economic Development":MAILTO:Colleen.Merays@apexnc.org
END:VEVENT
BEGIN:VEVENT
DTSTART;TZID=UTC:20251024T180000
DTEND;TZID=UTC:20251024T200000
DTSTAMP:20260424T014256
CREATED:20251006T150049Z
LAST-MODIFIED:20251006T150049Z
UID:10000516-1761328800-1761336000@exploreapexnc.com
SUMMARY:Family Craft Night at The Backyard Bar
DESCRIPTION:🎨🐼 Cozy Panda Event Co Presents: Family Craft Night! 🐼🎨\nJoin us at The Backyard Bar on Friday\, October 24th from 6-8 PM for a day full of glowing fun and spooky cheer! 👻✨ \nWhat’s in Store?\n🎲 Games\n🛍️ Treat Bag Decorating\n🖌️ Glow Pottery Painting\n🎶 Spooky Music\n🍹Seasonal Drinks At The Bar\nBring your family\, invite your friends\, and come ready for a magical fall night under the lights!\nCostumes Encouraged!💜🎃💚
URL:https://exploreapexnc.com/event-single-post-name/family-craft-night-at-the-backyard-bar/
LOCATION:The Backyard Bar\, 2901 US-64\, Apex\, N\, 27523\, United States
ATTACH;FMTTYPE=image/jpeg:https://exploreapexnc.com/wp-content/uploads/2025/10/crafty.jpg
ORGANIZER;CN="The Backyard Bar":MAILTO:Contact@thebackyardbarnc.com
END:VEVENT
BEGIN:VEVENT
DTSTART;TZID=UTC:20251025T120000
DTEND;TZID=UTC:20251025T160000
DTSTAMP:20260424T014256
CREATED:20251013T173000Z
LAST-MODIFIED:20251013T173000Z
UID:10000546-1761393600-1761408000@exploreapexnc.com
SUMMARY:2nd Annual Beer Festival & Vendor Market
DESCRIPTION:Fall Beer Festival & Vendor Market 🍂\nJoin us on Saturday\, October 25th from 1–4 PM for an afternoon packed with craft beer and local shopping! We’ll have an incredible lineup of breweries pouring samples alongside a vibrant vendor market featuring local businesses\, artists\, and makers. \n🎟️ VIP Beer Festival Experience – $49\nIncludes a 4th anniversary taster glass\, 4th anniversary tote bag\, special VIP-only pours\, early access (12pm)\, and unlimited samples. \n🎟️ General Admission – $29\nIncludes a 4th anniversary taster glass and unlimited samples. \n🗳️Best Beer By Style Voting\nUse our new in-house coded beer voting system to vote for your favorite beer by style and ensure the winning brewery a guaranteed spot on our draft list + a cool 3D printed trophy. \n🛍️ Just here to shop? Entry to the vendor market is completely free—come browse\, sip\, and enjoy the fall vibes! \nBreweries include:\nCommonwealth\nBurial\nKeepsake\nWestbrook\nOaklyn Springs\nWise Man\nWye Hill\nIncendiary\nSteel String\nCrank Arm\nKomana\nPetty Thieves\nWalker Brothers\nTailchasers\n& More!\nGood to know\nHighlights\nAdd Age info\nAdd Door Time\nAdd Parking info\nFrequently asked questions\n💡 Events with FAQs have 8% more organic traffic \n+ Add question\nAdd more sections to your event page\nMake your event stand out even more. These sections help attendees find information and answer their questions – which means more ticket sales and less time answering messages. \nLineup\nNew\nSee examples\nAdd\nAgenda\nSee examples\nAdd
URL:https://exploreapexnc.com/event-single-post-name/2nd-annual-beer-festival-vendor-market/
LOCATION:Bottle Theory\, 3675 W Green Level Rd\, Apex\, NC\, 27523\, United States
ATTACH;FMTTYPE=image/jpeg:https://exploreapexnc.com/wp-content/uploads/2025/10/beer-fest.jpeg
ORGANIZER;CN="Bottle Theory":MAILTO:events@apexbottletheory.com
END:VEVENT
END:VCALENDAR