BEGIN:VCALENDAR
VERSION:2.0
PRODID:-//Explore Apex - ECPv6.15.20//NONSGML v1.0//EN
CALSCALE:GREGORIAN
METHOD:PUBLISH
X-WR-CALNAME:Explore Apex
X-ORIGINAL-URL:https://exploreapexnc.com
X-WR-CALDESC:Events for Explore Apex
REFRESH-INTERVAL;VALUE=DURATION:PT1H
X-Robots-Tag:noindex
X-PUBLISHED-TTL:PT1H
BEGIN:VTIMEZONE
TZID:UTC
BEGIN:STANDARD
TZOFFSETFROM:+0000
TZOFFSETTO:+0000
TZNAME:UTC
DTSTART:20240101T000000
END:STANDARD
END:VTIMEZONE
BEGIN:VEVENT
DTSTART;TZID=UTC:20251231T200000
DTEND;TZID=UTC:20260101T020000
DTSTAMP:20260423T195310
CREATED:20251222T145539Z
LAST-MODIFIED:20251222T145539Z
UID:10000757-1767211200-1767232800@exploreapexnc.com
SUMMARY:New Year’s Eve Party at The Backyard Bar
DESCRIPTION:Let’s ring in the New Year the right way at The Backyard Bar 🥂\nWe’re hosting an unforgettable New Year’s Eve Musical Night Party starting with Karaoke hosted by DJ Nick Driver\, then turning things all the way up as DJ Cody Daniel takes over for a high-energy dance party 🎶🔥\nSip on great drinks\, enjoy delicious food\, and celebrate with a FREE champagne toast at midnight 🥂✨\nThis one’s for you—don’t miss it.\n📅 Save the date\n🎤 Sing. Dance. Celebrate.\n🎉 FREE Entry • FREE Champagne Toast
URL:https://exploreapexnc.com/event-single-post-name/new-years-eve-party-at-the-backyard-bar/
LOCATION:The Backyard Bar\, 2901 US-64\, Apex\, N\, 27523\, United States
ATTACH;FMTTYPE=image/jpeg:https://exploreapexnc.com/wp-content/uploads/2025/12/NYE.jpg
ORGANIZER;CN="The Backyard Bar":MAILTO:Contact@thebackyardbarnc.com
END:VEVENT
BEGIN:VEVENT
DTSTART;TZID=UTC:20260103T090000
DTEND;TZID=UTC:20260103T120000
DTSTAMP:20260423T195310
CREATED:20251029T153344Z
LAST-MODIFIED:20251217T153357Z
UID:10000595-1767430800-1767441600@exploreapexnc.com
SUMMARY:Apex Farmer's Market
DESCRIPTION:Head to Downtown Apex every Saturday morning and explore the outdoor vendor booths offering fresh produce\, meat and seafood\, baked goods\, prepared items\, and handmade crafts\, jewelry\, and art. The vendors change weekly\, but many of your favorites are there on repeat! Market hours are 8 am – 12 pm (April through October)\, and 9am – 12 pm (November though March). See you there!
URL:https://exploreapexnc.com/event-single-post-name/apex-farmers-market-4/2026-01-03/
LOCATION:The Depot\, 220 N Salem Street\, Apex\, 27502\, United States
ATTACH;FMTTYPE=image/png:https://exploreapexnc.com/wp-content/uploads/2025/10/UPDATED-AFM-logo-FINAL.png
END:VEVENT
BEGIN:VEVENT
DTSTART;TZID=UTC:20260110T090000
DTEND;TZID=UTC:20260110T120000
DTSTAMP:20260423T195310
CREATED:20251029T153344Z
LAST-MODIFIED:20251217T153357Z
UID:10000596-1768035600-1768046400@exploreapexnc.com
SUMMARY:Apex Farmer's Market
DESCRIPTION:Head to Downtown Apex every Saturday morning and explore the outdoor vendor booths offering fresh produce\, meat and seafood\, baked goods\, prepared items\, and handmade crafts\, jewelry\, and art. The vendors change weekly\, but many of your favorites are there on repeat! Market hours are 8 am – 12 pm (April through October)\, and 9am – 12 pm (November though March). See you there!
URL:https://exploreapexnc.com/event-single-post-name/apex-farmers-market-4/2026-01-10/
LOCATION:The Depot\, 220 N Salem Street\, Apex\, 27502\, United States
ATTACH;FMTTYPE=image/png:https://exploreapexnc.com/wp-content/uploads/2025/10/UPDATED-AFM-logo-FINAL.png
END:VEVENT
BEGIN:VEVENT
DTSTART;TZID=UTC:20260113T183000
DTEND;TZID=UTC:20260113T200000
DTSTAMP:20260423T195310
CREATED:20251006T125911Z
LAST-MODIFIED:20251006T125911Z
UID:10000507-1768329000-1768334400@exploreapexnc.com
SUMMARY:Modern Calligraphy for Beginners at Cloer Family Vineyards
DESCRIPTION:Join Sip & ScriptⓇ for Modern Calligraphy Fun! \nJoin us at Cloer Family Vineyards in Apex\, North Carolina for pretty lettering! Whether you’re a stationery nerd\, DIY Bride-to-be\, or just a crafty individual\, you’ll be introduced to modern calligraphy with a pointed dip pen and ink in this workshop. We will cover all the basics and prepare you to add those unique lettered details to your snail mail\, wedding paper goods\, home decor\, and more! The perfect crafty night out! \nClass includes 1.5 hours of instruction and demonstration\, our beginner’s calligraphy kit (two nibs\, black ink pot\, 2 letter guides\, tracing paper\, and straight pen holder)\, and all materials to write on. Everything is yours to keep at the end of the workshop!
URL:https://exploreapexnc.com/event-single-post-name/modern-calligraphy-for-beginners-at-cloer-family-vineyards-2/
LOCATION:Cloer Family Vineyards\, 8624 Castleberry Road\, Apex\, N\, 27523\, United States
ATTACH;FMTTYPE=image/png:https://exploreapexnc.com/wp-content/uploads/2025/10/Copy-of-9-2.png
ORGANIZER;CN="Lynn Woods":MAILTO:lynnsipandscript@gmail.com
END:VEVENT
BEGIN:VEVENT
DTSTART;TZID=UTC:20260116T183000
DTEND;TZID=UTC:20260116T203000
DTSTAMP:20260423T195310
CREATED:20251202T135338Z
LAST-MODIFIED:20251202T135338Z
UID:10000698-1768588200-1768595400@exploreapexnc.com
SUMMARY:Black Authors Exhibit
DESCRIPTION:Join Black authors as they discuss their recent published work at the Apex Senior Center (63 Hunter St). The K-12 Creative Contest winners will also be recognized and present their selected works.
URL:https://exploreapexnc.com/event-single-post-name/black-authors-exhibit/
LOCATION:Apex Senior Center\, 63 Hunter Street\, Apex\, NC\, 27502\, United States
ATTACH;FMTTYPE=image/png:https://exploreapexnc.com/wp-content/uploads/2025/12/2026-MLK-Flyer.png
END:VEVENT
BEGIN:VEVENT
DTSTART;TZID=UTC:20260117T080000
DTEND;TZID=UTC:20260117T103000
DTSTAMP:20260423T195310
CREATED:20251202T140428Z
LAST-MODIFIED:20251202T140621Z
UID:10000699-1768636800-1768645800@exploreapexnc.com
SUMMARY:MLK Unity March & Reception
DESCRIPTION:Participants will gather at Apex First Baptist Church (419 S. Salem) and begin marching at 9 AM. After the March\, a MLK Commemoration Breakfast Reception will be held at the Apex Senior Center (63 Hunter St).
URL:https://exploreapexnc.com/event-single-post-name/mlk-unity-march-reception/
LOCATION:Apex Senior Center\, 63 Hunter Street\, Apex\, NC\, 27502\, United States
ATTACH;FMTTYPE=image/png:https://exploreapexnc.com/wp-content/uploads/2025/12/2026-MLK-Flyer-1.png
END:VEVENT
BEGIN:VEVENT
DTSTART;TZID=UTC:20260117T090000
DTEND;TZID=UTC:20260117T120000
DTSTAMP:20260423T195311
CREATED:20251029T153344Z
LAST-MODIFIED:20251217T153357Z
UID:10000597-1768640400-1768651200@exploreapexnc.com
SUMMARY:Apex Farmer's Market
DESCRIPTION:Head to Downtown Apex every Saturday morning and explore the outdoor vendor booths offering fresh produce\, meat and seafood\, baked goods\, prepared items\, and handmade crafts\, jewelry\, and art. The vendors change weekly\, but many of your favorites are there on repeat! Market hours are 8 am – 12 pm (April through October)\, and 9am – 12 pm (November though March). See you there!
URL:https://exploreapexnc.com/event-single-post-name/apex-farmers-market-4/2026-01-17/
LOCATION:The Depot\, 220 N Salem Street\, Apex\, 27502\, United States
ATTACH;FMTTYPE=image/png:https://exploreapexnc.com/wp-content/uploads/2025/10/UPDATED-AFM-logo-FINAL.png
END:VEVENT
BEGIN:VEVENT
DTSTART;TZID=UTC:20260117T150000
DTEND;TZID=UTC:20260117T180000
DTSTAMP:20260423T195311
CREATED:20260113T202635Z
LAST-MODIFIED:20260113T202635Z
UID:10000887-1768662000-1768672800@exploreapexnc.com
SUMMARY:Regift Round-up!
DESCRIPTION:Bring a gift you received over the\nholidays that just didn’t quite fit your saddle\, toss it\ninto the mix\, and trade up for something new-to-you. Drop in any time from 3-6pm. We will have drinks and a food truck! \nThe rules of the roundup:\n• Gifts must be unwrapped\n• Bring one\, take one (or more 😉)\n• Anything that doesn’t get claimed will be donated
URL:https://exploreapexnc.com/event-single-post-name/regift-round-up/
LOCATION:Bottle Theory\, 3675 W Green Level Rd\, Apex\, NC\, 27523\, United States
ATTACH;FMTTYPE=image/jpeg:https://exploreapexnc.com/wp-content/uploads/2026/01/Maroon-and-Yellow-MInimalist-Rodeo-Night-Instagram-post.jpg
ORGANIZER;CN="Bottle Theory":MAILTO:events@apexbottletheory.com
END:VEVENT
BEGIN:VEVENT
DTSTART;TZID=UTC:20260119T090000
DTEND;TZID=UTC:20260119T110000
DTSTAMP:20260423T195311
CREATED:20251202T140901Z
LAST-MODIFIED:20251202T202240Z
UID:10000700-1768813200-1768820400@exploreapexnc.com
SUMMARY:National Day of Service
DESCRIPTION:The National Day of Service is a defining moment each year when people across the country unite in service. Brown Bag Ministries will be at the John M. Brown Community Center. Join fellow community members in packing bagged lunches and writing letters of support and encouragement to be distributed to surrounding counties.
URL:https://exploreapexnc.com/event-single-post-name/national-day-of-service/
LOCATION:John M. Brown Community Center\, 53 Hunter Street\, Apex\, N\, 27502\, United States
ATTACH;FMTTYPE=image/png:https://exploreapexnc.com/wp-content/uploads/2025/12/2026-MLK-Flyer-1-1.png
END:VEVENT
BEGIN:VEVENT
DTSTART;TZID=UTC:20260121T100000
DTEND;TZID=UTC:20260121T120000
DTSTAMP:20260423T195311
CREATED:20260102T210437Z
LAST-MODIFIED:20260102T210437Z
UID:10000779-1768989600-1768996800@exploreapexnc.com
SUMMARY:Wednesday Morning Movie
DESCRIPTION:Grab the kids\, snacks\, blankets and visit us for your FREE\, favorite movies on the big screen! Doors open at 9:30am! \nMovies start at 10am! (no previews)
URL:https://exploreapexnc.com/event-single-post-name/wednesday-morning-movie/2026-01-21/
LOCATION:The Halle Cultural Arts Center\, 237 N. Salem Street\, Apex\, N\, 27502\, United States
ATTACH;FMTTYPE=image/png:https://exploreapexnc.com/wp-content/uploads/2026/01/Document.png
END:VEVENT
BEGIN:VEVENT
DTSTART;TZID=UTC:20260124T090000
DTEND;TZID=UTC:20260124T120000
DTSTAMP:20260423T195311
CREATED:20251029T153344Z
LAST-MODIFIED:20251217T153357Z
UID:10000598-1769245200-1769256000@exploreapexnc.com
SUMMARY:Apex Farmer's Market
DESCRIPTION:Head to Downtown Apex every Saturday morning and explore the outdoor vendor booths offering fresh produce\, meat and seafood\, baked goods\, prepared items\, and handmade crafts\, jewelry\, and art. The vendors change weekly\, but many of your favorites are there on repeat! Market hours are 8 am – 12 pm (April through October)\, and 9am – 12 pm (November though March). See you there!
URL:https://exploreapexnc.com/event-single-post-name/apex-farmers-market-4/2026-01-24/
LOCATION:The Depot\, 220 N Salem Street\, Apex\, 27502\, United States
ATTACH;FMTTYPE=image/png:https://exploreapexnc.com/wp-content/uploads/2025/10/UPDATED-AFM-logo-FINAL.png
END:VEVENT
BEGIN:VEVENT
DTSTART;TZID=UTC:20260124T150000
DTEND;TZID=UTC:20260124T170000
DTSTAMP:20260423T195311
CREATED:20260122T191340Z
LAST-MODIFIED:20260122T191340Z
UID:10000798-1769266800-1769274000@exploreapexnc.com
SUMMARY:Crafter-Noon @ Bottle Theory
DESCRIPTION:Bottle Theory presents… Crafter-noon! ✂ 🎨\nStarting next Saturday\, January 24th\, we will open our space to those looking to get creative\, meet fellow crafters\, and sip on great beverages!\nPlease bring some supplies (such as coloring\, knitting\, watercolor\, etc)\, and we will provide items like corks\, bottles\, and cardboard. 🍾\nLet the creative juices (and the good beer) flow\, and let’s create something beautiful!! 🖌 \nCrafter-noon will reoccur the 4th Saturday of the Month!
URL:https://exploreapexnc.com/event-single-post-name/crafter-noon-bottle-theory-2/2026-01-24/
LOCATION:Bottle Theory\, 3675 W Green Level Rd\, Apex\, NC\, 27523\, United States
ATTACH;FMTTYPE=image/png:https://exploreapexnc.com/wp-content/uploads/2026/01/Crafternoon-Social-Post.png
ORGANIZER;CN="Bottle Theory":MAILTO:events@apexbottletheory.com
END:VEVENT
BEGIN:VEVENT
DTSTART;TZID=UTC:20260124T150000
DTEND;TZID=UTC:20260124T170000
DTSTAMP:20260423T195311
CREATED:20260313T182852Z
LAST-MODIFIED:20260313T182852Z
UID:10001147-1769266800-1769274000@exploreapexnc.com
SUMMARY:Crafter-noon @ Bottle Theory!
DESCRIPTION:Bottle Theory presents… Crafter-noon! ✂🎨 \nThe 4th Saturday of every month we will open our space to those looking to get creative\, meet fellow crafters\, and sip on great beverages! Please note\, we are not leading the craft session. However if you are interested in leading a craft for one of the afternoons\, please reach out to us and we would love to acommodate! \nPlease bring some supplies (such as coloring\, knitting\,\nwatercolor\, etc)\, and we will provide items like corks\,\nbottles\, and cardboard. 🍾 \nLet the creative juices (and the good drinks) flow\, and\nlet’s create something beautiful!! 🖌
URL:https://exploreapexnc.com/event-single-post-name/crafter-noon-bottle-theory-3/
LOCATION:Bottle Theory\, 3675 W Green Level Rd\, Apex\, NC\, 27523\, United States
ATTACH;FMTTYPE=image/png:https://exploreapexnc.com/wp-content/uploads/2026/01/Crafternoon-Social-Post-1.png
ORGANIZER;CN="Bottle Theory":MAILTO:events@apexbottletheory.com
END:VEVENT
BEGIN:VEVENT
DTSTART;TZID=UTC:20260128T200000
DTEND;TZID=UTC:20260128T220000
DTSTAMP:20260423T195311
CREATED:20251218T191106Z
LAST-MODIFIED:20251218T191106Z
UID:10000740-1769630400-1769637600@exploreapexnc.com
SUMMARY:Bad Momz of Comedy: Back... and Badder than Ever!
DESCRIPTION:After selling out TWO back-to-back shows last year\, nationally-touring Bad Momz of Comedy brings us TWO MORE nights of laughs\, camaraderie\, and a well-deserved parenting break – this time with a whole new line up of Bad Mommas! This not-safe-for-playdates comedy group performs for packed venues nationwide including City Wineries\, Zanies Comedy Clubs\, Chicago’s Theater on The Lake – and LIVE on NBC’s The Kelly Clarkson Show. The Chicago Tribune says: “If you’re a mom\, if you have a mom\, if you just know a mom – there’s a show for you.” \nTickets: $30(+tax) each on etix https://www.etix.com/ticket/v/5457/halle-cultural-arts-center \nPLEASE NOTE: Tickets sold from any outlet outside of The Halle Cultural Arts Center or Etix.com are not valid. \n*****The Halle Cultural Arts Center does not allow refunds or exchanges.*****
URL:https://exploreapexnc.com/event-single-post-name/bad-momz-of-comedy-back-and-badder-than-ever/2026-01-28/
LOCATION:The Halle Cultural Arts Center\, 237 N. Salem Street\, Apex\, N\, 27502\, United States
ATTACH;FMTTYPE=image/png:https://exploreapexnc.com/wp-content/uploads/2025/12/Bad-Momz-Social-MEdia-6.png
END:VEVENT
BEGIN:VEVENT
DTSTART;TZID=UTC:20260129T200000
DTEND;TZID=UTC:20260129T220000
DTSTAMP:20260423T195311
CREATED:20251218T191106Z
LAST-MODIFIED:20251218T191106Z
UID:10000752-1769716800-1769724000@exploreapexnc.com
SUMMARY:Bad Momz of Comedy: Back... and Badder than Ever!
DESCRIPTION:After selling out TWO back-to-back shows last year\, nationally-touring Bad Momz of Comedy brings us TWO MORE nights of laughs\, camaraderie\, and a well-deserved parenting break – this time with a whole new line up of Bad Mommas! This not-safe-for-playdates comedy group performs for packed venues nationwide including City Wineries\, Zanies Comedy Clubs\, Chicago’s Theater on The Lake – and LIVE on NBC’s The Kelly Clarkson Show. The Chicago Tribune says: “If you’re a mom\, if you have a mom\, if you just know a mom – there’s a show for you.” \nTickets: $30(+tax) each on etix https://www.etix.com/ticket/v/5457/halle-cultural-arts-center \nPLEASE NOTE: Tickets sold from any outlet outside of The Halle Cultural Arts Center or Etix.com are not valid. \n*****The Halle Cultural Arts Center does not allow refunds or exchanges.*****
URL:https://exploreapexnc.com/event-single-post-name/bad-momz-of-comedy-back-and-badder-than-ever/2026-01-29/
LOCATION:The Halle Cultural Arts Center\, 237 N. Salem Street\, Apex\, N\, 27502\, United States
ATTACH;FMTTYPE=image/png:https://exploreapexnc.com/wp-content/uploads/2025/12/Bad-Momz-Social-MEdia-6.png
END:VEVENT
BEGIN:VEVENT
DTSTART;TZID=UTC:20260131T090000
DTEND;TZID=UTC:20260131T120000
DTSTAMP:20260423T195311
CREATED:20251029T153344Z
LAST-MODIFIED:20251217T153357Z
UID:10000599-1769850000-1769860800@exploreapexnc.com
SUMMARY:Apex Farmer's Market
DESCRIPTION:Head to Downtown Apex every Saturday morning and explore the outdoor vendor booths offering fresh produce\, meat and seafood\, baked goods\, prepared items\, and handmade crafts\, jewelry\, and art. The vendors change weekly\, but many of your favorites are there on repeat! Market hours are 8 am – 12 pm (April through October)\, and 9am – 12 pm (November though March). See you there!
URL:https://exploreapexnc.com/event-single-post-name/apex-farmers-market-4/2026-01-31/
LOCATION:The Depot\, 220 N Salem Street\, Apex\, 27502\, United States
ATTACH;FMTTYPE=image/png:https://exploreapexnc.com/wp-content/uploads/2025/10/UPDATED-AFM-logo-FINAL.png
END:VEVENT
END:VCALENDAR