BEGIN:VCALENDAR
VERSION:2.0
PRODID:-//Explore Apex - ECPv6.15.20//NONSGML v1.0//EN
CALSCALE:GREGORIAN
METHOD:PUBLISH
X-WR-CALNAME:Explore Apex
X-ORIGINAL-URL:https://exploreapexnc.com
X-WR-CALDESC:Events for Explore Apex
REFRESH-INTERVAL;VALUE=DURATION:PT1H
X-Robots-Tag:noindex
X-PUBLISHED-TTL:PT1H
BEGIN:VTIMEZONE
TZID:UTC
BEGIN:STANDARD
TZOFFSETFROM:+0000
TZOFFSETTO:+0000
TZNAME:UTC
DTSTART:20250101T000000
END:STANDARD
END:VTIMEZONE
BEGIN:VEVENT
DTSTART;TZID=UTC:20260418T160000
DTEND;TZID=UTC:20260418T190000
DTSTAMP:20260423T195001
CREATED:20260319T133530Z
LAST-MODIFIED:20260319T133530Z
UID:10001174-1776528000-1776538800@exploreapexnc.com
SUMMARY:Urban Taal - Indian Classical Kathak Dance Performance (In Apex!)
DESCRIPTION:Aakriti Kathak Academy presents URBAN TAAL — an evening where a classical North Indian dance form meets contemporary music and storytelling. Based in the Triangle\, Aakriti Kathak Academy is a local dance school\, and this performance brings together its students—ages 8 to 50—across all levels\, from beginners to advanced performers. The program is designed to be accessible to all audiences\, including those new to Indian classical arts. In the Triangle—home to a dense mix of cultures\, disciplines\, and global influences—this event is an opportunity to actively engage with that diversity. It offers a way to experience an international art form locally\, while supporting a community-based organization that reflects the region’s breadth. The evening also features the presence of renowned Kathak maestro Rajendra Gangani\, providing a direct link to one of the leading lineages of this global art form. \n📅 Saturday\, April 18\, 2026 ⏰ 4:00 PM – 7:00 PM\n📍 Apex Friendship High School\, Apex\nTickets: https://tinyurl.com/mrzc4wyx \nThis is both a performance and a point of cultural exchange—grounded locally\, but globally relevant.
URL:https://exploreapexnc.com/event-single-post-name/urban-taal-indian-classical-kathak-dance-performance-in-apex/
LOCATION:Apex Friendship High School\, 7801 Humie Olive Rd\, NC\, Apex\, NC\, 27502\, United States
ATTACH;FMTTYPE=image/jpeg:https://exploreapexnc.com/wp-content/uploads/2026/03/650679557_26380066881613074_6626884095920575400_n-1.jpg
ORGANIZER;CN="Aakriti Dance Academy":MAILTO:aakritikathakdance@gmail.com
END:VEVENT
END:VCALENDAR