BEGIN:VCALENDAR
VERSION:2.0
PRODID:-//Explore Apex - ECPv6.15.20//NONSGML v1.0//EN
CALSCALE:GREGORIAN
METHOD:PUBLISH
X-WR-CALNAME:Explore Apex
X-ORIGINAL-URL:https://exploreapexnc.com
X-WR-CALDESC:Events for Explore Apex
REFRESH-INTERVAL;VALUE=DURATION:PT1H
X-Robots-Tag:noindex
X-PUBLISHED-TTL:PT1H
BEGIN:VTIMEZONE
TZID:America/New_York
BEGIN:DAYLIGHT
TZOFFSETFROM:-0500
TZOFFSETTO:-0400
TZNAME:EDT
DTSTART:20250309T070000
END:DAYLIGHT
BEGIN:STANDARD
TZOFFSETFROM:-0400
TZOFFSETTO:-0500
TZNAME:EST
DTSTART:20251102T060000
END:STANDARD
BEGIN:DAYLIGHT
TZOFFSETFROM:-0500
TZOFFSETTO:-0400
TZNAME:EDT
DTSTART:20260308T070000
END:DAYLIGHT
BEGIN:STANDARD
TZOFFSETFROM:-0400
TZOFFSETTO:-0500
TZNAME:EST
DTSTART:20261101T060000
END:STANDARD
BEGIN:DAYLIGHT
TZOFFSETFROM:-0500
TZOFFSETTO:-0400
TZNAME:EDT
DTSTART:20270314T070000
END:DAYLIGHT
BEGIN:STANDARD
TZOFFSETFROM:-0400
TZOFFSETTO:-0500
TZNAME:EST
DTSTART:20271107T060000
END:STANDARD
END:VTIMEZONE
BEGIN:VEVENT
DTSTART;TZID=America/New_York:20260226T183000
DTEND;TZID=America/New_York:20260226T203000
DTSTAMP:20260423T212210
CREATED:20260128T145108Z
LAST-MODIFIED:20260128T145108Z
UID:10000932-1772130600-1772137800@exploreapexnc.com
SUMMARY:Beginner American Mahjong Workshop - 2/26/26
DESCRIPTION:Join Amy from Holly Springs Mahjong at Adventures in Bloom for a lively\, two-hour intro to American Mahjong! Whether you’re brand-new or just mah-curious\, we’ll walk you through the basics and have you playing with confidence before you leave. All materials included – just bring your curiosity (and maybe a little competitive spirit 😉). \nOne workshop ticket is required per person attending. Workshop will be capped at 16 participants with a minimum of 8 participants. You may bring in drinks (wine/beer are okay!) and snacks.
URL:https://exploreapexnc.com/event-single-post-name/beginner-american-mahjong-workshop-2-26-26/
LOCATION:Adventures in Bloom\, 110 N Salem Street\, Apex\, 27502\, United States
ATTACH;FMTTYPE=image/png:https://exploreapexnc.com/wp-content/uploads/2026/01/Stamping-2000-x-2000-px-585-x-440-px-9.png
ORGANIZER;CN="Adventures In Bloom":MAILTO:adventuresinbloom@gmail.com
END:VEVENT
END:VCALENDAR