BEGIN:VCALENDAR
VERSION:2.0
PRODID:-//Explore Apex - ECPv6.15.20//NONSGML v1.0//EN
CALSCALE:GREGORIAN
METHOD:PUBLISH
X-ORIGINAL-URL:https://exploreapexnc.com
X-WR-CALDESC:Events for Explore Apex
REFRESH-INTERVAL;VALUE=DURATION:PT1H
X-Robots-Tag:noindex
X-PUBLISHED-TTL:PT1H
BEGIN:VTIMEZONE
TZID:America/New_York
BEGIN:DAYLIGHT
TZOFFSETFROM:-0500
TZOFFSETTO:-0400
TZNAME:EDT
DTSTART:20250309T070000
END:DAYLIGHT
BEGIN:STANDARD
TZOFFSETFROM:-0400
TZOFFSETTO:-0500
TZNAME:EST
DTSTART:20251102T060000
END:STANDARD
BEGIN:DAYLIGHT
TZOFFSETFROM:-0500
TZOFFSETTO:-0400
TZNAME:EDT
DTSTART:20260308T070000
END:DAYLIGHT
BEGIN:STANDARD
TZOFFSETFROM:-0400
TZOFFSETTO:-0500
TZNAME:EST
DTSTART:20261101T060000
END:STANDARD
BEGIN:DAYLIGHT
TZOFFSETFROM:-0500
TZOFFSETTO:-0400
TZNAME:EDT
DTSTART:20270314T070000
END:DAYLIGHT
BEGIN:STANDARD
TZOFFSETFROM:-0400
TZOFFSETTO:-0500
TZNAME:EST
DTSTART:20271107T060000
END:STANDARD
END:VTIMEZONE
BEGIN:VEVENT
DTSTART;TZID=America/New_York:20260423T180000
DTEND;TZID=America/New_York:20260423T200000
DTSTAMP:20260423T212139
CREATED:20260311T191319Z
LAST-MODIFIED:20260311T191319Z
UID:10001100-1776967200-1776974400@exploreapexnc.com
SUMMARY:Intermediate American Mahjong Workshop - 4/23/26
DESCRIPTION:Have you taken a beginner class\, caught the mahjong bug\, but don’t feel comfortable 100% on your own yet? Our 2.0 class gives you the opportunity of a brief refresher training\, with much of the class being a guided play\, much like the end of your beginner class was. \nWe will bring everything you need to play\, including 2025 and 2026 NJML cards\, just show up and play! \n*Includes $5 Adventures in Bloom Store Credit to use that evening! \nOne workshop ticket is required per person attending. Workshop will be capped at 16 participants with a minimum of 8 participants. You may bring in drinks (wine/beer are okay!) and snacks.
URL:https://exploreapexnc.com/event-single-post-name/intermediate-american-mahjong-workshop-4-23-26/
LOCATION:Adventures in Bloom\, 110 N Salem Street\, Apex\, 27502\, United States
ATTACH;FMTTYPE=image/png:https://exploreapexnc.com/wp-content/uploads/2026/03/Stamping-2000-x-2000-px-585-x-440-px-16.png
ORGANIZER;CN="Adventures in Bloom":MAILTO:adventuresinbloom@gmail.com
END:VEVENT
BEGIN:VEVENT
DTSTART;TZID=America/New_York:20260426T100000
DTEND;TZID=America/New_York:20260426T120000
DTSTAMP:20260423T212139
CREATED:20260311T184838Z
LAST-MODIFIED:20260311T184838Z
UID:10001096-1777197600-1777204800@exploreapexnc.com
SUMMARY:Spring Florals Wine Glass Painting Workshop with Heather Eck - Sunday 4/26/26
DESCRIPTION:Paint a Floral Stemless Wine Glass (Take Home Two!) \nSlow down\, get creative\, and paint something beautiful you’ll actually use. In this hands-on workshop\, you’ll learn how to paint a soft\, layered floral design on two stemless wine glasses\, inspired by spring gardens and wild blooms. Heather will guide you step-by-step through brush techniques\, color layering\, and simple floral shapes that look organic and expressive. No experience or perfect brush strokes required. \nThis class is beginner-friendly and designed to feel relaxed\, playful\, and grounding. You’ll leave with two hand-painted glasses that feel personal\, joyful\, and gift-worthy (or perfect to keep for yourself). \nWhat’s included\nTwo stemless wine glasses to paint and take home\nAll paints\, brushes\, and materials\nGuided instruction and floral painting techniques\nA cozy\, creative atmosphere with room to explore your own style\n$5 store credit to use at Adventures in Bloom! \nNo prior painting experience needed. Just come as you are and let yourself enjoy the process. \nOne workshop ticket is required per person attending. Workshop will be capped at 12 participants with a minimum of 6 participants. You may bring in drinks (wine/beer are okay!) and snacks. \nLast day to purchase a workshop ticket will be 4/25/26
URL:https://exploreapexnc.com/event-single-post-name/spring-florals-wine-glass-painting-workshop-with-heather-eck-sunday-4-26-26/
LOCATION:Adventures in Bloom\, 110 N Salem Street\, Apex\, 27502\, United States
ATTACH;FMTTYPE=image/png:https://exploreapexnc.com/wp-content/uploads/2026/03/Stamping-2000-x-2000-px-585-x-440-px-14.png
ORGANIZER;CN="Adventures in Bloom":MAILTO:adventuresinbloom@gmail.com
END:VEVENT
BEGIN:VEVENT
DTSTART;TZID=America/New_York:20260519T183000
DTEND;TZID=America/New_York:20260519T200000
DTSTAMP:20260423T212139
CREATED:20260311T191650Z
LAST-MODIFIED:20260311T191650Z
UID:10001102-1779215400-1779220800@exploreapexnc.com
SUMMARY:May Book Club - 'The Correspondent' - 5/19/26
DESCRIPTION:Join us for our May Book Club! \nWe will be reading ‘The Correspondent’ by Virginia Evans. \n#1 NEW YORK TIMES BESTSELLER • Discover the word-of-mouth hit hailed by Ann Patchett as “A cause for celebration”—an intimate novel about the transformative power of the written word and the beauty of slowing down to reconnect with the people we love. \n“The Correspondent is this year’s breakout novel no one saw coming.”—The Wall Street Journal \nBook Club will be capped at 16 participants\, and you can bring snacks and drinks (wine and beer are okay!) \nTickets are $5\, and you will receive $5 Store Credit towards any purchase in the shop the evening of the book club. Store credit must be used during the same visit.
URL:https://exploreapexnc.com/event-single-post-name/may-book-club-the-correspondent-5-19-26/
LOCATION:Adventures in Bloom\, 110 N Salem Street\, Apex\, 27502\, United States
ATTACH;FMTTYPE=image/png:https://exploreapexnc.com/wp-content/uploads/2026/03/Stamping-2000-x-2000-px-585-x-440-px-19.png
ORGANIZER;CN="Adventures in Bloom":MAILTO:adventuresinbloom@gmail.com
END:VEVENT
END:VCALENDAR