BEGIN:VCALENDAR
VERSION:2.0
PRODID:-//Explore Apex - ECPv6.15.20//NONSGML v1.0//EN
CALSCALE:GREGORIAN
METHOD:PUBLISH
X-ORIGINAL-URL:https://exploreapexnc.com
X-WR-CALDESC:Events for Explore Apex
REFRESH-INTERVAL;VALUE=DURATION:PT1H
X-Robots-Tag:noindex
X-PUBLISHED-TTL:PT1H
BEGIN:VTIMEZONE
TZID:UTC
BEGIN:STANDARD
TZOFFSETFROM:+0000
TZOFFSETTO:+0000
TZNAME:UTC
DTSTART:20230101T000000
END:STANDARD
END:VTIMEZONE
BEGIN:VEVENT
DTSTART;TZID=UTC:20260418T080000
DTEND;TZID=UTC:20260418T120000
DTSTAMP:20260423T183007
CREATED:20260414T171018Z
LAST-MODIFIED:20260414T171018Z
UID:10001276-1776499200-1776513600@exploreapexnc.com
SUMMARY:Apex Farmers Market
DESCRIPTION:Head to Downtown Apex every Saturday morning and explore the outdoor vendor booths offering fresh produce\, meat and seafood\, baked goods\, prepared items\, and handmade crafts\, jewelry\, and art. The vendors change weekly\, but many of your favorites are there on repeat! Market hours are 8 am – 12 pm (April through October)\, and 9am – 12 pm (November though March). See you there!
URL:https://exploreapexnc.com/event-single-post-name/apex-farmers-market-5/2026-04-18/
ATTACH;FMTTYPE=image/png:https://exploreapexnc.com/wp-content/uploads/2026/04/Screenshot-2026-04-08-123450.png
END:VEVENT
BEGIN:VEVENT
DTSTART;TZID=UTC:20260328T090000
DTEND;TZID=UTC:20260328T120000
DTSTAMP:20260423T183007
CREATED:20251029T153344Z
LAST-MODIFIED:20251217T153357Z
UID:10000607-1774688400-1774699200@exploreapexnc.com
SUMMARY:Apex Farmer's Market
DESCRIPTION:Head to Downtown Apex every Saturday morning and explore the outdoor vendor booths offering fresh produce\, meat and seafood\, baked goods\, prepared items\, and handmade crafts\, jewelry\, and art. The vendors change weekly\, but many of your favorites are there on repeat! Market hours are 8 am – 12 pm (April through October)\, and 9am – 12 pm (November though March). See you there!
URL:https://exploreapexnc.com/event-single-post-name/apex-farmers-market-4/2026-03-28/
LOCATION:The Depot\, 220 N Salem Street\, Apex\, 27502\, United States
ATTACH;FMTTYPE=image/png:https://exploreapexnc.com/wp-content/uploads/2025/10/UPDATED-AFM-logo-FINAL.png
END:VEVENT
BEGIN:VEVENT
DTSTART;TZID=UTC:20260321T090000
DTEND;TZID=UTC:20260321T120000
DTSTAMP:20260423T183007
CREATED:20251029T153344Z
LAST-MODIFIED:20251217T153357Z
UID:10000606-1774083600-1774094400@exploreapexnc.com
SUMMARY:Apex Farmer's Market
DESCRIPTION:Head to Downtown Apex every Saturday morning and explore the outdoor vendor booths offering fresh produce\, meat and seafood\, baked goods\, prepared items\, and handmade crafts\, jewelry\, and art. The vendors change weekly\, but many of your favorites are there on repeat! Market hours are 8 am – 12 pm (April through October)\, and 9am – 12 pm (November though March). See you there!
URL:https://exploreapexnc.com/event-single-post-name/apex-farmers-market-4/2026-03-21/
LOCATION:The Depot\, 220 N Salem Street\, Apex\, 27502\, United States
ATTACH;FMTTYPE=image/png:https://exploreapexnc.com/wp-content/uploads/2025/10/UPDATED-AFM-logo-FINAL.png
END:VEVENT
BEGIN:VEVENT
DTSTART;TZID=UTC:20260314T090000
DTEND;TZID=UTC:20260314T120000
DTSTAMP:20260423T183007
CREATED:20251029T153344Z
LAST-MODIFIED:20251217T153357Z
UID:10000605-1773478800-1773489600@exploreapexnc.com
SUMMARY:Apex Farmer's Market
DESCRIPTION:Head to Downtown Apex every Saturday morning and explore the outdoor vendor booths offering fresh produce\, meat and seafood\, baked goods\, prepared items\, and handmade crafts\, jewelry\, and art. The vendors change weekly\, but many of your favorites are there on repeat! Market hours are 8 am – 12 pm (April through October)\, and 9am – 12 pm (November though March). See you there!
URL:https://exploreapexnc.com/event-single-post-name/apex-farmers-market-4/2026-03-14/
LOCATION:The Depot\, 220 N Salem Street\, Apex\, 27502\, United States
ATTACH;FMTTYPE=image/png:https://exploreapexnc.com/wp-content/uploads/2025/10/UPDATED-AFM-logo-FINAL.png
END:VEVENT
BEGIN:VEVENT
DTSTART;TZID=UTC:20260307T090000
DTEND;TZID=UTC:20260307T120000
DTSTAMP:20260423T183007
CREATED:20251029T153344Z
LAST-MODIFIED:20251217T153357Z
UID:10000604-1772874000-1772884800@exploreapexnc.com
SUMMARY:Apex Farmer's Market
DESCRIPTION:Head to Downtown Apex every Saturday morning and explore the outdoor vendor booths offering fresh produce\, meat and seafood\, baked goods\, prepared items\, and handmade crafts\, jewelry\, and art. The vendors change weekly\, but many of your favorites are there on repeat! Market hours are 8 am – 12 pm (April through October)\, and 9am – 12 pm (November though March). See you there!
URL:https://exploreapexnc.com/event-single-post-name/apex-farmers-market-4/2026-03-07/
LOCATION:The Depot\, 220 N Salem Street\, Apex\, 27502\, United States
ATTACH;FMTTYPE=image/png:https://exploreapexnc.com/wp-content/uploads/2025/10/UPDATED-AFM-logo-FINAL.png
END:VEVENT
BEGIN:VEVENT
DTSTART;TZID=UTC:20260228T090000
DTEND;TZID=UTC:20260228T120000
DTSTAMP:20260423T183007
CREATED:20251029T153344Z
LAST-MODIFIED:20251217T153357Z
UID:10000603-1772269200-1772280000@exploreapexnc.com
SUMMARY:Apex Farmer's Market
DESCRIPTION:Head to Downtown Apex every Saturday morning and explore the outdoor vendor booths offering fresh produce\, meat and seafood\, baked goods\, prepared items\, and handmade crafts\, jewelry\, and art. The vendors change weekly\, but many of your favorites are there on repeat! Market hours are 8 am – 12 pm (April through October)\, and 9am – 12 pm (November though March). See you there!
URL:https://exploreapexnc.com/event-single-post-name/apex-farmers-market-4/2026-02-28/
LOCATION:The Depot\, 220 N Salem Street\, Apex\, 27502\, United States
ATTACH;FMTTYPE=image/png:https://exploreapexnc.com/wp-content/uploads/2025/10/UPDATED-AFM-logo-FINAL.png
END:VEVENT
BEGIN:VEVENT
DTSTART;TZID=UTC:20260221T090000
DTEND;TZID=UTC:20260221T120000
DTSTAMP:20260423T183007
CREATED:20251029T153344Z
LAST-MODIFIED:20251217T153357Z
UID:10000602-1771664400-1771675200@exploreapexnc.com
SUMMARY:Apex Farmer's Market
DESCRIPTION:Head to Downtown Apex every Saturday morning and explore the outdoor vendor booths offering fresh produce\, meat and seafood\, baked goods\, prepared items\, and handmade crafts\, jewelry\, and art. The vendors change weekly\, but many of your favorites are there on repeat! Market hours are 8 am – 12 pm (April through October)\, and 9am – 12 pm (November though March). See you there!
URL:https://exploreapexnc.com/event-single-post-name/apex-farmers-market-4/2026-02-21/
LOCATION:The Depot\, 220 N Salem Street\, Apex\, 27502\, United States
ATTACH;FMTTYPE=image/png:https://exploreapexnc.com/wp-content/uploads/2025/10/UPDATED-AFM-logo-FINAL.png
END:VEVENT
BEGIN:VEVENT
DTSTART;TZID=UTC:20260214T090000
DTEND;TZID=UTC:20260214T120000
DTSTAMP:20260423T183007
CREATED:20251029T153344Z
LAST-MODIFIED:20251217T153357Z
UID:10000601-1771059600-1771070400@exploreapexnc.com
SUMMARY:Apex Farmer's Market
DESCRIPTION:Head to Downtown Apex every Saturday morning and explore the outdoor vendor booths offering fresh produce\, meat and seafood\, baked goods\, prepared items\, and handmade crafts\, jewelry\, and art. The vendors change weekly\, but many of your favorites are there on repeat! Market hours are 8 am – 12 pm (April through October)\, and 9am – 12 pm (November though March). See you there!
URL:https://exploreapexnc.com/event-single-post-name/apex-farmers-market-4/2026-02-14/
LOCATION:The Depot\, 220 N Salem Street\, Apex\, 27502\, United States
ATTACH;FMTTYPE=image/png:https://exploreapexnc.com/wp-content/uploads/2025/10/UPDATED-AFM-logo-FINAL.png
END:VEVENT
BEGIN:VEVENT
DTSTART;TZID=UTC:20260207T090000
DTEND;TZID=UTC:20260207T120000
DTSTAMP:20260423T183007
CREATED:20251029T153344Z
LAST-MODIFIED:20251217T153357Z
UID:10000600-1770454800-1770465600@exploreapexnc.com
SUMMARY:Apex Farmer's Market
DESCRIPTION:Head to Downtown Apex every Saturday morning and explore the outdoor vendor booths offering fresh produce\, meat and seafood\, baked goods\, prepared items\, and handmade crafts\, jewelry\, and art. The vendors change weekly\, but many of your favorites are there on repeat! Market hours are 8 am – 12 pm (April through October)\, and 9am – 12 pm (November though March). See you there!
URL:https://exploreapexnc.com/event-single-post-name/apex-farmers-market-4/2026-02-07/
LOCATION:The Depot\, 220 N Salem Street\, Apex\, 27502\, United States
ATTACH;FMTTYPE=image/png:https://exploreapexnc.com/wp-content/uploads/2025/10/UPDATED-AFM-logo-FINAL.png
END:VEVENT
BEGIN:VEVENT
DTSTART;TZID=UTC:20260131T090000
DTEND;TZID=UTC:20260131T120000
DTSTAMP:20260423T183007
CREATED:20251029T153344Z
LAST-MODIFIED:20251217T153357Z
UID:10000599-1769850000-1769860800@exploreapexnc.com
SUMMARY:Apex Farmer's Market
DESCRIPTION:Head to Downtown Apex every Saturday morning and explore the outdoor vendor booths offering fresh produce\, meat and seafood\, baked goods\, prepared items\, and handmade crafts\, jewelry\, and art. The vendors change weekly\, but many of your favorites are there on repeat! Market hours are 8 am – 12 pm (April through October)\, and 9am – 12 pm (November though March). See you there!
URL:https://exploreapexnc.com/event-single-post-name/apex-farmers-market-4/2026-01-31/
LOCATION:The Depot\, 220 N Salem Street\, Apex\, 27502\, United States
ATTACH;FMTTYPE=image/png:https://exploreapexnc.com/wp-content/uploads/2025/10/UPDATED-AFM-logo-FINAL.png
END:VEVENT
BEGIN:VEVENT
DTSTART;TZID=UTC:20260124T090000
DTEND;TZID=UTC:20260124T120000
DTSTAMP:20260423T183007
CREATED:20251029T153344Z
LAST-MODIFIED:20251217T153357Z
UID:10000598-1769245200-1769256000@exploreapexnc.com
SUMMARY:Apex Farmer's Market
DESCRIPTION:Head to Downtown Apex every Saturday morning and explore the outdoor vendor booths offering fresh produce\, meat and seafood\, baked goods\, prepared items\, and handmade crafts\, jewelry\, and art. The vendors change weekly\, but many of your favorites are there on repeat! Market hours are 8 am – 12 pm (April through October)\, and 9am – 12 pm (November though March). See you there!
URL:https://exploreapexnc.com/event-single-post-name/apex-farmers-market-4/2026-01-24/
LOCATION:The Depot\, 220 N Salem Street\, Apex\, 27502\, United States
ATTACH;FMTTYPE=image/png:https://exploreapexnc.com/wp-content/uploads/2025/10/UPDATED-AFM-logo-FINAL.png
END:VEVENT
BEGIN:VEVENT
DTSTART;TZID=UTC:20260117T090000
DTEND;TZID=UTC:20260117T120000
DTSTAMP:20260423T183007
CREATED:20251029T153344Z
LAST-MODIFIED:20251217T153357Z
UID:10000597-1768640400-1768651200@exploreapexnc.com
SUMMARY:Apex Farmer's Market
DESCRIPTION:Head to Downtown Apex every Saturday morning and explore the outdoor vendor booths offering fresh produce\, meat and seafood\, baked goods\, prepared items\, and handmade crafts\, jewelry\, and art. The vendors change weekly\, but many of your favorites are there on repeat! Market hours are 8 am – 12 pm (April through October)\, and 9am – 12 pm (November though March). See you there!
URL:https://exploreapexnc.com/event-single-post-name/apex-farmers-market-4/2026-01-17/
LOCATION:The Depot\, 220 N Salem Street\, Apex\, 27502\, United States
ATTACH;FMTTYPE=image/png:https://exploreapexnc.com/wp-content/uploads/2025/10/UPDATED-AFM-logo-FINAL.png
END:VEVENT
BEGIN:VEVENT
DTSTART;TZID=UTC:20260110T090000
DTEND;TZID=UTC:20260110T120000
DTSTAMP:20260423T183007
CREATED:20251029T153344Z
LAST-MODIFIED:20251217T153357Z
UID:10000596-1768035600-1768046400@exploreapexnc.com
SUMMARY:Apex Farmer's Market
DESCRIPTION:Head to Downtown Apex every Saturday morning and explore the outdoor vendor booths offering fresh produce\, meat and seafood\, baked goods\, prepared items\, and handmade crafts\, jewelry\, and art. The vendors change weekly\, but many of your favorites are there on repeat! Market hours are 8 am – 12 pm (April through October)\, and 9am – 12 pm (November though March). See you there!
URL:https://exploreapexnc.com/event-single-post-name/apex-farmers-market-4/2026-01-10/
LOCATION:The Depot\, 220 N Salem Street\, Apex\, 27502\, United States
ATTACH;FMTTYPE=image/png:https://exploreapexnc.com/wp-content/uploads/2025/10/UPDATED-AFM-logo-FINAL.png
END:VEVENT
BEGIN:VEVENT
DTSTART;TZID=UTC:20260103T090000
DTEND;TZID=UTC:20260103T120000
DTSTAMP:20260423T183007
CREATED:20251029T153344Z
LAST-MODIFIED:20251217T153357Z
UID:10000595-1767430800-1767441600@exploreapexnc.com
SUMMARY:Apex Farmer's Market
DESCRIPTION:Head to Downtown Apex every Saturday morning and explore the outdoor vendor booths offering fresh produce\, meat and seafood\, baked goods\, prepared items\, and handmade crafts\, jewelry\, and art. The vendors change weekly\, but many of your favorites are there on repeat! Market hours are 8 am – 12 pm (April through October)\, and 9am – 12 pm (November though March). See you there!
URL:https://exploreapexnc.com/event-single-post-name/apex-farmers-market-4/2026-01-03/
LOCATION:The Depot\, 220 N Salem Street\, Apex\, 27502\, United States
ATTACH;FMTTYPE=image/png:https://exploreapexnc.com/wp-content/uploads/2025/10/UPDATED-AFM-logo-FINAL.png
END:VEVENT
BEGIN:VEVENT
DTSTART;TZID=UTC:20251227T090000
DTEND;TZID=UTC:20251227T120000
DTSTAMP:20260423T183007
CREATED:20251029T153344Z
LAST-MODIFIED:20251217T153357Z
UID:10000594-1766826000-1766836800@exploreapexnc.com
SUMMARY:Apex Farmer's Market
DESCRIPTION:Head to Downtown Apex every Saturday morning and explore the outdoor vendor booths offering fresh produce\, meat and seafood\, baked goods\, prepared items\, and handmade crafts\, jewelry\, and art. The vendors change weekly\, but many of your favorites are there on repeat! Market hours are 8 am – 12 pm (April through October)\, and 9am – 12 pm (November though March). See you there!
URL:https://exploreapexnc.com/event-single-post-name/apex-farmers-market-4/2025-12-27/
LOCATION:The Depot\, 220 N Salem Street\, Apex\, 27502\, United States
ATTACH;FMTTYPE=image/png:https://exploreapexnc.com/wp-content/uploads/2025/10/UPDATED-AFM-logo-FINAL.png
END:VEVENT
BEGIN:VEVENT
DTSTART;TZID=UTC:20251220T090000
DTEND;TZID=UTC:20251220T120000
DTSTAMP:20260423T183007
CREATED:20251029T153344Z
LAST-MODIFIED:20251217T153357Z
UID:10000593-1766221200-1766232000@exploreapexnc.com
SUMMARY:Apex Farmer's Market
DESCRIPTION:Head to Downtown Apex every Saturday morning and explore the outdoor vendor booths offering fresh produce\, meat and seafood\, baked goods\, prepared items\, and handmade crafts\, jewelry\, and art. The vendors change weekly\, but many of your favorites are there on repeat! Market hours are 8 am – 12 pm (April through October)\, and 9am – 12 pm (November though March). See you there!
URL:https://exploreapexnc.com/event-single-post-name/apex-farmers-market-4/2025-12-20/
LOCATION:The Depot\, 220 N Salem Street\, Apex\, 27502\, United States
ATTACH;FMTTYPE=image/png:https://exploreapexnc.com/wp-content/uploads/2025/10/UPDATED-AFM-logo-FINAL.png
END:VEVENT
BEGIN:VEVENT
DTSTART;TZID=UTC:20251213T090000
DTEND;TZID=UTC:20251213T120000
DTSTAMP:20260423T183007
CREATED:20251029T153344Z
LAST-MODIFIED:20251217T153357Z
UID:10000592-1765616400-1765627200@exploreapexnc.com
SUMMARY:Apex Farmer's Market
DESCRIPTION:Head to Downtown Apex every Saturday morning and explore the outdoor vendor booths offering fresh produce\, meat and seafood\, baked goods\, prepared items\, and handmade crafts\, jewelry\, and art. The vendors change weekly\, but many of your favorites are there on repeat! Market hours are 8 am – 12 pm (April through October)\, and 9am – 12 pm (November though March). See you there!
URL:https://exploreapexnc.com/event-single-post-name/apex-farmers-market-4/2025-12-13/
LOCATION:The Depot\, 220 N Salem Street\, Apex\, 27502\, United States
ATTACH;FMTTYPE=image/png:https://exploreapexnc.com/wp-content/uploads/2025/10/UPDATED-AFM-logo-FINAL.png
END:VEVENT
BEGIN:VEVENT
DTSTART;TZID=UTC:20251206T090000
DTEND;TZID=UTC:20251206T120000
DTSTAMP:20260423T183007
CREATED:20251029T153344Z
LAST-MODIFIED:20251217T153357Z
UID:10000591-1765011600-1765022400@exploreapexnc.com
SUMMARY:Apex Farmer's Market
DESCRIPTION:Head to Downtown Apex every Saturday morning and explore the outdoor vendor booths offering fresh produce\, meat and seafood\, baked goods\, prepared items\, and handmade crafts\, jewelry\, and art. The vendors change weekly\, but many of your favorites are there on repeat! Market hours are 8 am – 12 pm (April through October)\, and 9am – 12 pm (November though March). See you there!
URL:https://exploreapexnc.com/event-single-post-name/apex-farmers-market-4/2025-12-06/
LOCATION:The Depot\, 220 N Salem Street\, Apex\, 27502\, United States
ATTACH;FMTTYPE=image/png:https://exploreapexnc.com/wp-content/uploads/2025/10/UPDATED-AFM-logo-FINAL.png
END:VEVENT
BEGIN:VEVENT
DTSTART;TZID=UTC:20251129T090000
DTEND;TZID=UTC:20251129T120000
DTSTAMP:20260423T183007
CREATED:20251029T153344Z
LAST-MODIFIED:20251217T153357Z
UID:10000590-1764406800-1764417600@exploreapexnc.com
SUMMARY:Apex Farmer's Market
DESCRIPTION:Head to Downtown Apex every Saturday morning and explore the outdoor vendor booths offering fresh produce\, meat and seafood\, baked goods\, prepared items\, and handmade crafts\, jewelry\, and art. The vendors change weekly\, but many of your favorites are there on repeat! Market hours are 8 am – 12 pm (April through October)\, and 9am – 12 pm (November though March). See you there!
URL:https://exploreapexnc.com/event-single-post-name/apex-farmers-market-4/2025-11-29/
LOCATION:The Depot\, 220 N Salem Street\, Apex\, 27502\, United States
ATTACH;FMTTYPE=image/png:https://exploreapexnc.com/wp-content/uploads/2025/10/UPDATED-AFM-logo-FINAL.png
END:VEVENT
BEGIN:VEVENT
DTSTART;TZID=UTC:20251122T090000
DTEND;TZID=UTC:20251122T120000
DTSTAMP:20260423T183007
CREATED:20251029T153344Z
LAST-MODIFIED:20251217T153357Z
UID:10000589-1763802000-1763812800@exploreapexnc.com
SUMMARY:Apex Farmer's Market
DESCRIPTION:Head to Downtown Apex every Saturday morning and explore the outdoor vendor booths offering fresh produce\, meat and seafood\, baked goods\, prepared items\, and handmade crafts\, jewelry\, and art. The vendors change weekly\, but many of your favorites are there on repeat! Market hours are 8 am – 12 pm (April through October)\, and 9am – 12 pm (November though March). See you there!
URL:https://exploreapexnc.com/event-single-post-name/apex-farmers-market-4/2025-11-22/
LOCATION:The Depot\, 220 N Salem Street\, Apex\, 27502\, United States
ATTACH;FMTTYPE=image/png:https://exploreapexnc.com/wp-content/uploads/2025/10/UPDATED-AFM-logo-FINAL.png
END:VEVENT
BEGIN:VEVENT
DTSTART;TZID=UTC:20251115T090000
DTEND;TZID=UTC:20251115T120000
DTSTAMP:20260423T183007
CREATED:20251029T153344Z
LAST-MODIFIED:20251217T153357Z
UID:10000588-1763197200-1763208000@exploreapexnc.com
SUMMARY:Apex Farmer's Market
DESCRIPTION:Head to Downtown Apex every Saturday morning and explore the outdoor vendor booths offering fresh produce\, meat and seafood\, baked goods\, prepared items\, and handmade crafts\, jewelry\, and art. The vendors change weekly\, but many of your favorites are there on repeat! Market hours are 8 am – 12 pm (April through October)\, and 9am – 12 pm (November though March). See you there!
URL:https://exploreapexnc.com/event-single-post-name/apex-farmers-market-4/2025-11-15/
LOCATION:The Depot\, 220 N Salem Street\, Apex\, 27502\, United States
ATTACH;FMTTYPE=image/png:https://exploreapexnc.com/wp-content/uploads/2025/10/UPDATED-AFM-logo-FINAL.png
END:VEVENT
BEGIN:VEVENT
DTSTART;TZID=UTC:20251108T090000
DTEND;TZID=UTC:20251108T120000
DTSTAMP:20260423T183007
CREATED:20251029T153344Z
LAST-MODIFIED:20251217T153357Z
UID:10000587-1762592400-1762603200@exploreapexnc.com
SUMMARY:Apex Farmer's Market
DESCRIPTION:Head to Downtown Apex every Saturday morning and explore the outdoor vendor booths offering fresh produce\, meat and seafood\, baked goods\, prepared items\, and handmade crafts\, jewelry\, and art. The vendors change weekly\, but many of your favorites are there on repeat! Market hours are 8 am – 12 pm (April through October)\, and 9am – 12 pm (November though March). See you there!
URL:https://exploreapexnc.com/event-single-post-name/apex-farmers-market-4/2025-11-08/
LOCATION:The Depot\, 220 N Salem Street\, Apex\, 27502\, United States
ATTACH;FMTTYPE=image/png:https://exploreapexnc.com/wp-content/uploads/2025/10/UPDATED-AFM-logo-FINAL.png
END:VEVENT
BEGIN:VEVENT
DTSTART;TZID=UTC:20251101T090000
DTEND;TZID=UTC:20251101T120000
DTSTAMP:20260423T183007
CREATED:20251029T153344Z
LAST-MODIFIED:20251217T153357Z
UID:10000586-1761987600-1761998400@exploreapexnc.com
SUMMARY:Apex Farmer's Market
DESCRIPTION:Head to Downtown Apex every Saturday morning and explore the outdoor vendor booths offering fresh produce\, meat and seafood\, baked goods\, prepared items\, and handmade crafts\, jewelry\, and art. The vendors change weekly\, but many of your favorites are there on repeat! Market hours are 8 am – 12 pm (April through October)\, and 9am – 12 pm (November though March). See you there!
URL:https://exploreapexnc.com/event-single-post-name/apex-farmers-market-4/2025-11-01/
LOCATION:The Depot\, 220 N Salem Street\, Apex\, 27502\, United States
ATTACH;FMTTYPE=image/png:https://exploreapexnc.com/wp-content/uploads/2025/10/UPDATED-AFM-logo-FINAL.png
END:VEVENT
BEGIN:VEVENT
DTSTART;TZID=UTC:20240921T080000
DTEND;TZID=UTC:20240921T120000
DTSTAMP:20260423T183007
CREATED:20240903T193400Z
LAST-MODIFIED:20240903T195134Z
UID:10000022-1726905600-1726920000@exploreapexnc.com
SUMMARY:Apex Farmer's Market
DESCRIPTION:The Apex Farmers Market is an outdoor market featuring local vendors. Vendors change weekly\, offering produce\, meat and seafood\, baked goods\, prepared items\, and handmade crafts\, jewelry\, and art. \nKnow Before You Go\n\nView the downtown parking map for walkable parking locations.\nThe Depot Plaza will be closed for parking at 12:00 am each Saturday and will reopen for parking around 1:00 pm.\nGoApex Route1 operates through N. Salem Street\, with a stop in front of the Depot Plaza. Learn more about GoApex Route 1.\n\nFor more information\, visit the Apex Farmers Market website.
URL:https://exploreapexnc.com/event-single-post-name/apex-farmers-market-3/
LOCATION:The Depot\, 220 N Salem Street\, Apex\, 27502\, United States
ATTACH;FMTTYPE=image/jpeg:https://exploreapexnc.com/wp-content/uploads/2024/06/2017.06-Farmers-Market-28-1-scaled.jpg
END:VEVENT
BEGIN:VEVENT
DTSTART;TZID=UTC:20240914T080000
DTEND;TZID=UTC:20240914T120000
DTSTAMP:20260423T183007
CREATED:20240903T192125Z
LAST-MODIFIED:20240903T192125Z
UID:10000021-1726300800-1726315200@exploreapexnc.com
SUMMARY:Apex Farmer's Market
DESCRIPTION:The Apex Farmers Market is an outdoor market featuring local vendors. Vendors change weekly\, offering produce\, meat and seafood\, baked goods\, prepared items\, and handmade crafts\, jewelry\, and art. \nKnow Before You Go\n\nView the downtown parking map for walkable parking locations.\nThe Depot Plaza will be closed for parking at 12:00 am each Saturday and will reopen for parking around 1:00 pm.\nGoApex Route1 operates through N. Salem Street\, with a stop in front of the Depot Plaza. Learn more about GoApex Route 1.\n\nFor more information\, visit the Apex Farmers Market website.
URL:https://exploreapexnc.com/event-single-post-name/apex-farmers-market-2/
LOCATION:The Depot\, 220 N Salem Street\, Apex\, 27502\, United States
ATTACH;FMTTYPE=image/jpeg:https://exploreapexnc.com/wp-content/uploads/2024/06/2017.06-Farmers-Market-28-1-scaled.jpg
END:VEVENT
BEGIN:VEVENT
DTSTART;TZID=UTC:20240907T080000
DTEND;TZID=UTC:20240907T120000
DTSTAMP:20260423T183007
CREATED:20240828T205730Z
LAST-MODIFIED:20240903T191950Z
UID:10000020-1725696000-1725710400@exploreapexnc.com
SUMMARY:Apex Farmers Market
DESCRIPTION:The Apex Farmers Market is an outdoor market featuring local vendors. Vendors change weekly\, offering produce\, meat and seafood\, baked goods\, prepared items\, and handmade crafts\, jewelry\, and art. \nKnow Before You Go\n\nView the downtown parking map for walkable parking locations.\nThe Depot Plaza will be closed for parking at 12:00 am each Saturday and will reopen for parking around 1:00 pm.\nGoApex Route1 operates through N. Salem Street\, with a stop in front of the Depot Plaza. Learn more about GoApex Route 1.\n\nFor more information\, visit the Apex Farmers Market website.
URL:https://exploreapexnc.com/event-single-post-name/apex-farmers-market/
LOCATION:The Depot\, 220 N Salem Street\, Apex\, 27502\, United States
ATTACH;FMTTYPE=image/jpeg:https://exploreapexnc.com/wp-content/uploads/2024/06/2017.06-Farmers-Market-28-1-scaled.jpg
END:VEVENT
END:VCALENDAR